Felt | Verdi |
AlreadyApplied | True |
Aperture | 2.8 |
ApertureValue | 2.8 |
BitsPerSample | 8 |
BlueHue | 0 |
BlueSaturation | 0 |
Brightness | +43 |
CameraProfile | Adobe Standard |
ChromaticAberrationB | 0 |
ChromaticAberrationR | 0 |
CircleOfConfusion | 0.019 mm |
Clarity | +52 |
ColorComponents | 3 |
ColorNoiseReduction | 25 |
ColorTemperature | 6300 |
Contrast | +50 |
ConvertToGrayscale | False |
Copyright | Torbjorn Pehrsen |
CopyrightFlag | True |
CopyrightNotice | Torbjørn Pehrsen |
CreateDate (1) | 2010:05:13 11:36:18.00+02:00 |
CreateDate | 2010:05:13 11:36:18 |
CreatorTool | Adobe Photoshop Lightroom |
CropAngle | 1.89203 |
CropBottom | 0.957492 |
CropHeight | 683 |
CropLeft | 0.089777 |
CropRight | 0.867064 |
CropTop | 0.123317 |
CropUnit | pixels |
CropWidth | 1024 |
CustomRendered | Normal |
DateTimeDigitized | 2010:05:13 11:36:18.00+02:00 |
DateTimeOriginal (1) | 2010:05:13 11:36:18.00+02:00 |
DateTimeOriginal | 2010:05:13 11:36:18 |
Defringe | 0 |
DOF | 0.015 m (2.492 - 2.508 m) |
ExifImageHeight | 683 |
ExifImageWidth | 1024 |
Exposure | 0.00 |
ExposureCompensation | 0 |
ExposureMode | Auto |
ExposureProgram | Aperture-priority AE |
ExposureTime | 1/200 |
FillLight | 0 |
Firmware | 1.0.7 |
Flash | Off, Did not fire |
FlashCompensation | 0 |
FlashFired | False |
FlashFunction | False |
FlashMode | Off |
FlashRedEyeMode | False |
FlashReturn | No return detection |
FNumber | 2.8 |
FocalLength | 200.0 mm |
FocalLength35efl | 200.0 mm (35 mm equivalent: 316.9 mm) |
FOV | 6.5 deg |
GreenHue | 0 |
GreenSaturation | 0 |
HasCrop | True |
HasSettings | True |
HighlightRecovery | 0 |
HueAdjustmentAqua | 0 |
HueAdjustmentBlue | 0 |
HueAdjustmentGreen | 0 |
HueAdjustmentMagenta | 0 |
HueAdjustmentOrange | 0 |
HueAdjustmentPurple | 0 |
HueAdjustmentRed | 0 |
HueAdjustmentYellow | 0 |
HyperfocalDistance | 753.39 m |
ImageHeight | 683 |
ImageNumber | 0 |
ImageSize | 1024x683 |
ImageWidth | 1024 |
ISO | 400 |
Lens | EF70-200mm f/2.8L IS USM |
LensID (1) | 224 |
LensID | Canon EF 70-200mm f/2.8L IS USM |
LensInfo | 70-200mm f/? |
LightValue | 8.6 |
LuminanceAdjustmentAqua | 0 |
LuminanceAdjustmentBlue | 0 |
LuminanceAdjustmentGreen | 0 |
LuminanceAdjustmentMagenta | 0 |
LuminanceAdjustmentOrange | 0 |
LuminanceAdjustmentPurple | 0 |
LuminanceAdjustmentRed | 0 |
LuminanceAdjustmentYellow | 0 |
LuminanceSmoothing | 0 |
Make | Canon |
Marked | True |
MaxApertureValue | 2.8 |
Megapixels | 0.699 |
MeteringMode | Multi-segment |
Model | Canon EOS 50D |
ModifyDate (1) | 2010:05:13 17:03:17+02:00 |
ModifyDate | 2010:05:13 17:03:17 |
ParametricDarks | +10 |
ParametricHighlights | +93 |
ParametricHighlightSplit | 75 |
ParametricLights | +76 |
ParametricMidtoneSplit | 50 |
ParametricShadows | 0 |
ParametricShadowSplit | 25 |
PostCropVignetteAmount | 0 |
ProfileDescription | sRGB IEC61966-2.1 |
RedHue | 0 |
RedSaturation | 0 |
Rights | Torbjørn Pehrsen |
Saturation | 0 |
SaturationAdjustmentAqua | 0 |
SaturationAdjustmentBlue | 0 |
SaturationAdjustmentGreen | 0 |
SaturationAdjustmentMagenta | 0 |
SaturationAdjustmentOrange | 0 |
SaturationAdjustmentPurple | 0 |
SaturationAdjustmentRed | 0 |
SaturationAdjustmentYellow | 0 |
ScaleFactor35efl | 1.6 |
SceneCaptureType | Standard |
SerialNumber | 330109657 |
Shadows | 5 |
ShadowTint | 0 |
SharpenDetail | 25 |
SharpenEdgeMasking | 0 |
SharpenRadius | +1.0 |
Sharpness | 25 |
ShutterSpeed | 1/200 |
ShutterSpeedValue | 1/200 |
SplitToningBalance | 0 |
SplitToningHighlightHue | 0 |
SplitToningHighlightSaturation | 0 |
SplitToningShadowHue | 0 |
SplitToningShadowSaturation | 0 |
SubjectDistance | 2.5 m |
Tint | +10 |
ToneCurve | 0, 0, 32, 22, 64, 56, 128, 128, 192, 196, 255, 255 |
ToneCurveName | Medium Contrast |
UsageTerms | Kan ikke benyttes uten samtykke fra Torbjørn Pehrsen |
Version | 5.7 |
Vibrance | +38 |
VignetteAmount | 0 |
WhiteBalance (2) | As Shot |
WhiteBalance | Auto |