Felt | Verdi |
AlreadyApplied | True |
Aperture | 19.0 |
ApertureValue | 19.0 |
BitsPerSample | 8 |
BlackClip | 2.718450 |
BlueHue | 0 |
BlueSaturation | 0 |
Brightness | 0 |
CameraProfile | Embedded |
ChromaticAberrationB | 0 |
ChromaticAberrationR | 0 |
Clarity | +93 |
ColorComponents | 1 |
ColorNoiseReduction | 0 |
ColorSaturation | 70 |
ColorTemperature | 4 |
Contrast | +77 |
ConvertToGrayscale | True |
CreateDate | 2010:05:05 20:10:35+02:00 |
CreatorTool | Adobe Photoshop Lightroom |
CropAngle | 0.357472 |
CropBottom | 0.984207 |
CropHeight | 2752 |
CropLeft | 0.022288 |
CropRight | 0.977712 |
CropTop | 0.015793 |
CropUnit | pixels |
CropWidth | 4145 |
DateTimeOriginal (1) | 2010:05:05 20:10:35+02:00 |
DateTimeOriginal | 2010:05:05 20:10:35 |
Defringe | 0 |
ExifImageHeight | 2752 |
ExifImageWidth | 4145 |
Exposure | +0.10 |
ExposureTime | 0.3 |
FillLight | 0 |
FNumber | 19.0 |
FocalLength | 14.0 mm |
FocalLength35efl | 14.0 mm |
Gamma | 0.687771 |
GrayMixerAqua | -19 |
GrayMixerBlue | +7 |
GrayMixerGreen | -24 |
GrayMixerMagenta | +4 |
GrayMixerOrange | -15 |
GrayMixerPurple | +14 |
GrayMixerRed | -7 |
GrayMixerYellow | -19 |
GreenHue | 0 |
GreenSaturation | 0 |
HasCrop | True |
HasSettings | True |
HighlightRecovery | 0 |
HighlightsSmoothing | 0 |
ImageHeight | 2752 |
ImageSize | 4145x2752 |
ImageWidth | 4145 |
IncrementalTemperature | +5 |
IncrementalTint | 0 |
ISO | 200 |
LightValue | 9.1 |
LuminanceSmoothing | 0 |
Luminosity | -3 |
Megapixels | 11.4 |
Method | Details Enhancer |
Microcontrast | 9 |
Microsmoothing | 29 |
Model | NIKON D300 |
ModifyDate (1) | 2010:05:14 00:57:21+02:00 |
ModifyDate | 2010:05:14 00:57:21 |
ParametricDarks | -36 |
ParametricHighlights | +38 |
ParametricHighlightSplit | 75 |
ParametricLights | -47 |
ParametricMidtoneSplit | 50 |
ParametricShadows | -60 |
ParametricShadowSplit | 25 |
PostCropVignetteAmount | 0 |
ProfileDescription | sRGB IEC61966-2.1 |
RedHue | 0 |
RedSaturation | 0 |
SaturationHighlights | 1 |
SaturationShadows | 4 |
Shadows | 0 |
ShadowsClipping | 94 |
ShadowsSmoothing | 98 |
ShadowTint | 0 |
SharpenDetail | 100 |
SharpenEdgeMasking | 0 |
SharpenRadius | +3.0 |
Sharpness | 150 |
ShutterSpeed | 0.3 |
ShutterSpeedValue | 0.3 |
Smoothing | Very Low |
SplitToningBalance | 0 |
SplitToningHighlightHue | 0 |
SplitToningHighlightSaturation | 0 |
SplitToningShadowHue | 0 |
SplitToningShadowSaturation | 0 |
Strength | 42 |
ToneCurve | 0, 0, 255, 255 |
ToneCurveName | Linear |
Version (1) | 2.5 |
Version | 5.6 |
VignetteAmount | 0 |
WhiteBalance | Custom |
WhiteClip | 0.707150 |