Felt | Verdi |
AlreadyApplied | True |
Aperture | 2.0 |
ApertureValue | 2.0 |
Artist | Aasmund Mosseng |
BitsPerSample | 8 |
BlueHue | 0 |
BlueSaturation | 0 |
Brightness | +50 |
By-line | Aasmund Mosseng |
CameraProfile | Adobe Standard |
CFAPattern | [Red,Green][Green,Blue] |
ChromaticAberrationB | 0 |
ChromaticAberrationR | 0 |
CircleOfConfusion | 0.030 mm |
Clarity | +20 |
ColorComponents | 3 |
ColorMode | RGB |
ColorNoiseReduction | 25 |
ColorSpace | sRGB |
ColorTemperature | 5100 |
Contrast (2) | +39 |
Contrast | Normal |
ConvertToGrayscale | False |
Copyright | Aasmund Mosseng |
CopyrightNotice | Aasmund Mosseng |
CreateDate (1) | 2010:05:14 15:44:02.15+02:00 |
CreateDate | 2010:05:14 15:44:02 |
Creator | Aasmund Mosseng |
CreatorTool | Ver.1.02 |
CropAngle | 0 |
CropBottom | 1 |
CropLeft | 0.056218 |
CropRight | 0.996593 |
CropTop | 0.033248 |
CustomRendered | Normal |
DateTimeDigitized | 2010:05:14 15:44:02.15+02:00 |
DateTimeOriginal (1) | 2010:05:14 15:44:02.15+02:00 |
DateTimeOriginal | 2010:05:14 15:44:02 |
Defringe | 0 |
DigitalZoomRatio | 1 |
ExifImageHeight | 877 |
ExifImageWidth | 600 |
Exposure | -0.95 |
ExposureCompensation | 0 |
ExposureMode | Manual |
ExposureProgram | Manual |
ExposureTime | 1/2500 |
FillLight | 25 |
Flash | No Flash |
FlashFired | False |
FlashFunction | False |
FlashMode | Unknown |
FlashRedEyeMode | False |
FlashReturn | No return detection |
FNumber | 2.0 |
FocalLength | 135.0 mm |
FocalLength35efl | 135.0 mm (35 mm equivalent: 135.0 mm) |
FocalLengthIn35mmFormat | 135 mm |
Format | image/jpeg |
FOV | 15.2 deg |
GainControl | Low gain up |
GreenHue | 0 |
GreenSaturation | 0 |
HasCrop | True |
HasSettings | True |
HighlightRecovery | 13 |
HueAdjustmentAqua | 0 |
HueAdjustmentBlue | 0 |
HueAdjustmentGreen | 0 |
HueAdjustmentMagenta | 0 |
HueAdjustmentOrange | 0 |
HueAdjustmentPurple | 0 |
HueAdjustmentRed | 0 |
HueAdjustmentYellow | 0 |
HyperfocalDistance | 303.28 m |
ICCProfileName | sRGB IEC61966-2.1 |
ImageHeight | 877 |
ImageNumber | 1830 |
ImageSize | 600x877 |
ImageWidth | 600 |
ISO | 400 |
Lens | 135.0 mm f/2.0 |
LensInfo | 135mm f/2 |
LightSource | Unknown |
LightValue | 11.3 |
LuminanceAdjustmentAqua | 0 |
LuminanceAdjustmentBlue | 0 |
LuminanceAdjustmentGreen | 0 |
LuminanceAdjustmentMagenta | 0 |
LuminanceAdjustmentOrange | 0 |
LuminanceAdjustmentPurple | 0 |
LuminanceAdjustmentRed | 0 |
LuminanceAdjustmentYellow | 0 |
LuminanceSmoothing | 0 |
Make | NIKON CORPORATION |
MaxApertureValue | 2.0 |
Megapixels | 0.526 |
MeteringMode | Spot |
Model | NIKON D700 |
ModifyDate (1) | 2010:05:15 10:58:26+02:00 |
ModifyDate | 2010:05:15 10:58:26 |
Orientation | Horizontal (normal) |
ParametricDarks | +10 |
ParametricHighlights | +7 |
ParametricHighlightSplit | 75 |
ParametricLights | +3 |
ParametricMidtoneSplit | 50 |
ParametricShadows | -19 |
ParametricShadowSplit | 25 |
PostCropVignetteAmount | 0 |
ProfileDescription | sRGB IEC61966-2.1 |
Rating | 0 |
RawFileName | _DSC1796.NEF |
RedHue | 0 |
RedSaturation | 0 |
Rights | Aasmund Mosseng |
Saturation (2) | -10 |
Saturation | Normal |
SaturationAdjustmentAqua | 0 |
SaturationAdjustmentBlue | 0 |
SaturationAdjustmentGreen | 0 |
SaturationAdjustmentMagenta | 0 |
SaturationAdjustmentOrange | 0 |
SaturationAdjustmentPurple | 0 |
SaturationAdjustmentRed | 0 |
SaturationAdjustmentYellow | 0 |
ScaleFactor35efl | 1.0 |
SceneCaptureType | Standard |
SceneType | Directly photographed |
SensingMethod | One-chip color area |
SerialNumber | 2222541 |
Shadows | 20 |
ShadowTint | 0 |
SharpenDetail | 25 |
SharpenEdgeMasking | 0 |
SharpenRadius | +1.0 |
Sharpness (2) | 25 |
Sharpness | Normal |
ShutterSpeed | 1/2500 |
ShutterSpeedValue | 1/2500 |
SidecarForExtension | NEF |
Software | Adobe Photoshop CS4 Windows |
SplitToningBalance | 0 |
SplitToningHighlightHue | 0 |
SplitToningHighlightSaturation | 0 |
SplitToningShadowHue | 0 |
SplitToningShadowSaturation | 0 |
SubjectDistanceRange | Unknown |
Tint | -12 |
ToneCurve | 0, 0, 32, 22, 64, 56, 128, 128, 192, 196, 255, 255 |
ToneCurveName | Medium Contrast |
URL_List | |
UserComment | (c)Aasmund Mosseng+4792224928 |
Version | 5.5 |
Vibrance | +24 |
VignetteAmount | -78 |
VignetteMidpoint | 23 |
WhiteBalance (2) | As Shot |
WhiteBalance | Auto |