Felt | Verdi |
AlreadyApplied | True |
BitsPerSample | 8 |
BlueHue | 0 |
BlueSaturation | 0 |
Brightness | 0 |
CameraProfile | Embedded |
ChromaticAberrationB | 0 |
ChromaticAberrationR | 0 |
Clarity | +50 |
ColorComponents | 3 |
ColorNoiseReduction | 0 |
Contrast | 0 |
ConvertToGrayscale | False |
Copyright | Espen Seierstad |
CopyrightFlag | True |
CopyrightNotice | Espen Seierstad |
CreatorTool | Adobe Photoshop Lightroom |
CropAngle | 0 |
CropBottom | 0.943687 |
CropHeight | 600 |
CropLeft | 0.031159 |
CropRight | 0.867358 |
CropTop | 0.046377 |
CropUnit | pixels |
CropWidth | 840 |
Defringe | 0 |
ExifImageHeight | 600 |
ExifImageWidth | 840 |
Exposure | 0.00 |
FillLight | 0 |
GradientBasedCorrActive | true |
GradientBasedCorrAmount | 1.000000 |
GradientBasedCorrBrightness | 0.000000 |
GradientBasedCorrClarity | 0.000000 |
GradientBasedCorrContrast | 0.000000 |
GradientBasedCorrExposure (2) | -0.150000 |
GradientBasedCorrExposure (3) | -0.125000 |
GradientBasedCorrExposure | -0.075000 |
GradientBasedCorrHue | 116.000000 |
GradientBasedCorrMaskFullX (1) | 0.871686 |
GradientBasedCorrMaskFullX (2) | 0.443199 |
GradientBasedCorrMaskFullX (3) | 0.262282 |
GradientBasedCorrMaskFullX | 0.025100 |
GradientBasedCorrMaskFullY (1) | 0.337678 |
GradientBasedCorrMaskFullY (2) | 0.035973 |
GradientBasedCorrMaskFullY (3) | 0.952790 |
GradientBasedCorrMaskFullY | 0.579561 |
GradientBasedCorrMaskValue | 1.000000 |
GradientBasedCorrMaskWhat | Mask/Gradient |
GradientBasedCorrMaskZeroX (1) | 0.646188 |
GradientBasedCorrMaskZeroX (2) | 0.416365 |
GradientBasedCorrMaskZeroX (3) | 0.270073 |
GradientBasedCorrMaskZeroX | 0.452721 |
GradientBasedCorrMaskZeroY (1) | 0.355989 |
GradientBasedCorrMaskZeroY (2) | 0.570458 |
GradientBasedCorrMaskZeroY (3) | 0.778530 |
GradientBasedCorrMaskZeroY | 0.578261 |
GradientBasedCorrSaturation | 0.000000 |
GradientBasedCorrSharpness | 0.000000 |
GradientBasedCorrWhat | Correction |
GreenHue | 0 |
GreenSaturation | 0 |
HasCrop | True |
HasSettings | True |
HighlightRecovery | 0 |
HueAdjustmentAqua | 0 |
HueAdjustmentBlue | 0 |
HueAdjustmentGreen | 0 |
HueAdjustmentMagenta | 0 |
HueAdjustmentOrange | 0 |
HueAdjustmentPurple | 0 |
HueAdjustmentRed | 0 |
HueAdjustmentYellow | 0 |
ImageHeight | 600 |
ImageSize | 840x600 |
ImageWidth | 840 |
IncrementalTemperature | +36 |
IncrementalTint | +21 |
Keywords | Animals, Elephant, Mammal, Mammals |
Label | Blue |
LuminanceAdjustmentAqua | 0 |
LuminanceAdjustmentBlue | +2 |
LuminanceAdjustmentGreen | +26 |
LuminanceAdjustmentMagenta | 0 |
LuminanceAdjustmentOrange | -10 |
LuminanceAdjustmentPurple | 0 |
LuminanceAdjustmentRed | 0 |
LuminanceAdjustmentYellow | -12 |
LuminanceSmoothing | 0 |
Make | Nikon |
Marked | True |
Megapixels | 0.504 |
ModifyDate (1) | 2010:05:18 14:35:43+02:00 |
ModifyDate | 2010:05:18 14:35:43 |
PaintCorrectionActive | true |
PaintCorrectionAmount | 1.000000 |
PaintCorrectionBrightness (1) | -0.075000 |
PaintCorrectionBrightness | 0.000000 |
PaintCorrectionClarity (1) | 0.300000 |
PaintCorrectionClarity (2) | 0.250000 |
PaintCorrectionClarity | 0.000000 |
PaintCorrectionContrast (1) | 0.325000 |
PaintCorrectionContrast (2) | -0.025000 |
PaintCorrectionContrast | 0.000000 |
PaintCorrectionExposure (1) | -0.075000 |
PaintCorrectionExposure (2) | 0.000000 |
PaintCorrectionExposure | -0.250000 |
PaintCorrectionHue (2) | 230.000000 |
PaintCorrectionHue | 116.000000 |
PaintCorrectionMaskCenterWeight (5) | 0.000000 |
PaintCorrectionMaskCenterWeight (9) | 0.111493 |
PaintCorrectionMaskCenterWeight | 1.000000 |
PaintCorrectionMaskFlow (5) | 1.000000 |
PaintCorrectionMaskFlow | 0.753000 |
PaintCorrectionMaskRadius (3) | 0.034449 |
PaintCorrectionMaskRadius (8) | 0.047019 |
PaintCorrectionMaskRadius (9) | 0.007256 |
PaintCorrectionMaskRadius | 0.007731 |
PaintCorrectionMaskValue (2) | 1.000000 |
PaintCorrectionMaskValue | 0.000000 |
PaintCorrectionMaskWhat | Mask/Paint |
PaintCorrectionSaturation (5) | 0.775000 |
PaintCorrectionSaturation | 0.000000 |
PaintCorrectionSharpness (1) | 0.700000 |
PaintCorrectionSharpness (2) | 0.675000 |
PaintCorrectionSharpness | 0.000000 |
PaintCorrectionWhat | Correction |
ParametricDarks | -17 |
ParametricHighlights | +19 |
ParametricHighlightSplit | 75 |
ParametricLights | +17 |
ParametricMidtoneSplit | 50 |
ParametricShadows | -10 |
ParametricShadowSplit | 25 |
PostCropVignetteAmount | 0 |
ProfileDescription | sRGB IEC61966-2.1 |
Rating | 2 |
RedHue | 0 |
RedSaturation | 0 |
Rights | Espen Seierstad |
Saturation | -52 |
SaturationAdjustmentAqua | 0 |
SaturationAdjustmentBlue | 0 |
SaturationAdjustmentGreen | 0 |
SaturationAdjustmentMagenta | 0 |
SaturationAdjustmentOrange | 0 |
SaturationAdjustmentPurple | 0 |
SaturationAdjustmentRed | 0 |
SaturationAdjustmentYellow | 0 |
Shadows | 0 |
ShadowTint | 0 |
SharpenDetail | 25 |
SharpenEdgeMasking | 0 |
SharpenRadius | +1.0 |
Sharpness | 0 |
SplitToningBalance | 0 |
SplitToningHighlightHue | 0 |
SplitToningHighlightSaturation | 0 |
SplitToningShadowHue | 0 |
SplitToningShadowSaturation | 0 |
Subject | Animals, Elephant, Mammal, Mammals |
ToneCurve | 0, 0, 255, 255 |
ToneCurveName | Linear |
Version | 5.7 |
Vibrance | +24 |
VignetteAmount | 0 |
WhiteBalance | Custom |