Felt | Verdi |
AlreadyApplied | True |
Aperture | 10.0 |
ApertureValue | 10.0 |
BitsPerSample | 8 |
BlueHue | 0 |
BlueSaturation | 0 |
Brightness | +30 |
CameraProfile | Embedded |
ChromaticAberrationB | 0 |
ChromaticAberrationR | 0 |
CircleOfConfusion | 0.019 mm |
Clarity | +51 |
ColorComponents | 3 |
ColorNoiseReduction | 0 |
Contrast | +35 |
ConvertToGrayscale | False |
CreateDate (1) | 2010:05:09 14:36:03.01+02:00 |
CreateDate | 2010:05:09 14:36:03 |
CreatorTool | Adobe Photoshop Lightroom |
CropAngle | 0 |
CropBottom | 1 |
CropHeight | 2592 |
CropLeft | 0.31081 |
CropRight | 1 |
CropTop | 0 |
CropUnit | pixels |
CropWidth | 2680 |
CustomRendered | Normal |
DateTimeDigitized | 2010:05:09 14:36:03.01+02:00 |
DateTimeOriginal (1) | 2010:05:09 14:36:03.01+02:00 |
DateTimeOriginal | 2010:05:09 14:36:03 |
Defringe | 0 |
DOF | inf (1.52 m - inf) |
ExifImageHeight | 2680 |
ExifImageWidth | 2592 |
Exposure | -0.33 |
ExposureCompensation | 0 |
ExposureMode | Auto |
ExposureProgram | Action (High speed) |
ExposureTime | 1/1000 |
FillLight | 48 |
Firmware | 1.0.5 |
Flash | Off, Did not fire |
FlashCompensation | 0 |
FlashFired | False |
FlashFunction | False |
FlashMode | Off |
FlashRedEyeMode | False |
FlashReturn | No return detection |
FNumber | 10.0 |
FocalLength | 17.0 mm |
FocalLength35efl | 17.0 mm (35 mm equivalent: 27.5 mm) |
FOV | 66.4 deg |
GreenHue | 0 |
GreenSaturation | 0 |
HasCrop | True |
HasSettings | True |
HighlightRecovery | 25 |
HueAdjustmentAqua | -48 |
HueAdjustmentBlue | 0 |
HueAdjustmentGreen | +34 |
HueAdjustmentMagenta | +29 |
HueAdjustmentOrange | +36 |
HueAdjustmentPurple | 0 |
HueAdjustmentRed | +27 |
HueAdjustmentYellow | -46 |
HyperfocalDistance | 1.56 m |
ImageHeight | 2680 |
ImageNumber | 0 |
ImageSize | 2592x2680 |
ImageWidth | 2592 |
IncrementalTemperature | +36 |
IncrementalTint | -29 |
ISO | 400 |
Lens | EF-S17-55mm f/2.8 IS USM |
LensID (1) | 240 |
LensID | Canon EF-S 17-55mm f/2.8 IS USM |
LensInfo | 17-55mm f/? |
LightValue | 14.6 |
LuminanceAdjustmentAqua | 0 |
LuminanceAdjustmentBlue | 0 |
LuminanceAdjustmentGreen | +72 |
LuminanceAdjustmentMagenta | 0 |
LuminanceAdjustmentOrange | 0 |
LuminanceAdjustmentPurple | 0 |
LuminanceAdjustmentRed | 0 |
LuminanceAdjustmentYellow | 0 |
LuminanceSmoothing | 36 |
Make | Canon |
MaxApertureValue | 2.8 |
Megapixels | 6.9 |
MeteringMode | Multi-segment |
Model | Canon EOS 40D |
ModifyDate (1) | 2010:05:13 10:52:51+02:00 |
ModifyDate | 2010:05:13 10:52:51 |
ParametricDarks | +53 |
ParametricHighlights | +58 |
ParametricHighlightSplit | 75 |
ParametricLights | +11 |
ParametricMidtoneSplit | 50 |
ParametricShadows | -8 |
ParametricShadowSplit | 25 |
PostCropVignetteAmount | 0 |
ProfileDescription | sRGB IEC61966-2.1 |
RedHue | 0 |
RedSaturation | 0 |
Saturation | -29 |
SaturationAdjustmentAqua | 0 |
SaturationAdjustmentBlue | 0 |
SaturationAdjustmentGreen | +79 |
SaturationAdjustmentMagenta | 0 |
SaturationAdjustmentOrange | 0 |
SaturationAdjustmentPurple | 0 |
SaturationAdjustmentRed | 0 |
SaturationAdjustmentYellow | 0 |
ScaleFactor35efl | 1.6 |
SceneCaptureType | Standard |
SerialNumber | 1030527088 |
Shadows | 98 |
ShadowTint | 0 |
SharpenDetail | 25 |
SharpenEdgeMasking | 0 |
SharpenRadius | +1.0 |
Sharpness | 16 |
ShutterSpeed | 1/1000 |
ShutterSpeedValue | 1/1000 |
SplitToningBalance | 0 |
SplitToningHighlightHue | 0 |
SplitToningHighlightSaturation | 0 |
SplitToningShadowHue | 0 |
SplitToningShadowSaturation | 0 |
SubjectDistance | 73 m |
ToneCurve | 0, 0, 255, 255 |
ToneCurveName | Linear |
Version | 5.6 |
Vibrance | -22 |
VignetteAmount | -100 |
VignetteMidpoint | 13 |
WhiteBalance (2) | Custom |
WhiteBalance | Auto |