Felt | Verdi |
AlreadyApplied | True |
Aperture | 4.8 |
ApertureValue | 4.8 |
ApproximateFNumber | 4.5 |
BaseISO | 160 |
BitsPerSample | 8 |
BlueBalance | 0.80298 |
BlueHue | 0 |
BlueSaturation | 0 |
Brightness | +51 |
CameraProfile | Adobe Standard |
CameraTemperature | 12 C |
ChromaticAberrationB | 0 |
ChromaticAberrationR | 0 |
Clarity | +21 |
ColorComponents | 3 |
ColorNoiseReduction | 10 |
ColorSpace | Uncalibrated |
ColorTemperature | 4950 |
Contrast (1) | High |
Contrast | Normal |
ConvertToGrayscale | False |
CreateDate (1) | 2010:05:23 14:59:36+02:00 |
CreateDate | 2010:05:23 14:59:36 |
CreatorTool | Adobe Photoshop Lightroom |
CropAngle | 0 |
CropBottom | 0.760314 |
CropHeight | 442 |
CropLeft | 0 |
CropRight | 1 |
CropTop | 0.241788 |
CropUnit | pixels |
CropWidth | 1280 |
DateTimeDigitized | 2010:05:23 14:59:36+02:00 |
DateTimeOriginal (1) | 2010:05:23 14:59:36+02:00 |
DateTimeOriginal | 2010:05:23 14:59:36 |
Defringe | 0 |
DigitalZoomRatio | 0 |
ExifImageHeight | 442 |
ExifImageWidth | 1280 |
Exposure | +0.89 |
ExposureCompensation | +0.332 |
ExposureMode | Manual |
ExposureProgram | Aperture-priority AE |
ExposureTime | 1/500 |
ExternalSensorBrightnessValue | 5.39 |
FillLight | 17 |
FirmwareVersion | 1.116 |
Flash | No Flash |
FlashFired | False |
FlashFunction | False |
FlashMode | Unknown |
FlashRedEyeMode | False |
FlashReturn | No return detection |
FNumber | 4.8 |
GreenHue | 0 |
GreenSaturation | 0 |
HasCrop | True |
HasSettings | True |
HierarchicalSubject | Frank, Troms, seatrout, spring |
HighlightRecovery | 0 |
HueAdjustmentAqua | 0 |
HueAdjustmentBlue | 0 |
HueAdjustmentGreen | +18 |
HueAdjustmentMagenta | 0 |
HueAdjustmentOrange | 0 |
HueAdjustmentPurple | 0 |
HueAdjustmentRed | +8 |
HueAdjustmentYellow | 0 |
ImageHeight | 442 |
ImageSize | 1280x442 |
ImageWidth | 1280 |
ISO | 160 |
JPEGQuality | Basic |
JPEGSize | 5216x3472 |
Keywords | Frank, Troms, seatrout, spring |
LensID | Uncoded lens |
LensType | Uncoded lens |
LightSource | Unknown |
LightValue | 12.8 |
LuminanceAdjustmentAqua | 0 |
LuminanceAdjustmentBlue | 0 |
LuminanceAdjustmentGreen | 0 |
LuminanceAdjustmentMagenta | 0 |
LuminanceAdjustmentOrange | 0 |
LuminanceAdjustmentPurple | 0 |
LuminanceAdjustmentRed | 0 |
LuminanceAdjustmentYellow | 0 |
LuminanceSmoothing | 0 |
Make | Leica Camera AG |
MakerNoteSafety | Safe |
MaxApertureValue | 1.0 |
MeasuredLV | 5.56 |
Megapixels | 0.566 |
MeteringMode | Center-weighted average |
Model | M9 Digital Camera |
ModifyDate (1) | 2010:05:25 01:10:46+02:00 |
ModifyDate | 2010:05:25 01:10:46 |
ParametricDarks | -7 |
ParametricHighlights | +15 |
ParametricHighlightSplit | 75 |
ParametricLights | +7 |
ParametricMidtoneSplit | 50 |
ParametricShadows | -15 |
ParametricShadowSplit | 25 |
PostCropVignetteAmount | 0 |
ProfileDescription | sRGB IEC61966-2.1 |
Rating | 4 |
RedBalance | 0.466316 |
RedHue | 0 |
RedSaturation | 0 |
Saturation (1) | High |
Saturation | Normal |
SaturationAdjustmentAqua | 0 |
SaturationAdjustmentBlue | -30 |
SaturationAdjustmentGreen | +8 |
SaturationAdjustmentMagenta | 0 |
SaturationAdjustmentOrange | 0 |
SaturationAdjustmentPurple | 0 |
SaturationAdjustmentRed | -10 |
SaturationAdjustmentYellow | 0 |
SceneCaptureType | Standard |
SceneType | Directly photographed |
SensorBitDepth | 14 |
SensorHeight | 3516 |
SensorWidth | 5270 |
SerialNumber | 3834853 |
Shadows | 10 |
ShadowTint | 0 |
SharpenDetail | 10 |
SharpenEdgeMasking | 0 |
Sharpening | Off |
SharpenRadius | +2.2 |
Sharpness | Hard |
ShutterSpeed | 1/500 |
ShutterSpeedValue | 1/500 |
Software | 1.116; post-processed by CornerFix 1.3.0.4 |
SplitToningBalance | 0 |
SplitToningHighlightHue | 0 |
SplitToningHighlightSaturation | 0 |
SplitToningShadowHue | 0 |
SplitToningShadowSaturation | 0 |
Subject | Frank, Troms, seatrout, spring |
Tint | -9 |
ToneCurve | 0, 0, 32, 22, 64, 56, 128, 128, 192, 196, 255, 255 |
ToneCurveName | Medium Contrast |
UserProfile | Profile 1 |
Version | 5.6.1 |
Vibrance | +22 |
VignetteAmount | 0 |
WB_RGBLevels | 0.4663156397 1 0.8029798079 |
WhiteBalance | Auto |