Felt | Verdi |
AlreadyApplied | True |
Aperture | 6.3 |
ApertureValue | 6.3 |
Artist | Photographer: Oddvar Rune Seljen |
AuthorsPosition | Canon fotograf |
BitsPerSample (1) | 8 8 8 |
BitsPerSample | 8 |
BlueHue | 0 |
BlueSaturation | 0 |
Brightness | +50 |
By-line | Photographer: Oddvar Rune Seljen |
By-lineTitle | Canon fotograf |
CameraProfile | Camera Standard |
ChromaticAberrationB | 0 |
ChromaticAberrationR | 0 |
CircleOfConfusion | 0.019 mm |
Clarity | 0 |
ColorComponents | 3 |
ColorMode | RGB |
ColorNoiseReduction | 69 |
ColorNoiseReductionDetail | 62 |
ColorSpace | sRGB |
ColorTemperature | 6000 |
Contrast | +54 |
ConvertToGrayscale | False |
Copyright | Canon |
CopyrightNotice | Canon |
CreateDate (1) | 2010:05:25 17:57:34.80+02:00 |
CreateDate | 2010:05:25 17:57:34 |
Creator | Photographer: Oddvar Rune Seljen, Oddvar Rune Seljen |
CreatorAddress | Lindset |
CreatorCity | Stryn |
CreatorPostalCode | 6783 |
CreatorTool | Adobe Photoshop CS5 Windows |
CreatorWorkEmail | oddvar.seljen@netcom.no |
CreatorWorkTelephone | +47 934 47 842 |
CustomRendered | Normal |
DateCreated (1) | 2010:05:11 |
DateCreated | 2010:05:11 12:28:24 |
DateTimeOriginal | 2010:05:25 17:57:34 |
Defringe | 0 |
DOF | 0.21 m (14.80 - 15.00 m) |
ExifImageHeight | 1280 |
ExifImageWidth | 1920 |
Exposure | -0.25 |
ExposureCompensation | +1/3 |
ExposureMode | Auto |
ExposureProgram | Aperture-priority AE |
ExposureTime | 1/200 |
FillLight | 0 |
Firmware | 1.0.7 |
Flash | Off, Did not fire |
FlashCompensation | 0 |
FNumber | 6.3 |
FocalLength | 500.0 mm |
FocalLength35efl | 500.0 mm (35 mm equivalent: 792.3 mm) |
Format | image/jpeg |
FOV | 2.6 deg |
GrainAmount | 0 |
GreenHue | 0 |
GreenSaturation | 0 |
HasCrop | False |
HasSettings | True |
HighlightRecovery | 42 |
HueAdjustmentAqua | 0 |
HueAdjustmentBlue | 0 |
HueAdjustmentGreen | 0 |
HueAdjustmentMagenta | 0 |
HueAdjustmentOrange | 0 |
HueAdjustmentPurple | 0 |
HueAdjustmentRed | 0 |
HueAdjustmentYellow | 0 |
HyperfocalDistance | 2092.74 m |
ICCProfileName | sRGB IEC61966-2.1 |
ImageHeight | 1280 |
ImageNumber | 0 |
ImageSize | 1920x1280 |
ImageWidth | 1920 |
ISO | 200 |
Lens | 150-500mm |
LensID (1) | 174 |
LensID | Sigma 150-500mm f/5-6.3 APO DG OS HSM |
LensInfo | 150-500mm f/? |
LightValue | 12.0 |
LuminanceAdjustmentAqua | 0 |
LuminanceAdjustmentBlue | 0 |
LuminanceAdjustmentGreen | 0 |
LuminanceAdjustmentMagenta | 0 |
LuminanceAdjustmentOrange | 0 |
LuminanceAdjustmentPurple | 0 |
LuminanceAdjustmentRed | 0 |
LuminanceAdjustmentYellow | 0 |
LuminanceNoiseReductionContrast | 72 |
LuminanceNoiseReductionDetail | 50 |
LuminanceSmoothing | 59 |
Make | Canon |
MaxApertureValue | 6.2 |
Megapixels | 2.5 |
MeteringMode | Multi-segment |
Model | Canon EOS 50D |
ModifyDate (1) | 2010:05:26 21:23:31+02:00 |
ModifyDate | 2010:05:26 21:23:31 |
Orientation | Horizontal (normal) |
OwnerName | Oddvar Rune Seljen |
ParametricDarks | 0 |
ParametricHighlights | 0 |
ParametricHighlightSplit | 75 |
ParametricLights | 0 |
ParametricMidtoneSplit | 50 |
ParametricShadows | 0 |
ParametricShadowSplit | 25 |
PhotometricInterpretation | RGB |
PostCropVignetteAmount | 0 |
ProcessVersion | 5.7 |
ProfileDescription | sRGB IEC61966-2.1 |
Rating | 5 |
RawFileName | IMG_6202.CR2 |
RedHue | 0 |
RedSaturation | 0 |
Rights | Canon |
Saturation | 0 |
SaturationAdjustmentAqua | 0 |
SaturationAdjustmentBlue | 0 |
SaturationAdjustmentGreen | 0 |
SaturationAdjustmentMagenta | 0 |
SaturationAdjustmentOrange | 0 |
SaturationAdjustmentPurple | 0 |
SaturationAdjustmentRed | 0 |
SaturationAdjustmentYellow | 0 |
ScaleFactor35efl | 1.6 |
SceneCaptureType | Standard |
SerialNumber | 1730731327 |
Shadows | 5 |
ShadowTint | 0 |
SharpenDetail | 25 |
SharpenEdgeMasking | 0 |
SharpenRadius | +1.0 |
Sharpness | 25 |
ShutterSpeed | 1/200 |
ShutterSpeedValue | 1/200 |
SidecarForExtension | CR2 |
Software | Adobe Photoshop CS5 Windows |
SplitToningBalance | 0 |
SplitToningHighlightHue | 0 |
SplitToningHighlightSaturation | 0 |
SplitToningShadowHue | 0 |
SplitToningShadowSaturation | 0 |
SubjectDistance | 14.9 m |
Tint | +42 |
ToneCurve | 0, 0, 32, 22, 64, 56, 128, 128, 192, 196, 255, 255 |
ToneCurveName | Medium Contrast |
URL_List | |
Version | 6.0 |
Vibrance | +33 |
VignetteAmount | 0 |
WhiteBalance (1) | Custom |
WhiteBalance | Manual |