Felt | Verdi |
AlreadyApplied | True |
Aperture | 2.5 |
ApertureValue | 2.5 |
BitsPerSample (1) | 8 8 8 |
BitsPerSample | 8 |
BlueHue | 0 |
BlueSaturation | 0 |
Brightness | +50 |
CameraProfile | Adobe Standard |
ChromaticAberrationB | -7 |
ChromaticAberrationR | -95 |
CircleOfConfusion | 0.019 mm |
Clarity | +50 |
ColorComponents | 1 |
ColorMode | RGB |
ColorNoiseReduction | 25 |
ColorSpace | sRGB |
ColorTemperature | 5810 |
Contrast | +79 |
ConvertToGrayscale | True |
CreateDate (1) | 2010:06:05 14:02:38.00+02:00 |
CreateDate | 2010:06:05 14:02:38 |
CreatorTool | Adobe Photoshop Lightroom |
CropAngle | 0 |
CropBottom | 1 |
CropHeight | 2592 |
CropLeft | 0.147482 |
CropRight | 0.881295 |
CropTop | 0 |
CropUnit | pixels |
CropWidth | 2853 |
CustomRendered | Normal |
DateCreated (1) | 2010:06:05 |
DateCreated | 2010:06:05 14:02:38 |
DateTimeOriginal | 2010:06:05 14:02:38 |
Defringe | 0 |
ExifImageHeight | 700 |
ExifImageWidth | 636 |
Exposure | -0.38 |
ExposureCompensation | +1/3 |
ExposureMode | Auto |
ExposureProgram | Aperture-priority AE |
ExposureTime | 1/1000 |
FillLight | 0 |
Firmware | 1.0.5 |
Flash | Off, Did not fire |
FlashCompensation | 0 |
FNumber | 2.5 |
FocalLength | 50.0 mm |
FocalLength35efl | 50.0 mm (35 mm equivalent: 80.9 mm) |
Format | image/jpeg |
FOV | 25.1 deg |
GrayMixerAqua | 0 |
GrayMixerBlue | +36 |
GrayMixerGreen | -50 |
GrayMixerMagenta | +10 |
GrayMixerOrange | -24 |
GrayMixerPurple | -64 |
GrayMixerRed | -7 |
GrayMixerYellow | -36 |
GreenHue | 0 |
GreenSaturation | 0 |
HasCrop | True |
HasSettings | True |
HighlightRecovery | 25 |
HyperfocalDistance | 53.88 m |
ICCProfileName | sRGB IEC61966-2.1 |
ImageHeight (1) | 2853 |
ImageHeight | 700 |
ImageNumber | 0 |
ImageSize | 636x700 |
ImageWidth (1) | 2592 |
ImageWidth | 636 |
ISO | 100 |
Lens | EF50mm f/1.8 II |
LensInfo | 50mm f/? |
LightValue | 12.6 |
LuminanceSmoothing | 8 |
Make | Canon |
MaxApertureValue | 1.8 |
Megapixels | 0.445 |
MeteringMode | Multi-segment |
Model | Canon EOS 40D |
ModifyDate (1) | 2010:06:08 21:38:13+02:00 |
ModifyDate | 2010:06:08 21:38:13 |
Orientation | Horizontal (normal) |
PaintCorrectionActive | true |
PaintCorrectionAmount | 1.000000 |
PaintCorrectionBrightness | 0.000000 |
PaintCorrectionClarity | 0.000000 |
PaintCorrectionContrast | 0.000000 |
PaintCorrectionExposure | 0.250000 |
PaintCorrectionHue | 0.000000 |
PaintCorrectionMaskCenterWeight | 0.118082 |
PaintCorrectionMaskFlow | 1.000000 |
PaintCorrectionMaskRadius (1) | 0.006598 |
PaintCorrectionMaskRadius (3) | 0.003017 |
PaintCorrectionMaskRadius | 0.013492 |
PaintCorrectionMaskValue | 1.000000 |
PaintCorrectionMaskWhat | Mask/Paint |
PaintCorrectionSaturation | 0.000000 |
PaintCorrectionSharpness | 0.000000 |
PaintCorrectionWhat | Correction |
ParametricDarks | 0 |
ParametricHighlights | -45 |
ParametricHighlightSplit | 75 |
ParametricLights | -33 |
ParametricMidtoneSplit | 50 |
ParametricShadows | 0 |
ParametricShadowSplit | 25 |
PhotometricInterpretation | RGB |
PostCropVignetteAmount | -24 |
PostCropVignetteFeather | 50 |
PostCropVignetteMidpoint | 50 |
PostCropVignetteRoundness | 0 |
ProfileDescription | sRGB IEC61966-2.1 |
RedHue | 0 |
RedSaturation | 0 |
ScaleFactor35efl | 1.6 |
SceneCaptureType | Standard |
SerialNumber | 730534884 |
Shadows | 5 |
ShadowTint | 0 |
SharpenDetail | 71 |
SharpenEdgeMasking | 0 |
SharpenRadius | +1.4 |
Sharpness | 98 |
ShutterSpeed | 1/1000 |
ShutterSpeedValue | 1/1000 |
Software | Adobe Photoshop CS5 Windows |
SplitToningBalance | 0 |
SplitToningHighlightHue | 0 |
SplitToningHighlightSaturation | 0 |
SplitToningShadowHue | 0 |
SplitToningShadowSaturation | 0 |
Tint | +6 |
ToneCurve | 0, 0, 32, 22, 64, 56, 128, 128, 192, 196, 255, 255 |
ToneCurveName | Medium Contrast |
URL_List | |
Version | 5.2 |
VignetteAmount | 0 |
WhiteBalance (1) | Custom |
WhiteBalance | Auto |