Felt | Verdi |
AlreadyApplied | True |
Aperture | 16.0 |
ApertureValue | 16.0 |
BitsPerSample | 8 |
BlueHue | 0 |
BlueSaturation | 0 |
Brightness | -6 |
CameraProfile | Embedded |
ChromaticAberrationB | 0 |
ChromaticAberrationR | 0 |
Clarity | 0 |
ColorComponents | 3 |
ColorNoiseReduction | 0 |
Contrast | +3 |
ConvertToGrayscale | False |
CreateDate (1) | 2009:08:01 12:17:33+02:00 |
CreateDate | 2009:08:01 12:17:33 |
CreatorTool | Adobe Photoshop Lightroom |
CropAngle | -1.37512 |
CropBottom | 0.924463 |
CropHeight | 1551 |
CropLeft | 0.147443 |
CropRight | 0.8084 |
CropTop | 0.010216 |
CropUnit | pixels |
CropWidth | 700 |
DateTimeDigitized | 2009:08:01 12:17:33+02:00 |
DateTimeOriginal (1) | 2009:08:01 12:17:33+02:00 |
DateTimeOriginal | 2009:08:01 12:17:33 |
Defringe | 0 |
ExifImageHeight | 1551 |
ExifImageWidth | 700 |
Exposure | -0.77 |
ExposureCompensation | 0 |
ExposureProgram | Manual |
ExposureTime | 1/50 |
FillLight | 0 |
Flash | Off, Did not fire |
FlashFired | False |
FlashFunction | False |
FlashMode | Off |
FlashRedEyeMode | False |
FlashReturn | No return detection |
FNumber | 16.0 |
FocalLength | 24.0 mm |
FocalLength35efl | 24.0 mm |
GreenHue | 0 |
GreenSaturation | 0 |
HasCrop | True |
HasSettings | True |
HighlightRecovery | 0 |
HueAdjustmentAqua | 0 |
HueAdjustmentBlue | 0 |
HueAdjustmentGreen | 0 |
HueAdjustmentMagenta | 0 |
HueAdjustmentOrange | +4 |
HueAdjustmentPurple | 0 |
HueAdjustmentRed | 0 |
HueAdjustmentYellow | +6 |
ImageHeight | 1551 |
ImageSize | 700x1551 |
ImageWidth | 700 |
IncrementalTemperature | +9 |
IncrementalTint | 0 |
ISO | 100 |
LightValue | 13.6 |
LuminanceAdjustmentAqua | 0 |
LuminanceAdjustmentBlue | 0 |
LuminanceAdjustmentGreen | 0 |
LuminanceAdjustmentMagenta | 0 |
LuminanceAdjustmentOrange | 0 |
LuminanceAdjustmentPurple | 0 |
LuminanceAdjustmentRed | 0 |
LuminanceAdjustmentYellow | 0 |
LuminanceSmoothing | 0 |
Make | Canon |
Megapixels | 1.1 |
MeteringMode | Partial |
Model | Canon EOS 5D |
ModifyDate (1) | 2010:06:18 04:00:10+02:00 |
ModifyDate | 2010:06:18 04:00:10 |
ParametricDarks | 0 |
ParametricHighlights | 0 |
ParametricHighlightSplit | 75 |
ParametricLights | 0 |
ParametricMidtoneSplit | 50 |
ParametricShadows | 0 |
ParametricShadowSplit | 25 |
PostCropVignetteAmount | 0 |
ProfileDescription | sRGB IEC61966-2.1 |
RedHue | 0 |
RedSaturation | 0 |
Saturation | 0 |
SaturationAdjustmentAqua | 0 |
SaturationAdjustmentBlue | 0 |
SaturationAdjustmentGreen | 0 |
SaturationAdjustmentMagenta | 0 |
SaturationAdjustmentOrange | 0 |
SaturationAdjustmentPurple | 0 |
SaturationAdjustmentRed | 0 |
SaturationAdjustmentYellow | 0 |
Shadows | 35 |
ShadowTint | 0 |
SharpenDetail | 54 |
SharpenEdgeMasking | 59 |
SharpenRadius | +0.8 |
Sharpness | 83 |
ShutterSpeed | 1/50 |
ShutterSpeedValue | 1/50 |
Software | QuickTime 7.6.2 |
SplitToningBalance | 0 |
SplitToningHighlightHue | 0 |
SplitToningHighlightSaturation | 0 |
SplitToningShadowHue | 0 |
SplitToningShadowSaturation | 0 |
ToneCurve | 0, 0, 255, 255 |
ToneCurveName | Linear |
Version | 4.5 |
Vibrance | +51 |
VignetteAmount | 0 |
WhiteBalance | Custom |