Felt | Verdi |
AlreadyApplied | True |
Aperture | 7.1 |
ApertureValue | 7.1 |
Artist | Malene Akero |
BitsPerSample | 8 |
BlueHue | 0 |
BlueSaturation | 0 |
Brightness | -7 |
By-line | Malene Akero |
CameraProfile | Embedded |
ChromaticAberrationB | 0 |
ChromaticAberrationR | 0 |
CircleOfConfusion | 0.019 mm |
Clarity | +19 |
ColorComponents | 3 |
ColorNoiseReduction | 0 |
Contrast | +9 |
ConvertToGrayscale | False |
Copyright | Akero |
CopyrightNotice | Akero |
CreateDate (1) | 2010:06:03 14:19:09.82+02:00 |
CreateDate | 2010:06:03 14:19:09 |
Creator | Malene Akero |
CreatorTool | Adobe Photoshop Lightroom |
CropAngle | 0 |
CropBottom | 0.776119 |
CropHeight | 1702 |
CropLeft | 0.179104 |
CropRight | 0.777778 |
CropTop | 0.283582 |
CropUnit | pixels |
CropWidth | 3104 |
CustomRendered | Normal |
DateTimeDigitized | 2010:06:03 14:19:09.82+02:00 |
DateTimeOriginal (1) | 2010:06:03 14:19:09.82+02:00 |
DateTimeOriginal | 2010:06:03 14:19:09 |
Defringe | 0 |
ExifImageHeight | 1702 |
ExifImageWidth | 3104 |
Exposure | -0.29 |
ExposureCompensation | 0 |
ExposureMode | Auto |
ExposureProgram | Not Defined |
ExposureTime | 1/320 |
FillLight | 0 |
Firmware | 1.0.6 |
Flash | Off, Did not fire |
FlashCompensation | 0 |
FlashFired | False |
FlashFunction | False |
FlashMode | Off |
FlashRedEyeMode | False |
FlashReturn | No return detection |
FNumber | 7.1 |
FocalLength | 135.0 mm |
FocalLength35efl | 135.0 mm (35 mm equivalent: 212.3 mm) |
FOV | 9.7 deg |
GreenHue | 0 |
GreenSaturation | 0 |
HasCrop | True |
HasSettings | True |
HighlightRecovery | 37 |
HueAdjustmentAqua | 0 |
HueAdjustmentBlue | 0 |
HueAdjustmentGreen | 0 |
HueAdjustmentMagenta | 0 |
HueAdjustmentOrange | 0 |
HueAdjustmentPurple | 0 |
HueAdjustmentRed | 0 |
HueAdjustmentYellow | 0 |
HyperfocalDistance | 134.36 m |
ImageHeight | 1702 |
ImageNumber | 0 |
ImageSize | 3104x1702 |
ImageWidth | 3104 |
IncrementalTemperature | +2 |
IncrementalTint | -7 |
ISO | 100 |
Lens | EF-S18-135mm f/3.5-5.6 IS |
LensInfo | 18-135mm f/? |
LightValue | 14.0 |
LuminanceAdjustmentAqua | 0 |
LuminanceAdjustmentBlue | 0 |
LuminanceAdjustmentGreen | 0 |
LuminanceAdjustmentMagenta | 0 |
LuminanceAdjustmentOrange | 0 |
LuminanceAdjustmentPurple | 0 |
LuminanceAdjustmentRed | 0 |
LuminanceAdjustmentYellow | 0 |
LuminanceSmoothing | 0 |
Make | Canon |
MaxApertureValue | 5.7 |
Megapixels | 5.3 |
MeteringMode | Multi-segment |
Model | Canon EOS REBEL T2i |
ModifyDate (1) | 2010:06:24 21:44:17+02:00 |
ModifyDate | 2010:06:24 21:44:17 |
ParametricDarks | 0 |
ParametricHighlights | 0 |
ParametricHighlightSplit | 75 |
ParametricLights | 0 |
ParametricMidtoneSplit | 50 |
ParametricShadows | 0 |
ParametricShadowSplit | 25 |
PostCropVignetteAmount | 0 |
ProfileDescription | sRGB IEC61966-2.1 |
RedHue | 0 |
RedSaturation | 0 |
Rights | Akero |
Saturation | +17 |
SaturationAdjustmentAqua | 0 |
SaturationAdjustmentBlue | 0 |
SaturationAdjustmentGreen | 0 |
SaturationAdjustmentMagenta | 0 |
SaturationAdjustmentOrange | 0 |
SaturationAdjustmentPurple | 0 |
SaturationAdjustmentRed | 0 |
SaturationAdjustmentYellow | 0 |
ScaleFactor35efl | 1.6 |
SceneCaptureType | Standard |
SerialNumber | 522202369 |
Shadows | 4 |
ShadowTint | 0 |
SharpenDetail | 25 |
SharpenEdgeMasking | 0 |
SharpenRadius | +1.0 |
Sharpness | 0 |
ShutterSpeed | 1/320 |
ShutterSpeedValue | 1/320 |
SplitToningBalance | 0 |
SplitToningHighlightHue | 0 |
SplitToningHighlightSaturation | 0 |
SplitToningShadowHue | 0 |
SplitToningShadowSaturation | 0 |
ToneCurve | 0, 0, 255, 255 |
ToneCurveName | Linear |
Version | 5.5 |
Vibrance | +14 |
VignetteAmount | 0 |
WhiteBalance (2) | Custom |
WhiteBalance | Auto |