Felt | Verdi |
AlreadyApplied | True |
Aperture | 8.0 |
ApertureValue | 8.0 |
BitsPerSample (1) | 8, 8, 8 |
BitsPerSample | 8 |
BlueHue | 0 |
BlueSaturation | 0 |
Brightness | +68 |
CameraProfile | Adobe Standard |
ChromaticAberrationB | 0 |
ChromaticAberrationR | 0 |
CircleOfConfusion | 0.019 mm |
Clarity | +32 |
ColorComponents | 3 |
ColorMode | RGB |
ColorNoiseReduction | 58 |
ColorNoiseReductionDetail | 50 |
ColorSpace | Uncalibrated |
ColorTemperature | 5000 |
Contrast | 0 |
ConvertToGrayscale | False |
CreateDate (1) | 2010:06:27 10:23:10.02+02:00 |
CreateDate | 2010:06:27 10:23:10 |
CreatorTool | Adobe Photoshop CS5 Macintosh |
CustomRendered | Normal |
DateCreated (1) | 2010:06:27 |
DateCreated | 2010:06:27 10:23:10.002 |
DateTimeDigitized | 2010:06:27 10:23:10.02+02:00 |
DateTimeOriginal (1) | 2010:06:27 10:23:10.02+02:00 |
DateTimeOriginal | 2010:06:27 10:23:10 |
Defringe | 0 |
DOF | 1.96 m (15.38 - 17.34 m) |
ExifImageHeight | 2168 |
ExifImageWidth | 1860 |
Exposure | 0.00 |
ExposureCompensation | +1/3 |
ExposureMode | Auto |
ExposureProgram | Aperture-priority AE |
ExposureTime | 1/2500 |
FillLight | 0 |
Firmware | 1.0.8 |
Flash | Off, Did not fire |
FlashCompensation | 0 |
FlashFired | False |
FlashFunction | False |
FlashMode | Off |
FlashRedEyeMode | False |
FlashReturn | No return detection |
FNumber | 8.0 |
FocalLength | 200.0 mm |
FocalLength35efl | 200.0 mm (35 mm equivalent: 323.8 mm) |
Format | image/jpeg |
FOV | 6.4 deg |
GrainAmount | 0 |
GreenHue | 0 |
GreenSaturation | 0 |
HasCrop | False |
HasSettings | True |
HighlightRecovery | 33 |
HueAdjustmentAqua | 0 |
HueAdjustmentBlue | 0 |
HueAdjustmentGreen | 0 |
HueAdjustmentMagenta | 0 |
HueAdjustmentOrange | 0 |
HueAdjustmentPurple | 0 |
HueAdjustmentRed | 0 |
HueAdjustmentYellow | 0 |
HyperfocalDistance | 269.38 m |
ICCProfileName | Adobe RGB (1998) |
ImageHeight | 2168 |
ImageNumber | 0 |
ImageSize | 1860x2168 |
ImageWidth | 1860 |
ISO | 800 |
Lens | EF70-200mm f/4L IS USM |
LensID (1) | 242 |
LensID | Canon EF 70-200mm f/4L IS USM |
LensInfo | 70-200mm f/? |
LensManualDistortionAmount | 0 |
LensProfileEnable | 0 |
LensProfileSetup | LensDefaults |
LightValue | 14.3 |
LuminanceAdjustmentAqua | 0 |
LuminanceAdjustmentBlue | 0 |
LuminanceAdjustmentGreen | 0 |
LuminanceAdjustmentMagenta | 0 |
LuminanceAdjustmentOrange | 0 |
LuminanceAdjustmentPurple | 0 |
LuminanceAdjustmentRed | 0 |
LuminanceAdjustmentYellow | 0 |
LuminanceNoiseReductionContrast | 0 |
LuminanceNoiseReductionDetail | 50 |
LuminanceSmoothing | 39 |
Make | Canon |
MaxApertureValue | 4.0 |
Megapixels | 4.0 |
MeteringMode | Spot |
Model | Canon EOS 40D |
ModifyDate (1) | 2010:06:27 22:06:22+02:00 |
ModifyDate | 2010:06:27 22:06:22 |
Orientation | Horizontal (normal) |
ParametricDarks | 0 |
ParametricHighlights | 0 |
ParametricHighlightSplit | 75 |
ParametricLights | 0 |
ParametricMidtoneSplit | 50 |
ParametricShadows | 0 |
ParametricShadowSplit | 25 |
PerspectiveHorizontal | 0 |
PerspectiveRotate | 0.0 |
PerspectiveScale | 100 |
PerspectiveVertical | 0 |
PhotometricInterpretation | RGB |
PostCropVignetteAmount | 0 |
ProcessVersion | 5.7 |
ProfileDescription | Adobe RGB (1998) |
Rating | 4 |
RawFileName | _MG_0517.CR2 |
RedHue | 0 |
RedSaturation | 0 |
SamplesPerPixel | 3 |
Saturation | 0 |
SaturationAdjustmentAqua | 0 |
SaturationAdjustmentBlue | 0 |
SaturationAdjustmentGreen | 0 |
SaturationAdjustmentMagenta | 0 |
SaturationAdjustmentOrange | 0 |
SaturationAdjustmentPurple | 0 |
SaturationAdjustmentRed | 0 |
SaturationAdjustmentYellow | 0 |
ScaleFactor35efl | 1.6 |
SceneCaptureType | Standard |
SerialNumber | 1831002782 |
Shadows | 3 |
ShadowTint | 0 |
SharpenDetail | 0 |
SharpenEdgeMasking | 0 |
SharpenRadius | +0.5 |
Sharpness | 0 |
ShutterSpeed | 1/2500 |
ShutterSpeedValue | 1/2500 |
SidecarForExtension | CR2 |
Software | Adobe Photoshop CS5 Macintosh |
SplitToningBalance | 0 |
SplitToningHighlightHue | 0 |
SplitToningHighlightSaturation | 0 |
SplitToningShadowHue | 0 |
SplitToningShadowSaturation | 0 |
SubjectDistance | 16.3 m |
Tint | +2 |
ToneCurve | 0, 0, 32, 22, 64, 56, 128, 128, 192, 196, 255, 255 |
ToneCurveName | Medium Contrast |
URL_List | |
Version | 6.1 |
Vibrance | +20 |
VignetteAmount | 0 |
WhiteBalance (1) | Custom |
WhiteBalance | Auto |