Felt | Verdi |
AlreadyApplied | True |
Aperture | 10.0 |
ApertureValue | 10.0 |
Artist | Mats Torbergsen |
BitsPerSample | 8 |
BlueHue | 0 |
BlueSaturation | 0 |
Brightness | 0 |
By-line | Mats Torbergsen |
CameraProfile | Embedded |
ChromaticAberrationB | 0 |
ChromaticAberrationR | 0 |
CircleOfConfusion | 0.030 mm |
Clarity | 0 |
ColorComponents | 3 |
ColorNoiseReduction | 0 |
Contrast (2) | +1 |
Contrast | Normal |
ConvertToGrayscale | False |
Copyright | Mats Torbergsen |
CopyrightNotice | Mats Torbergsen |
CreateDate (1) | 2010:07:10 17:38:24.06+02:00 |
CreateDate | 2010:07:10 17:38:24 |
Creator | Mats Torbergsen |
CreatorTool | Adobe Photoshop Lightroom |
CropAngle | 0 |
CropBottom | 1 |
CropConstrainToWarp | 0 |
CropHeight | 2149 |
CropLeft | 0 |
CropRight | 1 |
CropTop | 0.188496 |
CropUnit | pixels |
CropWidth | 4256 |
CustomRendered | Normal |
DateCreated (1) | 2010:07:10 |
DateCreated | 2010:07:10 17:38:24.006 |
DateTimeDigitized | 2010:07:10 17:38:24.06+02:00 |
DateTimeOriginal (1) | 2010:07:10 17:38:24.06+02:00 |
DateTimeOriginal | 2010:07:10 17:38:24 |
Defringe | 0 |
DigitalZoomRatio | 1 |
DOF | 0.79 m (1.20 - 2.00 m) |
ExifImageHeight | 2149 |
ExifImageWidth | 4256 |
Exposure | 0.00 |
ExposureCompensation | 0 |
ExposureMode | Manual |
ExposureProgram | Manual |
ExposureTime | 1/160 |
FillLight | 0 |
Flash | No Flash |
FlashFired | False |
FlashFunction | False |
FlashMode | Unknown |
FlashRedEyeMode | False |
FlashReturn | No return detection |
FNumber | 10.0 |
FocalLength | 42.0 mm |
FocalLength35efl | 42.0 mm (35 mm equivalent: 42.0 mm) |
FocalLengthIn35mmFormat | 42 mm |
Format | image/tiff |
FOV | 46.4 deg |
GainControl | None |
GradientBasedCorrActive | true |
GradientBasedCorrAmount | 1.000000 |
GradientBasedCorrBrightness | 0.000000 |
GradientBasedCorrClarity | 0.000000 |
GradientBasedCorrContrast | 0.000000 |
GradientBasedCorrExposure (1) | -0.223529 |
GradientBasedCorrExposure (2) | -0.247059 |
GradientBasedCorrExposure | 0.000000 |
GradientBasedCorrHue | 240.000000 |
GradientBasedCorrMaskFullX (1) | -0.000630 |
GradientBasedCorrMaskFullX (2) | 1.000000 |
GradientBasedCorrMaskFullX | 0.636020 |
GradientBasedCorrMaskFullY (1) | 0.572999 |
GradientBasedCorrMaskFullY (2) | 0.561869 |
GradientBasedCorrMaskFullY | 0.997976 |
GradientBasedCorrMaskValue | 1.000000 |
GradientBasedCorrMaskWhat | Mask/Gradient |
GradientBasedCorrMaskZeroX (1) | 0.751889 |
GradientBasedCorrMaskZeroX (2) | 0.719773 |
GradientBasedCorrMaskZeroX | 0.636020 |
GradientBasedCorrMaskZeroY (1) | 0.568952 |
GradientBasedCorrMaskZeroY (2) | 0.572999 |
GradientBasedCorrMaskZeroY | 0.907922 |
GradientBasedCorrSaturation | 0.000000 |
GradientBasedCorrSharpness | 0.000000 |
GradientBasedCorrWhat | Correction |
GrainAmount | 0 |
GreenHue | 0 |
GreenSaturation | 0 |
HasCrop | True |
HasSettings | True |
HighlightRecovery | 0 |
HueAdjustmentAqua | 0 |
HueAdjustmentBlue | 0 |
HueAdjustmentGreen | 0 |
HueAdjustmentMagenta | 0 |
HueAdjustmentOrange | 0 |
HueAdjustmentPurple | 0 |
HueAdjustmentRed | 0 |
HueAdjustmentYellow | 0 |
HyperfocalDistance | 5.87 m |
ImageHeight | 2149 |
ImageNumber | 6547 |
ImageSize | 4256x2149 |
ImageWidth | 4256 |
IncrementalTemperature | 0 |
IncrementalTint | 0 |
ISO | 200 |
Lens | 24.0-70.0 mm f/2.8 |
LensID (1) | 147 |
LensID | AF-S Zoom-Nikkor 24-70mm f/2.8G ED |
LensInfo | 24-70mm f/2.8 |
LensManualDistortionAmount | 0 |
LensProfileEnable | 0 |
LensProfileSetup | LensDefaults |
LightSource | Flash |
LightValue | 13.0 |
LuminanceAdjustmentAqua | 0 |
LuminanceAdjustmentBlue | 0 |
LuminanceAdjustmentGreen | 0 |
LuminanceAdjustmentMagenta | 0 |
LuminanceAdjustmentOrange | 0 |
LuminanceAdjustmentPurple | 0 |
LuminanceAdjustmentRed | 0 |
LuminanceAdjustmentYellow | 0 |
LuminanceNoiseReductionContrast | 0 |
LuminanceNoiseReductionDetail | 50 |
LuminanceSmoothing | 11 |
Make | NIKON CORPORATION |
MaxApertureValue | 2.8 |
Megapixels | 9.1 |
MeteringMode | Multi-segment |
Model | NIKON D700 |
ModifyDate (1) | 2010:07:11 15:21:04+02:00 |
ModifyDate | 2010:07:11 15:21:04 |
ParametricDarks | -13 |
ParametricHighlights | 0 |
ParametricHighlightSplit | 75 |
ParametricLights | 0 |
ParametricMidtoneSplit | 50 |
ParametricShadows | 0 |
ParametricShadowSplit | 25 |
PerspectiveHorizontal | 0 |
PerspectiveRotate | 0.0 |
PerspectiveScale | 100 |
PerspectiveVertical | 0 |
PostCropVignetteAmount | 0 |
ProcessVersion | 5.7 |
ProfileDescription | sRGB IEC61966-2.1 |
RedHue | 0 |
RedSaturation | 0 |
Rights | Mats Torbergsen |
Saturation (2) | 0 |
Saturation | Normal |
SaturationAdjustmentAqua | 0 |
SaturationAdjustmentBlue | 0 |
SaturationAdjustmentGreen | 0 |
SaturationAdjustmentMagenta | 0 |
SaturationAdjustmentOrange | 0 |
SaturationAdjustmentPurple | 0 |
SaturationAdjustmentRed | 0 |
SaturationAdjustmentYellow | 0 |
ScaleFactor35efl | 1.0 |
SceneCaptureType | Standard |
SceneType | Directly photographed |
SensingMethod | One-chip color area |
SerialNumber | 2256947 |
Shadows | 1 |
ShadowTint | 0 |
SharpenDetail | 25 |
SharpenEdgeMasking | 0 |
SharpenRadius | +1.0 |
Sharpness (2) | 34 |
Sharpness | Normal |
ShutterSpeed | 1/160 |
ShutterSpeedValue | 1/160 |
Software | Ver.1.02 |
SplitToningBalance | 0 |
SplitToningHighlightHue | 0 |
SplitToningHighlightSaturation | 0 |
SplitToningShadowHue | 0 |
SplitToningShadowSaturation | 0 |
SubjectDistance | 1.5 m |
SubjectDistanceRange | Unknown |
ToneCurve | 0, 0, 255, 255 |
ToneCurveName | Linear |
Version | 6.1 |
Vibrance | 0 |
VignetteAmount | 0 |
WhiteBalance (2) | As Shot |
WhiteBalance | Manual |