Felt | Verdi |
AlreadyApplied | True |
Aperture | 8.0 |
ApertureValue | 8.0 |
Artist | Jan Erik Arud |
BitsPerSample | 8 |
BlackClip | 0.175350 |
BlueHue | 0 |
BlueSaturation | 0 |
Brightness | 0 |
By-line | Jan Erik Arud |
CameraProfile | Embedded |
ChromaticAberrationB | 0 |
ChromaticAberrationR | 0 |
Clarity | 0 |
ColorComponents | 3 |
ColorNoiseReduction | 16 |
ColorNoiseReductionDetail | 86 |
ColorSaturation | 54 |
ColorTemperature | 0 |
Contrast | 0 |
ConvertToGrayscale | False |
Copyright | Jan Erik Arud |
CopyrightFlag | True |
CopyrightNotice | Jan Erik Arud |
CreateDate | 2010:07:13 21:48:05+02:00 |
Creator | Jan Erik Arud |
CreatorTool | Adobe Photoshop Lightroom |
CreatorWorkEmail | arud@bluezone.no |
CreatorWorkURL | http://www.flickr.com/photos/jarud/ |
CropAngle | 0.592075 |
CropBottom | 0.932468 |
CropConstrainToWarp | 0 |
CropHeight | 765 |
CropLeft | 0.010787 |
CropRight | 0.989441 |
CropTop | 0.034358 |
CropUnit | pixels |
CropWidth | 1280 |
DateTimeOriginal (1) | 2010:07:13 21:48:05+02:00 |
DateTimeOriginal | 2010:07:13 21:48:05 |
Defringe | 0 |
ExifImageHeight | 765 |
ExifImageWidth | 1280 |
Exposure | -0.05 |
ExposureTime | 1.6 |
FillLight | 5 |
FNumber | 8.0 |
FocalLength | 24.0 mm |
FocalLength35efl | 24.0 mm |
Gamma | 1.000000 |
GrainAmount | 0 |
GreenHue | 0 |
GreenSaturation | 0 |
HasCrop | True |
HasSettings | True |
HighlightRecovery | 0 |
HighlightsSmoothing | 0 |
HueAdjustmentAqua | 0 |
HueAdjustmentBlue | 0 |
HueAdjustmentGreen | 0 |
HueAdjustmentMagenta | 0 |
HueAdjustmentOrange | 0 |
HueAdjustmentPurple | 0 |
HueAdjustmentRed | 0 |
HueAdjustmentYellow | 0 |
ImageHeight | 765 |
ImageSize | 1280x765 |
ImageWidth | 1280 |
IncrementalTemperature | 0 |
IncrementalTint | 0 |
ISO | 400 |
Keywords | "Copenhagen Opera" Denmark |
Label | Red |
LensManualDistortionAmount | 0 |
LensProfileEnable | 0 |
LensProfileSetup | LensDefaults |
LightValue | 3.3 |
LuminanceAdjustmentAqua | 0 |
LuminanceAdjustmentBlue | 0 |
LuminanceAdjustmentGreen | 0 |
LuminanceAdjustmentMagenta | 0 |
LuminanceAdjustmentOrange | 0 |
LuminanceAdjustmentPurple | 0 |
LuminanceAdjustmentRed | 0 |
LuminanceAdjustmentYellow | 0 |
LuminanceNoiseReductionContrast | 11 |
LuminanceNoiseReductionDetail | 43 |
LuminanceSmoothing | 37 |
Luminosity | -6 |
Marked | True |
Megapixels | 0.979 |
Method | Details Enhancer |
Microcontrast | 6 |
Microsmoothing | 5 |
Model | Canon EOS 5D Mark II |
ModifyDate (1) | 2010:07:17 23:28:40+02:00 |
ModifyDate | 2010:07:17 23:28:40 |
ParametricDarks | -30 |
ParametricHighlights | 0 |
ParametricHighlightSplit | 75 |
ParametricLights | 0 |
ParametricMidtoneSplit | 50 |
ParametricShadows | 0 |
ParametricShadowSplit | 25 |
PerspectiveHorizontal | 0 |
PerspectiveRotate | 0.0 |
PerspectiveScale | 100 |
PerspectiveVertical | 0 |
PostCropVignetteAmount | 0 |
ProcessVersion | 5.7 |
ProfileDescription | sRGB IEC61966-2.1 |
Rating | 1 |
RedHue | 0 |
RedSaturation | 0 |
Rights | Jan Erik Arud |
Saturation | 0 |
SaturationAdjustmentAqua | 0 |
SaturationAdjustmentBlue | 0 |
SaturationAdjustmentGreen | 0 |
SaturationAdjustmentMagenta | 0 |
SaturationAdjustmentOrange | 0 |
SaturationAdjustmentPurple | 0 |
SaturationAdjustmentRed | 0 |
SaturationAdjustmentYellow | 0 |
SaturationHighlights | 0 |
SaturationShadows | 0 |
Shadows | 0 |
ShadowsClipping | 13 |
ShadowsSmoothing | 14 |
ShadowTint | 0 |
SharpenDetail | 56 |
SharpenEdgeMasking | 0 |
SharpenRadius | +1.0 |
Sharpness | 34 |
ShutterSpeed | 1.6 |
ShutterSpeedValue | 1.6 |
Smoothing | Very High |
SplitToningBalance | 0 |
SplitToningHighlightHue | 0 |
SplitToningHighlightSaturation | 0 |
SplitToningShadowHue | 0 |
SplitToningShadowSaturation | 0 |
Strength | 82 |
Subject | "Copenhagen Opera" Denmark |
ToneCurve | 0, 0, 255, 255 |
ToneCurveName | Linear |
Version (1) | 3.1 |
Version | 6.1 |
Vibrance | 0 |
VignetteAmount | 0 |
WhiteBalance | As Shot |
WhiteClip | 0.249450 |