Felt | Verdi |
AlreadyApplied | True |
Aperture | 4.0 |
ApertureValue | 4.0 |
BitsPerSample | 8 |
BlueHue | 0 |
BlueSaturation | 0 |
Brightness | +44 |
CameraProfile | Adobe Standard |
ChromaticAberrationB | 0 |
ChromaticAberrationR | 0 |
CircleOfConfusion | 0.031 mm |
Clarity | 0 |
ColorComponents | 3 |
ColorNoiseReduction | 25 |
ColorNoiseReductionDetail | 50 |
ColorTemperature | 4400 |
Contrast | 0 |
ConvertToGrayscale | False |
Copyright | Torbjorn Pehrsen |
CopyrightFlag | True |
CopyrightNotice | Torbjørn Pehrsen |
CreateDate (1) | 2010:07:16 20:40:19.49+02:00 |
CreateDate | 2010:07:16 20:40:19 |
CreatorTool | Adobe Photoshop Lightroom |
CustomRendered | Normal |
DateTimeDigitized | 2010:07:16 20:40:19.49+02:00 |
DateTimeOriginal (1) | 2010:07:16 20:40:19.49+02:00 |
DateTimeOriginal | 2010:07:16 20:40:19 |
Defringe | 0 |
DOF | inf (730.83 m - inf) |
ExifImageHeight | 533 |
ExifImageWidth | 800 |
Exposure | -0.60 |
ExposureCompensation | -1 |
ExposureMode | Auto |
ExposureProgram | Aperture-priority AE |
ExposureTime | 1/1000 |
FillLight | 20 |
Firmware | 2.0.4 |
Flash | Off, Did not fire |
FlashCompensation | 0 |
FlashFired | False |
FlashFunction | False |
FlashMode | Off |
FlashRedEyeMode | False |
FlashReturn | No return detection |
FNumber | 4.0 |
FocalLength | 300.0 mm |
FocalLength35efl | 300.0 mm (35 mm equivalent: 292.8 mm) |
FOV | 7.0 deg |
GrainAmount | 0 |
GreenHue | 0 |
GreenSaturation | 0 |
HasCrop | False |
HasSettings | True |
HighlightRecovery | 23 |
HueAdjustmentAqua | 0 |
HueAdjustmentBlue | 0 |
HueAdjustmentGreen | 0 |
HueAdjustmentMagenta | 0 |
HueAdjustmentOrange | 0 |
HueAdjustmentPurple | 0 |
HueAdjustmentRed | 0 |
HueAdjustmentYellow | 0 |
HyperfocalDistance | 730.83 m |
ImageHeight | 533 |
ImageNumber | 0 |
ImageSize | 800x533 |
ImageWidth | 800 |
ISO | 400 |
Keywords | Dyr, Fugler, Måke |
Lens | EF300mm f/4L IS USM |
LensID (1) | 177 |
LensID | Canon EF 300mm f/4L IS USM |
LensInfo | 300mm f/? |
LensManualDistortionAmount | 0 |
LensProfileEnable | 0 |
LensProfileSetup | LensDefaults |
LightValue | 12.0 |
LuminanceAdjustmentAqua | 0 |
LuminanceAdjustmentBlue | 0 |
LuminanceAdjustmentGreen | 0 |
LuminanceAdjustmentMagenta | 0 |
LuminanceAdjustmentOrange | 0 |
LuminanceAdjustmentPurple | 0 |
LuminanceAdjustmentRed | 0 |
LuminanceAdjustmentYellow | 0 |
LuminanceNoiseReductionContrast | 0 |
LuminanceNoiseReductionDetail | 50 |
LuminanceSmoothing | 30 |
Make | Canon |
Marked | True |
MaxApertureValue | 4.0 |
Megapixels | 0.426 |
MeteringMode | Partial |
Model | Canon EOS 5D Mark II |
ModifyDate (1) | 2010:07:22 23:58:38+02:00 |
ModifyDate | 2010:07:22 23:58:38 |
ParametricDarks | -5 |
ParametricHighlights | -5 |
ParametricHighlightSplit | 75 |
ParametricLights | 0 |
ParametricMidtoneSplit | 50 |
ParametricShadows | -15 |
ParametricShadowSplit | 25 |
PerspectiveHorizontal | 0 |
PerspectiveRotate | 0.0 |
PerspectiveScale | 100 |
PerspectiveVertical | 0 |
PostCropVignetteAmount | 0 |
ProcessVersion | 5.7 |
ProfileDescription | sRGB IEC61966-2.1 |
RedHue | 0 |
RedSaturation | 0 |
Rights | Torbjørn Pehrsen |
Saturation | 0 |
SaturationAdjustmentAqua | 0 |
SaturationAdjustmentBlue | -40 |
SaturationAdjustmentGreen | 0 |
SaturationAdjustmentMagenta | 0 |
SaturationAdjustmentOrange | 0 |
SaturationAdjustmentPurple | 0 |
SaturationAdjustmentRed | 0 |
SaturationAdjustmentYellow | 0 |
ScaleFactor35efl | 1.0 |
SceneCaptureType | Standard |
SerialNumber | 1531021652 |
Shadows | 3 |
ShadowTint | 0 |
SharpenDetail | 25 |
SharpenEdgeMasking | 0 |
SharpenRadius | +1.0 |
Sharpness | 81 |
ShutterSpeed | 1/1000 |
ShutterSpeedValue | 1/1000 |
SplitToningBalance | 0 |
SplitToningHighlightHue | 0 |
SplitToningHighlightSaturation | 0 |
SplitToningShadowHue | 0 |
SplitToningShadowSaturation | 0 |
Subject | Dyr, Fugler, Måke |
SubjectDistance | 4294967295 m |
Tint | +4 |
ToneCurve | 0, 0, 32, 22, 64, 56, 128, 128, 192, 196, 255, 255 |
ToneCurveName | Medium Contrast |
UsageTerms | Kan ikke benyttes uten samtykke fra Torbjørn Pehrsen |
Version | 6.1 |
Vibrance | 0 |
VignetteAmount | 0 |
WhiteBalance (2) | As Shot |
WhiteBalance | Auto |