Felt | Verdi |
AlreadyApplied | True |
Aperture | 2.8 |
ApertureValue | 2.8 |
BitsPerSample | 8 |
BlueHue | 0 |
BlueSaturation | 0 |
Brightness | 0 |
CameraProfile | Embedded |
ChromaticAberrationB | 0 |
ChromaticAberrationR | 0 |
CircleOfConfusion | 0.006 mm |
Clarity | +51 |
ColorComponents | 3 |
ColorNoiseReduction | 48 |
Contrast | +15 |
ConvertToGrayscale | False |
CreateDate (1) | 2007:06:30 22:59:20+02:00 |
CreateDate | 2007:06:30 22:59:20 |
CreatorTool | Adobe Photoshop Lightroom |
CropAngle | -0.515716 |
CropBottom | 0.983181 |
CropHeight | 1492 |
CropLeft | 0.006081 |
CropRight | 0.993919 |
CropTop | 0.016819 |
CropUnit | pixels |
CropWidth | 2836 |
CustomRendered | Normal |
DateTimeDigitized | 2007:06:30 22:59:20+02:00 |
DateTimeOriginal (1) | 2007:06:30 22:59:20+02:00 |
DateTimeOriginal | 2007:06:30 22:59:20 |
Defringe | 0 |
DigitalZoomRatio | 1 |
ExifImageHeight | 1492 |
ExifImageWidth | 2836 |
Exposure | -0.19 |
ExposureCompensation | 0 |
ExposureMode | Auto |
ExposureTime | 1/60 |
FillLight | 0 |
Firmware | 1.00 |
Flash | Auto, Did not fire, Red-eye reduction |
FlashCompensation | 0 |
FlashFired | False |
FlashFunction | False |
FlashMode | Auto |
FlashRedEyeMode | True |
FlashReturn | No return detection |
FNumber | 2.8 |
FocalLength | 7.7 mm |
FocalLength35efl | 7.7 mm (35 mm equivalent: 36.9 mm) |
FOV | 51.9 deg |
GreenHue | 0 |
GreenSaturation | 0 |
HasCrop | True |
HasSettings | True |
HighlightRecovery | 0 |
HueAdjustmentAqua | 0 |
HueAdjustmentBlue | 0 |
HueAdjustmentGreen | 0 |
HueAdjustmentMagenta | 0 |
HueAdjustmentOrange | 0 |
HueAdjustmentPurple | 0 |
HueAdjustmentRed | 0 |
HueAdjustmentYellow | 0 |
HyperfocalDistance | 3.38 m |
ImageHeight | 1492 |
ImageSize | 2836x1492 |
ImageWidth | 2836 |
IncrementalTemperature | +13 |
IncrementalTint | -25 |
Lens | 7.7-23.1 mm |
LensInfo | 7.7-23.1mm f/? |
LuminanceAdjustmentAqua | 0 |
LuminanceAdjustmentBlue | 0 |
LuminanceAdjustmentGreen | 0 |
LuminanceAdjustmentMagenta | 0 |
LuminanceAdjustmentOrange | 0 |
LuminanceAdjustmentPurple | 0 |
LuminanceAdjustmentRed | 0 |
LuminanceAdjustmentYellow | 0 |
LuminanceSmoothing | 54 |
Make | Canon |
MaxApertureValue | 2.8 |
Megapixels | 4.2 |
MeteringMode | Multi-segment |
Model | Canon DIGITAL IXUS 750 |
ModifyDate (1) | 2009:12:09 11:53:15+01:00 |
ModifyDate | 2009:12:09 11:53:15 |
ParametricDarks | 0 |
ParametricHighlights | 0 |
ParametricHighlightSplit | 75 |
ParametricLights | 0 |
ParametricMidtoneSplit | 50 |
ParametricShadows | 0 |
ParametricShadowSplit | 25 |
PostCropVignetteAmount | 0 |
ProfileDescription | sRGB IEC61966-2.1 |
RedHue | 0 |
RedSaturation | 0 |
Saturation | 0 |
SaturationAdjustmentAqua | 0 |
SaturationAdjustmentBlue | 0 |
SaturationAdjustmentGreen | 0 |
SaturationAdjustmentMagenta | 0 |
SaturationAdjustmentOrange | 0 |
SaturationAdjustmentPurple | 0 |
SaturationAdjustmentRed | 0 |
SaturationAdjustmentYellow | 0 |
ScaleFactor35efl | 4.8 |
SceneCaptureType | Night |
SensingMethod | One-chip color area |
Shadows | 0 |
ShadowTint | 0 |
SharpenDetail | 25 |
SharpenEdgeMasking | 0 |
SharpenRadius | +1.0 |
Sharpness | 66 |
ShutterSpeed | 1/60 |
ShutterSpeedValue | 1/60 |
Software | Adobe Photoshop Lightroom |
SplitToningBalance | 0 |
SplitToningHighlightHue | 0 |
SplitToningHighlightSaturation | 0 |
SplitToningShadowHue | 0 |
SplitToningShadowSaturation | 0 |
ToneCurve | 0, 0, 255, 255 |
ToneCurveName | Linear |
Version | 5.5 |
Vibrance | +33 |
VignetteAmount | 0 |
WhiteBalance | Auto |