Felt | Verdi |
AlreadyApplied | True |
Aperture | 3.4 |
ApertureValue | 3.4 |
ApproximateFNumber | 3.5 |
BaseISO | 160 |
BitsPerSample | 8 |
BlueBalance | 0.786407 |
BlueHue | 0 |
BlueSaturation | 0 |
Brightness | +50 |
By-line | Alf M. Sollund |
CameraProfile | Adobe Standard |
CameraTemperature | 18 C |
CaptionWriter | Alf M. Sollund |
ChromaticAberrationB | 0 |
ChromaticAberrationR | 0 |
CircleOfConfusion | 0.030 mm |
Clarity | +43 |
ColorComponents | 3 |
ColorNoiseReduction | 25 |
ColorTemperature | 4950 |
Contrast (1) | +43 |
Contrast | Normal |
ConvertToGrayscale | False |
Copyright | Alf M. Sollund |
CopyrightFlag | True |
CopyrightNotice | Alf M. Sollund |
CreateDate (1) | 2010:07:31 12:08:02+02:00 |
CreateDate | 2010:07:31 12:08:02 |
Creator | Alf M. Sollund |
CreatorAddress | Amtmanns gt 15 |
CreatorCity | Tromsø |
CreatorCountry | Norway |
CreatorPostalCode | 9008 |
CreatorRegion | Norway |
CreatorTool | Adobe Photoshop Lightroom |
CreatorWorkEmail | alf-martin.sollund@telenor.com |
CreatorWorkTelephone | +4791889676 |
CreatorWorkURL | flyalf.com |
CropAngle | 0 |
CropBottom | 0.957921 |
CropHeight | 681 |
CropLeft | 0.042079 |
CropRight | 1 |
CropTop | 0 |
CropUnit | pixels |
CropWidth | 1024 |
DateTimeDigitized | 2010:07:31 12:08:02+02:00 |
DateTimeOriginal (1) | 2010:07:31 12:08:02+02:00 |
DateTimeOriginal | 2010:07:31 12:08:02 |
Defringe | 0 |
DigitalZoomRatio | 0 |
ExifImageHeight | 681 |
ExifImageWidth | 1024 |
Exposure | -0.19 |
ExposureCompensation | -0.332 |
ExposureMode | Manual |
ExposureProgram | Manual |
ExposureTime | 1/1000 |
ExternalSensorBrightnessValue | 5.85 |
FillLight | 24 |
FirmwareVersion | 1.116 |
Flash | No Flash |
FlashFired | False |
FlashFunction | False |
FlashMode | Unknown |
FlashRedEyeMode | False |
FlashReturn | No return detection |
FNumber | 3.4 |
FocalLength | 28.0 mm |
FocalLength35efl | 28.0 mm (35 mm equivalent: 28.0 mm) |
FocalLengthIn35mmFormat | 28 mm |
FOV | 65.5 deg |
GreenHue | 0 |
GreenSaturation | 0 |
HasCrop | True |
HasSettings | True |
HighlightRecovery | 92 |
HueAdjustmentAqua | 0 |
HueAdjustmentBlue | 0 |
HueAdjustmentGreen | +20 |
HueAdjustmentMagenta | 0 |
HueAdjustmentOrange | 0 |
HueAdjustmentPurple | 0 |
HueAdjustmentRed | +10 |
HueAdjustmentYellow | 0 |
HyperfocalDistance | 7.67 m |
ImageHeight | 681 |
ImageSize | 1024x681 |
ImageWidth | 1024 |
ISO | 200 |
JPEGQuality | Basic |
JPEGSize | 5216x3472 |
Keywords | Raaelva, Troms, flyfishing, summer, trout |
Lens | Leica Elmarit-M 28mm f/2.8 ASPH. |
LensID (1) | 28 |
LensID | Elmarit-M 28mm f/2.8 ASPH. |
LensType | Elmarit-M 28mm f/2.8 ASPH. |
LightSource | Unknown |
LightValue | 12.5 |
LuminanceAdjustmentAqua | 0 |
LuminanceAdjustmentBlue | 0 |
LuminanceAdjustmentGreen | 0 |
LuminanceAdjustmentMagenta | 0 |
LuminanceAdjustmentOrange | 0 |
LuminanceAdjustmentPurple | 0 |
LuminanceAdjustmentRed | 0 |
LuminanceAdjustmentYellow | 0 |
LuminanceSmoothing | 0 |
Make | Leica Camera AG |
MakerNoteSafety | Safe |
Marked | True |
MaxApertureValue | 2.8 |
MeasuredLV | 6.73 |
Megapixels | 0.697 |
MeteringMode | Center-weighted average |
Model | M9 Digital Camera |
ModifyDate (1) | 2010:08:02 22:55:18+02:00 |
ModifyDate | 2010:08:02 22:55:18 |
ParametricDarks | -7 |
ParametricHighlights | +31 |
ParametricHighlightSplit | 75 |
ParametricLights | +5 |
ParametricMidtoneSplit | 50 |
ParametricShadows | -24 |
ParametricShadowSplit | 25 |
PostCropVignetteAmount | -33 |
PostCropVignetteFeather | 50 |
PostCropVignetteMidpoint | 50 |
PostCropVignetteRoundness | 0 |
ProfileDescription | sRGB IEC61966-2.1 |
Rating | 5 |
RedBalance | 0.458499 |
RedHue | 0 |
RedSaturation | 0 |
Rights | Alf M. Sollund |
Saturation (1) | +17 |
Saturation | Normal |
SaturationAdjustmentAqua | 0 |
SaturationAdjustmentBlue | -30 |
SaturationAdjustmentGreen | +10 |
SaturationAdjustmentMagenta | 0 |
SaturationAdjustmentOrange | 0 |
SaturationAdjustmentPurple | 0 |
SaturationAdjustmentRed | -10 |
SaturationAdjustmentYellow | 0 |
ScaleFactor35efl | 1.0 |
SceneCaptureType | Standard |
SceneType | Directly photographed |
SensorBitDepth | 14 |
SensorHeight | 3516 |
SensorWidth | 5270 |
SerialNumber | 3834853 |
Shadows | 5 |
ShadowTint | 0 |
SharpenDetail | 25 |
SharpenEdgeMasking | 30 |
Sharpening | Off |
SharpenRadius | +2.1 |
Sharpness | 25 |
ShutterSpeed | 1/1000 |
ShutterSpeedValue | 1/1000 |
Software | 1.116 |
SplitToningBalance | 0 |
SplitToningHighlightHue | 0 |
SplitToningHighlightSaturation | 0 |
SplitToningShadowHue | 0 |
SplitToningShadowSaturation | 0 |
Subject | Raaelva, Troms, flyfishing, summer, trout |
Tint | -1 |
ToneCurve | 0, 0, 32, 22, 64, 56, 128, 128, 192, 196, 255, 255 |
ToneCurveName | Medium Contrast |
UserProfile | Profile 1 |
Version | 5.6.1 |
Vibrance | +29 |
VignetteAmount | 0 |
WB_RGBLevels | 0.4584989086 1 0.786406835 |
WhiteBalance (3) | As Shot |
WhiteBalance | Auto |
Writer-Editor | Alf M. Sollund |