Felt | Verdi |
AlreadyApplied | True |
Aperture | 6.3 |
ApertureValue | 6.3 |
BitsPerSample | 8 |
BlueHue | 0 |
BlueSaturation | 0 |
Brightness | +13 |
CameraProfile | Embedded |
CFAPattern | [Blue,Green][Green,Red] |
ChromaticAberrationB | 0 |
ChromaticAberrationR | 0 |
CircleOfConfusion | 0.020 mm |
Clarity | 0 |
ColorComponents | 1 |
ColorNoiseReduction | 0 |
Contrast (2) | 0 |
Contrast | Normal |
ConvertToGrayscale | True |
CreateDate (1) | 2010:04:01 18:49:22.40+02:00 |
CreateDate | 2010:04:01 18:49:22 |
CreatorTool | Adobe Photoshop Lightroom |
CropAngle | 0 |
CropBottom | 0.70318 |
CropHeight | 1237 |
CropLeft | 0.512941 |
CropRight | 1 |
CropTop | 0.084806 |
CropUnit | pixels |
CropWidth | 1465 |
CustomRendered | Normal |
DateTimeDigitized | 2010:04:01 18:49:22.40+02:00 |
DateTimeOriginal (1) | 2010:04:01 18:49:22.40+02:00 |
DateTimeOriginal | 2010:04:01 18:49:22 |
Defringe | 0 |
DigitalZoomRatio | 1 |
ExifImageHeight | 1465 |
ExifImageWidth | 1237 |
Exposure | -0.42 |
ExposureCompensation | -1 |
ExposureMode | Manual |
ExposureProgram | Manual |
ExposureTime | 1/50 |
FillLight | 44 |
Flash | No Flash |
FlashFired | False |
FlashFunction | False |
FlashMode | Unknown |
FlashRedEyeMode | False |
FlashReturn | No return detection |
FNumber | 6.3 |
FocalLength | 200.0 mm |
FocalLength35efl | 200.0 mm (35 mm equivalent: 300.0 mm) |
FocalLengthIn35mmFormat | 300 mm |
FOV | 6.9 deg |
GainControl | Low gain up |
GrayMixerAqua | -18 |
GrayMixerBlue | 0 |
GrayMixerGreen | -15 |
GrayMixerMagenta | +3 |
GrayMixerOrange | -5 |
GrayMixerPurple | +6 |
GrayMixerRed | -1 |
GrayMixerYellow | -7 |
GreenHue | 0 |
GreenSaturation | 0 |
HasCrop | True |
HasSettings | True |
HighlightRecovery | 0 |
HyperfocalDistance | 316.97 m |
ImageHeight | 1465 |
ImageNumber | 4523 |
ImageSize | 1237x1465 |
ImageWidth | 1237 |
IncrementalTemperature | 0 |
IncrementalTint | 0 |
ISO | 400 |
Lens | 18.0-200.0 mm f/3.5-6.3 |
LensInfo | 18-200mm f/3.5-6.3 |
LightSource | Unknown |
LightValue | 9.0 |
LuminanceSmoothing | 0 |
Make | NIKON CORPORATION |
MaxApertureValue | 6.3 |
Megapixels | 1.8 |
MeteringMode | Multi-segment |
Model | NIKON D40 |
ModifyDate (1) | 2010:08:02 23:23:29+02:00 |
ModifyDate | 2010:08:02 23:23:29 |
ParametricDarks | 0 |
ParametricHighlights | 0 |
ParametricHighlightSplit | 75 |
ParametricLights | 0 |
ParametricMidtoneSplit | 50 |
ParametricShadows | 0 |
ParametricShadowSplit | 25 |
PostCropVignetteAmount | 0 |
ProfileDescription | sRGB IEC61966-2.1 |
RedHue | 0 |
RedSaturation | 0 |
Saturation | High |
ScaleFactor35efl | 1.5 |
SceneCaptureType | Standard |
SceneType | Directly photographed |
SensingMethod | One-chip color area |
SerialNumber | 6166238 |
Shadows | 0 |
ShadowTint | 0 |
SharpenDetail | 25 |
SharpenEdgeMasking | 0 |
SharpenRadius | +1.0 |
Sharpness (2) | 0 |
Sharpness | Hard |
ShutterSpeed | 1/50 |
ShutterSpeedValue | 1/50 |
Software | Ver.1.10 |
SplitToningBalance | 0 |
SplitToningHighlightHue | 0 |
SplitToningHighlightSaturation | 0 |
SplitToningShadowHue | 0 |
SplitToningShadowSaturation | 0 |
SubjectDistanceRange | Unknown |
ToneCurve | 0, 0, 255, 255 |
ToneCurveName | Linear |
Version | 5.3 |
VignetteAmount | 0 |
WhiteBalance (2) | As Shot |
WhiteBalance | Auto |