Felt | Verdi |
AlreadyApplied | True |
Aperture | 5.6 |
ApertureValue | 5.6 |
BitsPerSample | 8 |
BlueHue | 0 |
BlueSaturation | 0 |
Brightness | +88 |
CameraProfile | Embedded |
ChromaticAberrationB | 0 |
ChromaticAberrationR | -91 |
CircleOfConfusion | 0.019 mm |
Clarity | -20 |
ColorComponents | 3 |
ColorNoiseReduction | 39 |
ColorNoiseReductionDetail | 50 |
Contrast | +62 |
ConvertToGrayscale | True |
CreateDate (1) | 2010:08:07 12:58:09+02:00 |
CreateDate | 2010:08:07 12:58:09 |
CreatorTool | Adobe Photoshop Lightroom |
CustomRendered | Normal |
DateAcquired | 2010:08:07 17:37:52.282 |
DateTimeDigitized | 2010:08:07 12:58:09+02:00 |
DateTimeOriginal (1) | 2010:08:07 12:58:09+02:00 |
DateTimeOriginal | 2010:08:07 12:58:09 |
Defringe | 0 |
ExifImageHeight | 1288 |
ExifImageWidth | 1936 |
Exposure | 0.00 |
ExposureCompensation | -1/3 |
ExposureMode | Auto |
ExposureProgram | Program AE |
ExposureTime | 1/250 |
FillLight | 45 |
Flash | Off, Did not fire |
FlashFired | False |
FlashFunction | False |
FlashMode | Off |
FlashRedEyeMode | False |
FlashReturn | No return detection |
FNumber | 5.6 |
FocalLength | 300.0 mm |
FocalLength35efl | 300.0 mm (35 mm equivalent: 485.5 mm) |
FOV | 4.2 deg |
GrainAmount | 17 |
GrainFrequency | 0 |
GrainSize | 21 |
GrayMixerAqua | +50 |
GrayMixerBlue | +15 |
GrayMixerGreen | +100 |
GrayMixerMagenta | -4 |
GrayMixerOrange | -21 |
GrayMixerPurple | +12 |
GrayMixerRed | -15 |
GrayMixerYellow | +100 |
GreenHue | 0 |
GreenSaturation | 0 |
HasCrop | False |
HasSettings | True |
HighlightRecovery | 44 |
HyperfocalDistance | 865.65 m |
ImageHeight | 1288 |
ImageSize | 1936x1288 |
ImageWidth | 1936 |
IncrementalTemperature | -6 |
IncrementalTint | +68 |
ISO | 100 |
Keywords | yulia and me |
LastKeywordXMP | yulia and me |
LensManualDistortionAmount | -47 |
LensProfileEnable | 0 |
LensProfileSetup | LensDefaults |
LightValue | 12.9 |
LuminanceNoiseReductionContrast | 51 |
LuminanceNoiseReductionDetail | 46 |
LuminanceSmoothing | 100 |
Make | Canon |
Megapixels | 2.5 |
MeteringMode | Partial |
Model | Canon EOS 400D DIGITAL |
ModifyDate (1) | 2010:08:11 22:21:48+02:00 |
ModifyDate | 2010:08:11 22:21:48 |
ParametricDarks | -17 |
ParametricHighlights | +20 |
ParametricHighlightSplit | 75 |
ParametricLights | +3 |
ParametricMidtoneSplit | 50 |
ParametricShadows | -9 |
ParametricShadowSplit | 25 |
PerspectiveHorizontal | -6 |
PerspectiveRotate | 0.0 |
PerspectiveScale | 100 |
PerspectiveVertical | -3 |
PostCropVignetteAmount | 0 |
ProcessVersion | 5.7 |
ProfileDescription | sRGB IEC61966-2.1 |
RedHue | 0 |
RedSaturation | 0 |
ScaleFactor35efl | 1.6 |
SceneCaptureType | Standard |
Shadows | 31 |
ShadowTint | 0 |
SharpenDetail | 25 |
SharpenEdgeMasking | 0 |
SharpenRadius | +1.0 |
Sharpness | 0 |
ShutterSpeed | 1/250 |
ShutterSpeedValue | 1/250 |
SplitToningBalance | 0 |
SplitToningHighlightHue | 52 |
SplitToningHighlightSaturation | 64 |
SplitToningShadowHue | 37 |
SplitToningShadowSaturation | 22 |
Subject | yulia and me |
ToneCurve | 0, 0, 32, 22, 64, 56, 128, 128, 192, 196, 255, 255 |
ToneCurveName | Medium Contrast |
Version | 6.1 |
VignetteAmount | +89 |
VignetteMidpoint | 30 |
WhiteBalance (2) | Custom |
WhiteBalance | Auto |