Felt | Verdi |
AlreadyApplied | True |
Aperture | 8.0 |
ApertureValue | 8.0 |
BitsPerSample | 8 |
BlueHue | 0 |
BlueSaturation | 0 |
Brightness | +50 |
CameraProfile | Adobe Standard |
ChromaticAberrationB | 0 |
ChromaticAberrationR | 0 |
CircleOfConfusion | 0.031 mm |
Clarity | +100 |
ColorComponents | 3 |
ColorNoiseReduction | 25 |
ColorNoiseReductionDetail | 50 |
ColorTemperature | 4850 |
Contrast | +25 |
ConvertToGrayscale | False |
CreateDate (1) | 2010:08:21 12:41:45.04+02:00 |
CreateDate | 2010:08:21 12:41:45 |
CreatorTool | Adobe Photoshop Lightroom |
CropAngle | 0 |
CropBottom | 0.554582 |
CropConstrainToWarp | 0 |
CropHeight | 365 |
CropLeft | 0.455841 |
CropRight | 0.520909 |
CropTop | 0.45698 |
CropUnit | pixels |
CropWidth | 365 |
CustomRendered | Normal |
DateTimeDigitized | 2010:08:21 12:41:45.04+02:00 |
DateTimeOriginal (1) | 2010:08:21 12:41:45.04+02:00 |
DateTimeOriginal | 2010:08:21 12:41:45 |
Defringe | 0 |
DOF | 0.016 m (0.622 - 0.638 m) |
ExifImageHeight | 365 |
ExifImageWidth | 365 |
Exposure | 0.00 |
ExposureCompensation | -1/3 |
ExposureMode | Auto |
ExposureProgram | Aperture-priority AE |
ExposureTime | 1/200 |
FillLight | 20 |
Firmware | 1.2.4 |
Flash | Off, Did not fire |
FlashCompensation | 0 |
FlashFired | False |
FlashFunction | False |
FlashMode | Off |
FlashRedEyeMode | False |
FlashReturn | No return detection |
FNumber | 8.0 |
FocalLength | 100.0 mm |
FocalLength35efl | 100.0 mm (35 mm equivalent: 97.6 mm) |
FOV | 20.9 deg |
GrainAmount | 0 |
GreenHue | 0 |
GreenSaturation | 0 |
HasCrop | True |
HasSettings | True |
HighlightRecovery | 75 |
HueAdjustmentAqua | 0 |
HueAdjustmentBlue | 0 |
HueAdjustmentGreen | 0 |
HueAdjustmentMagenta | 0 |
HueAdjustmentOrange | 0 |
HueAdjustmentPurple | 0 |
HueAdjustmentRed | 0 |
HueAdjustmentYellow | 0 |
HyperfocalDistance | 40.60 m |
ImageHeight | 365 |
ImageNumber | 0 |
ImageSize | 365x365 |
ImageWidth | 365 |
ISO | 1250 |
Lens | EF100mm f/2.8L Macro IS USM |
LensID (1) | 254 |
LensID | Canon EF 100mm f/2.8L Macro IS USM |
LensInfo | 100mm f/? |
LensManualDistortionAmount | 0 |
LensProfileEnable | 0 |
LensProfileSetup | LensDefaults |
LightValue | 10.0 |
LuminanceAdjustmentAqua | 0 |
LuminanceAdjustmentBlue | 0 |
LuminanceAdjustmentGreen | 0 |
LuminanceAdjustmentMagenta | 0 |
LuminanceAdjustmentOrange | 0 |
LuminanceAdjustmentPurple | 0 |
LuminanceAdjustmentRed | 0 |
LuminanceAdjustmentYellow | 0 |
LuminanceNoiseReductionContrast | 0 |
LuminanceNoiseReductionDetail | 50 |
LuminanceSmoothing | 93 |
Make | Canon |
MaxApertureValue | 2.8 |
Megapixels | 0.133 |
MeteringMode | Spot |
Model | Canon EOS 5D Mark II |
ModifyDate (1) | 2010:08:21 15:14:27+02:00 |
ModifyDate | 2010:08:21 15:14:27 |
ParametricDarks | +10 |
ParametricHighlights | +50 |
ParametricHighlightSplit | 75 |
ParametricLights | -30 |
ParametricMidtoneSplit | 50 |
ParametricShadows | -35 |
ParametricShadowSplit | 25 |
PerspectiveHorizontal | 0 |
PerspectiveRotate | 0.0 |
PerspectiveScale | 100 |
PerspectiveVertical | 0 |
PostCropVignetteAmount | 0 |
ProcessVersion | 5.7 |
ProfileDescription | sRGB IEC61966-2.1 |
RedHue | 0 |
RedSaturation | 0 |
Saturation | 0 |
SaturationAdjustmentAqua | 0 |
SaturationAdjustmentBlue | 0 |
SaturationAdjustmentGreen | 0 |
SaturationAdjustmentMagenta | 0 |
SaturationAdjustmentOrange | 0 |
SaturationAdjustmentPurple | 0 |
SaturationAdjustmentRed | 0 |
SaturationAdjustmentYellow | 0 |
ScaleFactor35efl | 1.0 |
SceneCaptureType | Standard |
SerialNumber | 330232435 |
Shadows | 5 |
ShadowTint | 0 |
SharpenDetail | 25 |
SharpenEdgeMasking | 0 |
SharpenRadius | +1.0 |
Sharpness | 53 |
ShutterSpeed | 1/200 |
ShutterSpeedValue | 1/200 |
SplitToningBalance | 0 |
SplitToningHighlightHue | 0 |
SplitToningHighlightSaturation | 0 |
SplitToningShadowHue | 0 |
SplitToningShadowSaturation | 0 |
SubjectDistance | 0.63 m |
Tint | +1 |
ToneCurve | 0, 0, 32, 22, 64, 56, 128, 128, 192, 196, 255, 255 |
ToneCurveName | Medium Contrast |
Version | 6.1 |
Vibrance | +50 |
VignetteAmount | 0 |
WhiteBalance (2) | As Shot |
WhiteBalance | Manual |