Felt | Verdi |
AlreadyApplied | True |
Aperture | 2.8 |
ApertureValue | 2.8 |
Artist | Ole T. J. Skogdal |
BitsPerSample (1) | 8 8 8 |
BitsPerSample | 8 |
BlueHue | 0 |
BlueSaturation | 0 |
Brightness | +50 |
By-line | Ole T. J. Skogdal |
CameraProfile | Adobe Standard |
ChromaticAberrationB | 0 |
ChromaticAberrationR | 0 |
CircleOfConfusion | 0.003 mm |
Clarity | 0 |
ColorComponents | 3 |
ColorMode | RGB |
ColorNoiseReduction | 100 |
ColorSpace | sRGB |
ColorTemperature | 4950 |
Contrast | High |
ConvertToGrayscale | False |
Copyright | Foto: Ole T. J. Skogdal |
CopyrightFlag | True |
CopyrightNotice | Foto: Ole T. J. Skogdal |
CreateDate (1) | 2010:08:11 10:44:17.03+02:00 |
CreateDate | 2010:08:11 10:44:17 |
Creator | Ole T. J. Skogdal |
CreatorAddress | Ringvegen 450 |
CreatorCity | Trosmø |
CreatorCountry | Norway |
CreatorPostalCode | 9017 |
CreatorRegion | Troms |
CreatorTool | Adobe Photoshop CS5 Windows |
CreatorWorkEmail | oljosko@online.no |
CreatorWorkTelephone | +47 92265599 |
CustomRendered | Normal |
DateCreated (1) | 2010:08:11 |
DateCreated | 2010:08:11 10:44:17.003 |
DateTimeOriginal | 2010:08:11 10:44:17 |
Defringe | 0 |
DOF | 0.001 m (1.450 - 1.450 m) |
ExifImageHeight | 640 |
ExifImageWidth | 427 |
Exposure | 0.00 |
ExposureCompensation | 0 |
ExposureMode | Manual |
ExposureProgram | Manual |
ExposureTime | 1/800 |
FillLight | 0 |
Firmware | 1.1.0 |
Flash | Off, Did not fire |
FlashCompensation | 0 |
FNumber | 2.8 |
FocalLength | 200.0 mm |
FocalLength35efl | 200.0 mm (35 mm equivalent: 2157.9 mm) |
Format | image/jpeg |
FOV | 1.0 deg |
GreenHue | 0 |
GreenSaturation | 0 |
HasCrop | False |
HasSettings | True |
HighlightRecovery | 0 |
HueAdjustmentAqua | 0 |
HueAdjustmentBlue | 0 |
HueAdjustmentGreen | 0 |
HueAdjustmentMagenta | 0 |
HueAdjustmentOrange | 0 |
HueAdjustmentPurple | +100 |
HueAdjustmentRed | 0 |
HueAdjustmentYellow | 0 |
HyperfocalDistance | 5130.00 m |
ICCProfileName | sRGB IEC61966-2.1 |
ImageHeight (1) | 4272 |
ImageHeight | 640 |
ImageNumber | 0 |
ImageSize | 427x640 |
ImageWidth (1) | 2848 |
ImageWidth | 427 |
ISO | 400 |
Lens | EF70-200mm f/2.8L USM |
LensID (1) | 165 |
LensID | Canon EF 70-200mm f/2.8L USM |
LensInfo | 70-200mm f/? |
LightValue | 10.6 |
LuminanceAdjustmentAqua | 0 |
LuminanceAdjustmentBlue | 0 |
LuminanceAdjustmentGreen | -25 |
LuminanceAdjustmentMagenta | 0 |
LuminanceAdjustmentOrange | 0 |
LuminanceAdjustmentPurple | -25 |
LuminanceAdjustmentRed | 0 |
LuminanceAdjustmentYellow | 0 |
LuminanceSmoothing | 100 |
Make | Canon |
Marked | True |
MaxApertureValue | 2.8 |
Megapixels | 0.273 |
MeteringMode | Center-weighted average |
Model | Canon EOS 450D |
ModifyDate (1) | 2010:08:21 19:32:06+02:00 |
ModifyDate | 2010:08:21 19:32:06 |
Orientation | Horizontal (normal) |
ParametricDarks | -18 |
ParametricHighlights | 0 |
ParametricHighlightSplit | 90 |
ParametricLights | +62 |
ParametricMidtoneSplit | 48 |
ParametricShadows | 0 |
ParametricShadowSplit | 10 |
PhotometricInterpretation | RGB |
PostCropVignetteAmount | 0 |
ProfileDescription | sRGB IEC61966-2.1 |
RedHue | 0 |
RedSaturation | 0 |
Rights | Foto: Ole T. J. Skogdal |
Saturation | Normal |
SaturationAdjustmentAqua | 0 |
SaturationAdjustmentBlue | 0 |
SaturationAdjustmentGreen | +60 |
SaturationAdjustmentMagenta | 0 |
SaturationAdjustmentOrange | 0 |
SaturationAdjustmentPurple | +70 |
SaturationAdjustmentRed | 0 |
SaturationAdjustmentYellow | 0 |
ScaleFactor35efl | 10.8 |
SceneCaptureType | Standard |
SerialNumber | 1880557473 |
Shadows | 5 |
ShadowTint | 0 |
SharpenDetail | 70 |
SharpenEdgeMasking | 0 |
SharpenRadius | +1.5 |
Sharpness | Hard |
ShutterSpeed | 1/800 |
ShutterSpeedValue | 1/800 |
Software | Adobe Photoshop CS5 Windows |
SplitToningBalance | 0 |
SplitToningHighlightHue | 140 |
SplitToningHighlightSaturation | 0 |
SplitToningShadowHue | 140 |
SplitToningShadowSaturation | 0 |
SubjectDistance | 1.45 m |
Tint | +4 |
ToneCurve | 0, 0, 32, 22, 64, 56, 128, 128, 192, 196, 255, 255 |
ToneCurveName | Medium Contrast |
URL | http://www.lovdata.no/all/nl-19610512-002.html |
URL_List | |
UsageTerms | Etter avtale |
Version | 5.7 |
Vibrance | 0 |
VignetteAmount | 0 |
WebStatement | http://www.lovdata.no/all/nl-19610512-002.html |
WhiteBalance | Manual |