Felt | Verdi |
AlreadyApplied | True |
Aperture | 9.0 |
ApertureValue | 9.0 |
BitsPerSample (1) | 8, 8, 8 |
BitsPerSample | 8 |
BlueHue | 0 |
BlueSaturation | 0 |
Brightness | +65 |
CameraProfile | ACR 4.4 |
CFAPattern | [Red,Green][Green,Blue] |
ChromaticAberrationB | 0 |
ChromaticAberrationR | 0 |
CircleOfConfusion | 0.020 mm |
Clarity | +30 |
ColorComponents | 3 |
ColorMode | RGB |
ColorNoiseReduction | 25 |
ColorSpace | Uncalibrated |
ColorTemperature | 3850 |
Contrast (2) | +25 |
Contrast | Normal |
ConvertToGrayscale | False |
CreateDate (1) | 2010:07:23 22:12:48.00+02:00 |
CreateDate | 2010:07:23 22:12:48 |
CreatorTool | Ver.1.00 |
CropAngle | 0 |
CropBottom | 0.867978 |
CropLeft | 0.039179 |
CropRight | 0.580224 |
CropTop | 0.162921 |
CustomRendered | Normal |
DateTimeDigitized | 2010:07:23 22:12:48.00+02:00 |
DateTimeOriginal (1) | 2010:07:23 22:12:48.00+02:00 |
DateTimeOriginal | 2010:07:23 22:12:48 |
Defringe | 0 |
DigitalZoomRatio | 1 |
ExifImageHeight | 2008 |
ExifImageWidth | 2320 |
Exposure | 0.00 |
ExposureCompensation | 0 |
ExposureMode | Manual |
ExposureProgram | Manual |
ExposureTime | 1/80 |
FillLight | 0 |
Flash | No Flash |
FlashFired | False |
FlashFunction | False |
FlashMode | Unknown |
FlashRedEyeMode | False |
FlashReturn | No return detection |
FNumber | 9.0 |
FocalLength | 420.0 mm |
FocalLength35efl | 420.0 mm (35 mm equivalent: 630.0 mm) |
FocalLengthIn35mmFormat | 630 mm |
Format | image/jpeg |
FOV | 3.3 deg |
GainControl | None |
GreenHue | 0 |
GreenSaturation | 0 |
HasCrop | True |
HasSettings | True |
HighlightRecovery | 0 |
HueAdjustmentAqua | 0 |
HueAdjustmentBlue | 0 |
HueAdjustmentGreen | 0 |
HueAdjustmentMagenta | 0 |
HueAdjustmentOrange | 0 |
HueAdjustmentPurple | 0 |
HueAdjustmentRed | 0 |
HueAdjustmentYellow | 0 |
HyperfocalDistance | 978.49 m |
ICCProfileName | Adobe RGB (1998) |
ImageHeight | 2008 |
ImageNumber | 19130 |
ImageSize | 2320x2008 |
ImageWidth | 2320 |
ISO | 200 |
Lens | 300.0 mm f/4.0 |
LensInfo | 300mm f/4 |
LightSource | Unknown |
LightValue | 11.7 |
LuminanceAdjustmentAqua | 0 |
LuminanceAdjustmentBlue | 0 |
LuminanceAdjustmentGreen | 0 |
LuminanceAdjustmentMagenta | 0 |
LuminanceAdjustmentOrange | 0 |
LuminanceAdjustmentPurple | 0 |
LuminanceAdjustmentRed | 0 |
LuminanceAdjustmentYellow | 0 |
LuminanceSmoothing | 0 |
Make | NIKON CORPORATION |
MaxApertureValue | 5.7 |
Megapixels | 4.7 |
MeteringMode | Multi-segment |
Model | NIKON D300 |
ModifyDate (1) | 2010:08:21 23:20:07+02:00 |
ModifyDate | 2010:08:21 23:20:07 |
Orientation | Horizontal (normal) |
ParametricDarks | 0 |
ParametricHighlights | 0 |
ParametricHighlightSplit | 75 |
ParametricLights | 0 |
ParametricMidtoneSplit | 50 |
ParametricShadows | 0 |
ParametricShadowSplit | 25 |
PhotometricInterpretation | RGB |
PlanarConfiguration | Chunky |
PostCropVignetteAmount | 0 |
ProfileDescription | Adobe RGB (1998) |
Rating | 0 |
RawFileName | DSC_8725.NEF |
RedHue | 0 |
RedSaturation | 0 |
SamplesPerPixel | 3 |
Saturation (2) | 0 |
Saturation | Normal |
SaturationAdjustmentAqua | 0 |
SaturationAdjustmentBlue | 0 |
SaturationAdjustmentGreen | 0 |
SaturationAdjustmentMagenta | 0 |
SaturationAdjustmentOrange | 0 |
SaturationAdjustmentPurple | 0 |
SaturationAdjustmentRed | 0 |
SaturationAdjustmentYellow | 0 |
ScaleFactor35efl | 1.5 |
SceneCaptureType | Standard |
SceneType | Directly photographed |
SensingMethod | One-chip color area |
SerialNumber | 4096793 |
Shadows | 5 |
ShadowTint | 0 |
SharpenDetail | 25 |
SharpenEdgeMasking | 0 |
SharpenRadius | +1.0 |
Sharpness (2) | 25 |
Sharpness | Normal |
ShutterSpeed | 1/80 |
ShutterSpeedValue | 1/80 |
SidecarForExtension | NEF |
Software | Adobe Photoshop CS4 Windows |
SplitToningBalance | 0 |
SplitToningHighlightHue | 0 |
SplitToningHighlightSaturation | 0 |
SplitToningShadowHue | 0 |
SplitToningShadowSaturation | 0 |
SubjectDistanceRange | Unknown |
Tint | -3 |
ToneCurve | 0, 0, 32, 22, 64, 56, 128, 128, 192, 196, 255, 255 |
ToneCurveName | Medium Contrast |
URL_List | |
Version | 5.0 |
Vibrance | +59 |
VignetteAmount | 0 |
WhiteBalance (2) | As Shot |
WhiteBalance | Auto |