Felt | Verdi |
AlreadyApplied | True |
Aperture | 22.0 |
ApertureValue | 22.0 |
BitsPerSample | 8 |
BlueHue | 0 |
BlueSaturation | 0 |
Brightness | +49 |
CameraProfile | Camera Landscape |
ChromaticAberrationB | 0 |
ChromaticAberrationR | 0 |
CircleOfConfusion | 0.023 mm |
Clarity | +20 |
ColorComponents | 3 |
ColorMode | RGB |
ColorNoiseReduction | 25 |
ColorSpace | sRGB |
ColorTemperature | 6250 |
Contrast | +29 |
ConvertToGrayscale | False |
CreateDate (1) | 2010:08:16 05:44:13.00+02:00 |
CreateDate | 2010:08:16 05:44:13 |
Creator | |
CreatorTool | Microsoft Windows Live Photo Gallery14.0.8081.709 |
CustomRendered | Normal |
DateTimeDigitized | 2010:08:16 05:44:13+02:00 |
DateTimeOriginal (1) | 2010:08:16 05:44:13+02:00 |
DateTimeOriginal | 2010:08:16 05:44:13 |
Defringe | 0 |
ExifImageHeight | 3888 |
ExifImageWidth | 2592 |
Exposure | 0.00 |
ExposureCompensation | -5/3 |
ExposureMode | Auto |
ExposureProgram | Aperture-priority AE |
ExposureTime | 0.4 |
FillLight | 0 |
Firmware | 1.3.0 |
Flash | Off, Did not fire |
FlashCompensation | 0 |
FlashFired | False |
FlashFunction | False |
FlashMode | Off |
FlashRedEyeMode | False |
FlashReturn | No return detection |
FNumber | 22.0 |
FocalLength | 105.0 mm |
FocalLength35efl | 105.0 mm (35 mm equivalent: 134.5 mm) |
Format | image/jpeg |
FOV | 15.2 deg |
GreenHue | 0 |
GreenSaturation | 0 |
HasCrop | False |
HasSettings | True |
HighlightRecovery | 0 |
HueAdjustmentAqua | 0 |
HueAdjustmentBlue | 0 |
HueAdjustmentGreen | 0 |
HueAdjustmentMagenta | 0 |
HueAdjustmentOrange | 0 |
HueAdjustmentPurple | 0 |
HueAdjustmentRed | 0 |
HueAdjustmentYellow | 0 |
HyperfocalDistance | 21.37 m |
ICCProfileName | sRGB IEC61966-2.1 |
ImageHeight | 3888 |
ImageNumber | 0 |
ImageSize | 2592x3888 |
ImageWidth | 2592 |
ISO | 250 |
Lens | EF24-105mm f/4L IS USM |
LensInfo | 24-105mm f/? |
LightValue | 8.9 |
LuminanceAdjustmentAqua | 0 |
LuminanceAdjustmentBlue | 0 |
LuminanceAdjustmentGreen | 0 |
LuminanceAdjustmentMagenta | 0 |
LuminanceAdjustmentOrange | 0 |
LuminanceAdjustmentPurple | 0 |
LuminanceAdjustmentRed | 0 |
LuminanceAdjustmentYellow | 0 |
LuminanceSmoothing | 0 |
Make | Canon |
MaxApertureValue | 4.0 |
Megapixels | 10.1 |
MeteringMode | Multi-segment |
Model | Canon EOS-1D Mark III |
ModifyDate (1) | 2010:08:17 09:54:56+02:00 |
ModifyDate | 2010:08:17 09:56:19 |
Orientation | Horizontal (normal) |
OriginatingProgram | Microsoft Windows Live Photo Gallery14.0.8081.709 |
OwnerName | Jonny Vestli |
ParametricDarks | 0 |
ParametricHighlights | 0 |
ParametricHighlightSplit | 75 |
ParametricLights | 0 |
ParametricMidtoneSplit | 50 |
ParametricShadows | 0 |
ParametricShadowSplit | 25 |
PostCropVignetteAmount | 0 |
ProfileDescription | sRGB IEC61966-2.1 |
Rating | 0 |
RawFileName | 0U1Z9451.CR2 |
RedHue | 0 |
RedSaturation | 0 |
Saturation | 0 |
SaturationAdjustmentAqua | 0 |
SaturationAdjustmentBlue | 0 |
SaturationAdjustmentGreen | 0 |
SaturationAdjustmentMagenta | 0 |
SaturationAdjustmentOrange | 0 |
SaturationAdjustmentPurple | 0 |
SaturationAdjustmentRed | 0 |
SaturationAdjustmentYellow | 0 |
ScaleFactor35efl | 1.3 |
SceneCaptureType | Standard |
SerialNumber | 507861 |
Shadows | 5 |
ShadowTint | 0 |
SharpenDetail | 25 |
SharpenEdgeMasking | 0 |
SharpenRadius | +1.0 |
Sharpness | 25 |
ShutterSpeed | 0.4 |
ShutterSpeedValue | 0.4 |
SidecarForExtension | CR2 |
Software | Microsoft Windows Live Photo Gallery14.0.8081.709 |
SplitToningBalance | 0 |
SplitToningHighlightHue | 0 |
SplitToningHighlightSaturation | 0 |
SplitToningShadowHue | 0 |
SplitToningShadowSaturation | 0 |
Tint | -9 |
ToneCurve | 0, 0, 32, 22, 64, 56, 128, 128, 192, 196, 255, 255 |
ToneCurveName | Medium Contrast |
URL_List | |
Version | 5.5 |
Vibrance | +4 |
VignetteAmount | 0 |
WhiteBalance (2) | As Shot |
WhiteBalance | Auto |