Felt | Verdi |
AlreadyApplied | True |
Aperture | 18.0 |
ApertureValue | 18.0 |
ApproximateFocusDistance | 4294967295 |
Artist | Photographer: Oddvar Rune Seljen |
AuthorsPosition | Canon Hobbyfotograf |
BitsPerSample | 8 |
BlueHue | 0 |
BlueSaturation | 0 |
Brightness | +50 |
By-line | Photographer: Oddvar Rune Seljen |
By-lineTitle | Canon Hobbyfotograf |
CameraProfile | Camera Standard |
ChromaticAberrationB | 0 |
ChromaticAberrationR | 0 |
CircleOfConfusion | 0.019 mm |
Clarity | +44 |
ColorComponents | 3 |
ColorMode | RGB |
ColorNoiseReduction | 59 |
ColorNoiseReductionDetail | 75 |
ColorSpace | sRGB |
ColorTemperature | 5650 |
Contrast | +78 |
ConvertToGrayscale | False |
Copyright | Oddvar Rune Seljen |
CopyrightFlag | True |
CopyrightNotice | Oddvar Rune Seljen |
CreateDate (1) | 2010:08:03 19:10:34.98+02:00 |
CreateDate | 2010:08:03 19:10:34 |
Creator | Photographer: Oddvar Rune Seljen, Oddvar Rune Seljen |
CreatorAddress | Lindset |
CreatorCity | Stryn |
CreatorPostalCode | 6783 |
CreatorWorkEmail | oddvar.seljen@netcom.no |
CreatorWorkTelephone | +47 934 47 842 |
CreatorWorkURL | www.oddvarseljen.net |
CropAngle | -0.827318 |
CropBottom | 0.978799 |
CropConstrainToWarp | 1 |
CropLeft | 0.005889 |
CropRight | 0.994111 |
CropTop | 0.021201 |
CustomRendered | Normal |
DateCreated (1) | 2010:05:11 |
DateCreated | 2010:05:11 12:28:24 |
DateTimeOriginal | 2010:08:03 19:10:34 |
Defringe | 0 |
DOF | inf (7.32 m - inf) |
ExifImageHeight | 1728 |
ExifImageWidth | 1118 |
Exposure | 0.00 |
ExposureCompensation | 0 |
ExposureMode | Manual |
ExposureProgram | Manual |
ExposureTime | 1/50 |
FillLight | 0 |
Firmware | 1.0.7 |
Flash | Off, Did not fire |
FlashCompensation | 0 |
FNumber | 18.0 |
FocalLength | 50.0 mm |
FocalLength35efl | 50.0 mm (35 mm equivalent: 79.2 mm) |
Format | image/jpeg |
FOV | 25.6 deg |
GrainAmount | 0 |
GreenHue | 0 |
GreenSaturation | 0 |
HasCrop | True |
HasSettings | True |
HighlightRecovery | 12 |
HueAdjustmentAqua | 0 |
HueAdjustmentBlue | 0 |
HueAdjustmentGreen | 0 |
HueAdjustmentMagenta | 0 |
HueAdjustmentOrange | 0 |
HueAdjustmentPurple | 0 |
HueAdjustmentRed | 0 |
HueAdjustmentYellow | 0 |
HyperfocalDistance | 7.32 m |
ICCProfileName | sRGB IEC61966-2.1 |
ImageHeight | 1728 |
ImageNumber | 0 |
ImageSize | 1118x1728 |
ImageWidth | 1118 |
ISO | 400 |
Lens | 18-50mm |
LensID (1) | 169 |
LensID | Sigma 18-50mm f/2.8 Macro |
LensInfo | 18-50mm f/? |
LensManualDistortionAmount | 0 |
LensModel | 18-50mm |
LensProfileEnable | 0 |
LensProfileSetup | LensDefaults |
LightValue | 12.0 |
LuminanceAdjustmentAqua | 0 |
LuminanceAdjustmentBlue | 0 |
LuminanceAdjustmentGreen | 0 |
LuminanceAdjustmentMagenta | 0 |
LuminanceAdjustmentOrange | 0 |
LuminanceAdjustmentPurple | 0 |
LuminanceAdjustmentRed | 0 |
LuminanceAdjustmentYellow | 0 |
LuminanceNoiseReductionContrast | 46 |
LuminanceNoiseReductionDetail | 50 |
LuminanceSmoothing | 57 |
Make | Canon |
Marked | True |
MaxApertureValue | 2.8 |
Megapixels | 1.9 |
MeteringMode | Multi-segment |
Model | Canon EOS 50D |
ModifyDate (1) | 2010:09:03 17:09:12+02:00 |
ModifyDate | 2010:09:03 17:09:12 |
Orientation | Horizontal (normal) |
OwnerName | Oddvar Rune Seljen |
ParametricDarks | 0 |
ParametricHighlights | 0 |
ParametricHighlightSplit | 75 |
ParametricLights | 0 |
ParametricMidtoneSplit | 50 |
ParametricShadows | 0 |
ParametricShadowSplit | 25 |
PerspectiveHorizontal | 0 |
PerspectiveRotate | 0.0 |
PerspectiveScale | 100 |
PerspectiveVertical | 0 |
PostCropVignetteAmount | 0 |
ProcessVersion | 5.7 |
ProfileDescription | sRGB IEC61966-2.1 |
Rating | 0 |
RawFileName | Ferien_2010_03082010_0119.CR2 |
RedHue | 0 |
RedSaturation | 0 |
Rights | Oddvar Rune Seljen |
Saturation | 0 |
SaturationAdjustmentAqua | 0 |
SaturationAdjustmentBlue | 0 |
SaturationAdjustmentGreen | 0 |
SaturationAdjustmentMagenta | 0 |
SaturationAdjustmentOrange | 0 |
SaturationAdjustmentPurple | 0 |
SaturationAdjustmentRed | 0 |
SaturationAdjustmentYellow | 0 |
ScaleFactor35efl | 1.6 |
SceneCaptureType | Standard |
SensitivityType | Unknown |
SerialNumber | 1730731327 |
Shadows | 10 |
ShadowTint | 0 |
SharpenDetail | 25 |
SharpenEdgeMasking | 0 |
SharpenRadius | +1.0 |
Sharpness | 25 |
ShutterSpeed | 1/50 |
ShutterSpeedValue | 1/50 |
Software | Adobe Photoshop CS5 Windows |
SplitToningBalance | 0 |
SplitToningHighlightHue | 0 |
SplitToningHighlightSaturation | 0 |
SplitToningShadowHue | 0 |
SplitToningShadowSaturation | 0 |
SubjectDistance | 4294967295 m |
Tint | +15 |
ToneCurve | 0, 0, 32, 22, 64, 56, 128, 128, 192, 196, 255, 255 |
ToneCurveName | Medium Contrast |
URL_List | |
UsageTerms | Kun etter avtale |
Version | 6.2 |
Vibrance | +19 |
VignetteAmount | 0 |
WhiteBalance (1) | Custom |
WhiteBalance | Auto |