Felt | Verdi |
100
2010-09-13T22:33:11+02:00 File C:\Users\Didd\Desktop\hans olav august 2010\092.jpg saved
2010-09-13T22:34:44+02:00 File C:\Users\Didd\Desktop\092.jpg saved
Absolute Grain Size: 1,5
AlreadyApplied | True |
Angle: 0°
Aperture | 1.8 |
ApertureValue | 1.8 |
Apply Filter in New Layer
BitsPerSample | 8 |
Black and White Film
Blue: 255
Blue: “BlueCurve: 2 0 0 0 0 0 0 1 1
BlueHue | 0 |
BlueSaturation | 0 |
Blur Opacity: 0
Blur Radius: 5
Bottom: 36,58 cm
Brightness | +35 |
CameraProfile | Adobe Standard |
Category: “
Channel Mixer: “41 31 28 1
ChromaticAberrationB | 0 |
ChromaticAberrationR | 0 |
CircleOfConfusion | 0.031 mm |
Clarity | +25 |
Color Contrast: 0
Color: RGB color
ColorComponents | 3 |
ColorMode | RGB |
ColorNoiseReduction | 25 |
ColorSpace (1) | Unknown (-1) |
ColorSpace | Uncalibrated |
ColorTemperature | 4550 |
Contrast | +45 |
ConvertToGrayscale | False |
CopyrightFlag | False |
CreateDate (1) | 2010:09:13 22:34:44+02:00 |
CreateDate | 2010:08:08 12:05:23 |
CreatorTool | Adobe Photoshop CS3 Windows |
Crop
Crop To: rectangle
CustomRendered | Normal |
DateTimeDigitized | 2010:08:08 12:05:23.52+02:00 |
DateTimeOriginal (1) | 2010:08:08 12:05:23.52+02:00 |
DateTimeOriginal | 2010:08:08 12:05:23 |
Defringe | 0 |
DOF | 0.012 m (0.534 - 0.546 m) |
ExifImageHeight | 708 |
ExifImageWidth | 1024 |
Exposure 2 Black And White Film true
Exposure | 0.00 |
ExposureCompensation | +1 |
ExposureMode | Auto |
ExposureProgram | Aperture-priority AE |
ExposureTime | 1/100 |
false
Fill Method: color
FillLight | 9 |
Film Format: 135 Format
Firmware | 2.0.4 |
Flash | Off, Did not fire |
FlashCompensation | 0 |
FlashFired | False |
FlashFunction | False |
FlashMode | Off |
FlashRedEyeMode | False |
FlashReturn | No return detection |
Flatten Image
FNumber | 1.8 |
FocalLength | 50.0 mm |
FocalLength35efl | 50.0 mm (35 mm equivalent: 48.8 mm) |
Format | image/jpeg |
FOV | 40.5 deg |
Grain Strength: 0
Green: 255
Green: “GreenCurve: 2 0 0 0 0 0 0 1 1
GreenHue | 0 |
GreenSaturation | 0 |
Halation Opacity: 0
Halation Spread: 20
HasCrop | False |
HasSettings | True |
Highlight: 26,78
HighlightRecovery | 25 |
HueAdjustmentAqua | 0 |
HueAdjustmentBlue | 0 |
HueAdjustmentGreen | 0 |
HueAdjustmentMagenta | 0 |
HueAdjustmentOrange | 0 |
HueAdjustmentPurple | 0 |
HueAdjustmentRed | 0 |
HueAdjustmentYellow | 0 |
HyperfocalDistance | 45.11 m |
ICCProfileName | Adobe RGB (1998) |
Image Size
Image Size Width: 1024 pixels
Image Size Width: 4500 pixels
ImageHeight | 708 |
ImageNumber | 0 |
ImageSize | 1024x708 |
ImageWidth | 1024 |
In: C:\Users\Didd\Desktop\hans olav august 2010\
Ink 1 Color: “RGB: 60 30 0
Ink 1 Position: 50
Ink 1 Strength: 0
Ink 2 Color: “RGB: 0 0 60
Ink 2 Position: 20
Ink 2 Strength: 0
Interpolation: bicubic
ISO | 400 |
Left: 1,1 cm
Lens | EF50mm f/1.2L USM |
LensID (1) | 241 |
LensID | Canon EF 50mm f/1.2L USM |
LensInfo | 50mm f/? |
LightValue | 6.3 |
LuminanceAdjustmentAqua | 0 |
LuminanceAdjustmentBlue | 0 |
LuminanceAdjustmentGreen | 0 |
LuminanceAdjustmentMagenta | 0 |
LuminanceAdjustmentOrange | 0 |
LuminanceAdjustmentPurple | 0 |
LuminanceAdjustmentRed | 0 |
LuminanceAdjustmentYellow | 0 |
LuminanceSmoothing | 0 |
Make | Canon |
Master Opacity Change
Matte: none
MaxApertureValue | 1.2 |
Megapixels | 0.725 |
Merge Visible
MeteringMode | Multi-segment |
Midtone: 33,33
Mode: normal
Model | Canon EOS 5D Mark II |
ModifyDate (1) | 2010:09:13 22:34:44+02:00 |
ModifyDate | 2010:09:13 22:34:44 |
Opacity: 0%
Opacity: 100%
Opacity: 14%
Opacity: 30%
Open D:\5D mkII\08-8aug Hans Olav\092.dng
Orientation | Horizontal (normal) |
Overall Intensity: 100
ParametricDarks | 0 |
ParametricHighlights | 0 |
ParametricHighlightSplit | 75 |
ParametricLights | 0 |
ParametricMidtoneSplit | 50 |
ParametricShadows | 0 |
ParametricShadowSplit | 25 |
Play action “A Better Web Sharpen” of set “TRA2 - The Revenge”
Play action “Claire-ify” of set “TRA2 - The Revenge”
Play action “Lux (hard)” of set “TRA2 - The Revenge”
Play action “Slice Like A Ninja (Sharpen)” of set “TRA2 - The Revenge”
Position: inside
PostCropVignetteAmount | 0 |
ProfileDescription | Adobe RGB (1998) |
Push Processing: 0
Quality: 12
Rating | 0 |
RawFileName | 092.dng |
Red: 255
Red: “RedCurve: 2 0 0 0 0 0 0 1 1
RedHue | 0 |
RedSaturation | 0 |
Relative Grain Size: 0,95
RGB: “RGBCurve: 5 0 0 0 0 0 0 0.113821 0.0882353 0.300813 0.298319 0.552846 0.579832 1 1
Right: 55,96 cm
Roughness: 20
Saturation | 0 |
SaturationAdjustmentAqua | 0 |
SaturationAdjustmentBlue | 0 |
SaturationAdjustmentGreen | 0 |
SaturationAdjustmentMagenta | 0 |
SaturationAdjustmentOrange | 0 |
SaturationAdjustmentPurple | 0 |
SaturationAdjustmentRed | 0 |
SaturationAdjustmentYellow | 0 |
Save As: JPEG
Scale: 6096%
ScaleFactor35efl | 1.0 |
Scans: 4
SceneCaptureType | Standard |
Select layer “keyline layer” Without Make Visible
SerialNumber | 1330808299 |
Set current layer To: layer
Set Layer Styles of current layer To: layer styles
Setting: “Ilford Delta 3200
Shadow: 30,6
Shadows | 16 |
ShadowTint | 0 |
Sharpen Amount: 0
Sharpen Radius: 25
Sharpen Threshold: 0
SharpenDetail | 25 |
SharpenEdgeMasking | 0 |
SharpenRadius | +1.0 |
Sharpness | 25 |
ShutterSpeed | 1/100 |
ShutterSpeedValue | 1/100 |
Size: 3 pixels
Software | Adobe Photoshop CS3 Windows |
SplitToningBalance | 0 |
SplitToningHighlightHue | 0 |
SplitToningHighlightSaturation | 0 |
SplitToningShadowHue | 0 |
SplitToningShadowSaturation | 0 |
Stroke
Stroke: stroke
SubjectDistance | 0.54 m |
Target Height: 2 cm
Target Resolution: 0 per cm
Target Width: 3 cm
Tint | -4 |
ToneCurve | 0, 0, 32, 22, 64, 56, 128, 128, 192, 196, 255, 255 |
ToneCurveName | Medium Contrast |
Top: 0 cm
true
URL_List | |
Version | 4.6 |
Vibrance | +15 |
VignetteAmount | -88 |
VignetteMidpoint | 18 |
WhiteBalance (2) | As Shot |
WhiteBalance | Auto |
With Automatic Grain Size
With Constrain Proportions
With Create New Layer
With Enabled
With Scale Styles
Without Modified
Without User Setting
“AlienSkin Exposure 2 Black and White
“Black and White Film