Felt | Verdi |
AlreadyApplied | True |
Aperture | 11.0 |
ApertureValue | 11.0 |
BitsPerSample | 8 |
BlueHue | 0 |
BlueSaturation | 0 |
Brightness | -26 |
CameraProfile | Embedded |
ChromaticAberrationB | 0 |
ChromaticAberrationR | 0 |
CircleOfConfusion | 0.019 mm |
Clarity | +38 |
ColorComponents | 3 |
ColorNoiseReduction | 0 |
Contrast | +47 |
ConvertToGrayscale | False |
CreateDate (1) | 2010:09:25 13:30:08.74+02:00 |
CreateDate | 2010:09:25 13:30:08 |
CreatorTool | Adobe Photoshop Lightroom |
CropAngle | -0.69194 |
CropBottom | 0.981114 |
CropConstrainToWarp | 0 |
CropHeight | 2015 |
CropLeft | 0.006059 |
CropRight | 0.993941 |
CropTop | 0.018886 |
CropUnit | pixels |
CropWidth | 3026 |
CustomRendered | Normal |
DateTimeDigitized | 2010:09:25 13:30:08.74+02:00 |
DateTimeOriginal (1) | 2010:09:25 13:30:08.74+02:00 |
DateTimeOriginal | 2010:09:25 13:30:08 |
Defringe | 0 |
DOF | inf (1.26 m - inf) |
ExifImageHeight | 2015 |
ExifImageWidth | 3026 |
Exposure | 0.00 |
ExposureCompensation | 0 |
ExposureMode | Auto |
ExposureProgram | Not Defined |
ExposureTime | 1/320 |
FillLight | 0 |
Firmware | 1.0.4 |
Flash | Off, Did not fire |
FlashCompensation | 0 |
FlashFired | False |
FlashFunction | False |
FlashMode | Off |
FlashRedEyeMode | False |
FlashReturn | No return detection |
FNumber | 11.0 |
FocalLength | 20.0 mm |
FocalLength35efl | 20.0 mm (35 mm equivalent: 32.3 mm) |
FOV | 58.2 deg |
GrainAmount | 0 |
GreenHue | 0 |
GreenSaturation | 0 |
HasCrop | True |
HasSettings | True |
HighlightRecovery | 0 |
HueAdjustmentAqua | 0 |
HueAdjustmentBlue | 0 |
HueAdjustmentGreen | 0 |
HueAdjustmentMagenta | 0 |
HueAdjustmentOrange | 0 |
HueAdjustmentPurple | 0 |
HueAdjustmentRed | 0 |
HueAdjustmentYellow | 0 |
HyperfocalDistance | 1.96 m |
ImageHeight | 2015 |
ImageNumber | 0 |
ImageSize | 3026x2015 |
ImageWidth | 3026 |
IncrementalTemperature | 0 |
IncrementalTint | 0 |
ISO | 200 |
Lens | EF-S18-55mm f/3.5-5.6 IS |
LensID (1) | 48 |
LensID | Canon EF-S 18-55mm f/3.5-5.6 IS |
LensInfo | 18-55mm f/? |
LensManualDistortionAmount | 0 |
LensProfileEnable | 0 |
LensProfileSetup | LensDefaults |
LightValue | 14.2 |
LuminanceAdjustmentAqua | 0 |
LuminanceAdjustmentBlue | 0 |
LuminanceAdjustmentGreen | 0 |
LuminanceAdjustmentMagenta | 0 |
LuminanceAdjustmentOrange | 0 |
LuminanceAdjustmentPurple | 0 |
LuminanceAdjustmentRed | 0 |
LuminanceAdjustmentYellow | 0 |
LuminanceSmoothing | 0 |
Make | Canon |
MaxApertureValue | 3.5 |
Megapixels | 6.1 |
MeteringMode | Multi-segment |
Model | Canon EOS 450D |
ModifyDate (1) | 2010:09:25 18:45:52+02:00 |
ModifyDate | 2010:09:25 18:45:52 |
ParametricDarks | 0 |
ParametricHighlights | 0 |
ParametricHighlightSplit | 75 |
ParametricLights | 0 |
ParametricMidtoneSplit | 50 |
ParametricShadows | 0 |
ParametricShadowSplit | 25 |
PerspectiveHorizontal | 0 |
PerspectiveRotate | 0.0 |
PerspectiveScale | 100 |
PerspectiveVertical | 0 |
PostCropVignetteAmount | -100 |
PostCropVignetteFeather | 26 |
PostCropVignetteHighlightContrast | 0 |
PostCropVignetteMidpoint | 21 |
PostCropVignetteRoundness | -100 |
PostCropVignetteStyle | 1 |
ProcessVersion | 5.7 |
ProfileDescription | sRGB IEC61966-2.1 |
RedHue | 0 |
RedSaturation | 0 |
Saturation | +13 |
SaturationAdjustmentAqua | 0 |
SaturationAdjustmentBlue | 0 |
SaturationAdjustmentGreen | 0 |
SaturationAdjustmentMagenta | 0 |
SaturationAdjustmentOrange | 0 |
SaturationAdjustmentPurple | 0 |
SaturationAdjustmentRed | 0 |
SaturationAdjustmentYellow | 0 |
ScaleFactor35efl | 1.6 |
SceneCaptureType | Standard |
SerialNumber | 680254535 |
Shadows | 14 |
ShadowTint | 0 |
SharpenDetail | 25 |
SharpenEdgeMasking | 54 |
SharpenRadius | +1.0 |
Sharpness | 22 |
ShutterSpeed | 1/320 |
ShutterSpeedValue | 1/320 |
SplitToningBalance | 0 |
SplitToningHighlightHue | 0 |
SplitToningHighlightSaturation | 0 |
SplitToningShadowHue | 0 |
SplitToningShadowSaturation | 0 |
SubjectDistance | 3.49 m |
ToneCurve | 0, 0, 255, 255 |
ToneCurveName | Linear |
Version | 6.1 |
Vibrance | +8 |
VignetteAmount | 0 |
WhiteBalance (2) | As Shot |
WhiteBalance | Auto |