Felt | Verdi |
AlreadyApplied | True |
Aperture | 10.0 |
ApertureValue | 10.0 |
Artist | unknown |
BitsPerSample | 8 |
BlueHue | 0 |
BlueSaturation | 0 |
Brightness | +36 |
By-line | unknown |
CameraProfile | ACR 4.4 |
ChromaticAberrationB | 0 |
ChromaticAberrationR | 0 |
CircleOfConfusion | 0.019 mm |
Clarity | -73 |
ColorComponents | 3 |
ColorNoiseReduction | 42 |
ColorTemperature | 7500 |
Contrast | +29 |
ConvertToGrayscale | False |
CreateDate (1) | 2010:09:19 20:17:18+02:00 |
CreateDate | 2010:09:19 20:17:18 |
Creator | unknown |
CustomRendered | Normal |
DateTimeDigitized | 2010:09:19 20:17:18+02:00 |
DateTimeOriginal (1) | 2010:09:19 20:17:18+02:00 |
DateTimeOriginal | 2010:09:19 20:17:18 |
Defringe | 0 |
ExifImageHeight | 2304 |
ExifImageWidth | 3456 |
Exposure | +0.75 |
ExposureCompensation | 0 |
ExposureMode | Manual |
ExposureProgram | Manual |
ExposureTime | 37 |
FillLight | 18 |
Firmware | 1.0.1 |
Flash | Off, Did not fire |
FlashCompensation | 0 |
FlashFired | False |
FlashFunction | False |
FlashMode | Off |
FlashRedEyeMode | False |
FlashReturn | No return detection |
FNumber | 10.0 |
FocalLength | 91.0 mm |
FocalLength35efl | 91.0 mm (35 mm equivalent: 147.6 mm) |
FOV | 13.9 deg |
GreenHue | 0 |
GreenSaturation | 0 |
HasCrop | False |
HasSettings | True |
HighlightRecovery | 0 |
HueAdjustmentAqua | 0 |
HueAdjustmentBlue | 0 |
HueAdjustmentGreen | 0 |
HueAdjustmentMagenta | 0 |
HueAdjustmentOrange | 0 |
HueAdjustmentPurple | 0 |
HueAdjustmentRed | 0 |
HueAdjustmentYellow | 0 |
HyperfocalDistance | 44.71 m |
ImageHeight | 2304 |
ImageNumber | 193 |
ImageSize | 3456x2304 |
ImageWidth | 3456 |
ISO | 200 |
Lens | 70.0-200.0 mm |
LensInfo | 70-200mm f/? |
LightValue | 0.4 |
LuminanceAdjustmentAqua | 0 |
LuminanceAdjustmentBlue | 0 |
LuminanceAdjustmentGreen | 0 |
LuminanceAdjustmentMagenta | 0 |
LuminanceAdjustmentOrange | 0 |
LuminanceAdjustmentPurple | 0 |
LuminanceAdjustmentRed | 0 |
LuminanceAdjustmentYellow | 0 |
LuminanceSmoothing | 45 |
Make | Canon |
Megapixels | 8.0 |
MeteringMode | Partial |
Model | Canon EOS 350D DIGITAL |
ModifyDate (1) | 2010:09:20 21:11:07+02:00 |
ModifyDate | 2010:09:20 21:11:07 |
OwnerName | unknown |
ParametricDarks | -8 |
ParametricHighlights | +2 |
ParametricHighlightSplit | 75 |
ParametricLights | +49 |
ParametricMidtoneSplit | 50 |
ParametricShadows | +29 |
ParametricShadowSplit | 25 |
PostCropVignetteAmount | 0 |
ProfileDescription | Adobe RGB (1998) |
RawFileName | tog3 031.CR2 |
RedHue | 0 |
RedSaturation | 0 |
Saturation | -27 |
SaturationAdjustmentAqua | 0 |
SaturationAdjustmentBlue | 0 |
SaturationAdjustmentGreen | 0 |
SaturationAdjustmentMagenta | 0 |
SaturationAdjustmentOrange | 0 |
SaturationAdjustmentPurple | 0 |
SaturationAdjustmentRed | 0 |
SaturationAdjustmentYellow | 0 |
ScaleFactor35efl | 1.6 |
SceneCaptureType | Standard |
SerialNumber | 530455266 |
Shadows | 26 |
ShadowTint | 0 |
SharpenDetail | 58 |
SharpenEdgeMasking | 0 |
SharpenRadius | +1.9 |
Sharpness | 99 |
ShutterSpeed | 37 |
ShutterSpeedValue | 37 |
SplitToningBalance | 0 |
SplitToningHighlightHue | 0 |
SplitToningHighlightSaturation | 0 |
SplitToningShadowHue | 0 |
SplitToningShadowSaturation | 0 |
Tint | +15 |
ToneCurve | 0, 0, 32, 22, 64, 56, 128, 128, 192, 196, 255, 255 |
ToneCurveName | Medium Contrast |
Version | 5.0 |
Vibrance | -44 |
VignetteAmount | -100 |
VignetteMidpoint | 50 |
WhiteBalance (2) | Auto |
WhiteBalance | Manual |