Felt | Verdi |
AlreadyApplied | True |
Aperture | 14.0 |
ApertureValue | 14.0 |
ApproximateFocusDistance | 0.38 |
Artist | Photographer: Oddvar Rune Seljen |
BitsPerSample | 8 |
BlueHue | 0 |
BlueSaturation | 0 |
Brightness | +50 |
By-line | Photographer: Oddvar Rune Seljen |
CameraProfile | Camera Standard |
ChromaticAberrationB | 0 |
ChromaticAberrationR | 0 |
CircleOfConfusion | 0.019 mm |
Clarity | 0 |
ColorComponents | 3 |
ColorMode | RGB |
ColorNoiseReduction | 63 |
ColorNoiseReductionDetail | 60 |
ColorSpace | sRGB |
ColorTemperature | 6950 |
Contrast | +53 |
ConvertToGrayscale | False |
Copyright | Oddvar Rune Seljen |
CopyrightFlag | True |
CopyrightNotice | Oddvar Rune Seljen |
CreateDate (1) | 2010:09:28 11:53:41.10+02:00 |
CreateDate | 2010:09:28 11:53:41 |
Creator | Photographer: Oddvar Rune Seljen, Oddvar Rune Seljen |
CreatorAddress | Lindset |
CreatorCity | Stryn |
CreatorCountry | Norge |
CreatorPostalCode | 6783 |
CreatorRegion | Sogn og Fjordane |
CreatorWorkEmail | oddvar.seljen@netcom.no |
CreatorWorkTelephone | 93447842 |
CreatorWorkURL | www.oddvarseljen.net |
CropAngle | 0 |
CropBottom | 0.703216 |
CropConstrainToWarp | 1 |
CropLeft | 0.354776 |
CropRight | 0.846978 |
CropTop | 0 |
CustomRendered | Normal |
DateCreated (1) | 2010:09:28 |
DateCreated | 2010:09:28 11:53:41.01 |
DateTimeOriginal | 2010:09:28 11:53:41 |
Defringe | 0 |
DOF | 0.006 m (0.377 - 0.383 m) |
ExifImageHeight | 1203 |
ExifImageWidth | 1280 |
Exposure | 0.00 |
ExposureCompensation | 0 |
ExposureMode | Manual |
ExposureProgram | Manual |
ExposureTime | 0.6 |
FillLight | 0 |
Firmware | 1.0.7 |
Flash | Off, Did not fire |
FlashCompensation | 0 |
FNumber | 14.0 |
FocalLength | 100.0 mm |
FocalLength35efl | 100.0 mm (35 mm equivalent: 158.5 mm) |
Format | image/jpeg |
FOV | 13.0 deg |
GrainAmount | 0 |
GreenHue | 0 |
GreenSaturation | 0 |
HasCrop | True |
HasSettings | True |
HighlightRecovery | 15 |
HueAdjustmentAqua | 0 |
HueAdjustmentBlue | 0 |
HueAdjustmentGreen | 0 |
HueAdjustmentMagenta | 0 |
HueAdjustmentOrange | 0 |
HueAdjustmentPurple | 0 |
HueAdjustmentRed | 0 |
HueAdjustmentYellow | 0 |
HyperfocalDistance | 37.67 m |
ICCProfileName | sRGB IEC61966-2.1 |
ImageHeight | 1203 |
ImageNumber | 0 |
ImageSize | 1280x1203 |
ImageWidth | 1280 |
ISO | 200 |
Lens | EF100mm f/2.8 Macro USM |
LensID (1) | 190 |
LensID | Canon EF 100mm f/2.8 Macro USM |
LensInfo | 100mm f/? |
LensManualDistortionAmount | 0 |
LensModel | EF100mm f/2.8 Macro USM |
LensProfileEnable | 0 |
LensProfileSetup | LensDefaults |
LightValue | 7.4 |
LuminanceAdjustmentAqua | 0 |
LuminanceAdjustmentBlue | 0 |
LuminanceAdjustmentGreen | 0 |
LuminanceAdjustmentMagenta | 0 |
LuminanceAdjustmentOrange | 0 |
LuminanceAdjustmentPurple | 0 |
LuminanceAdjustmentRed | 0 |
LuminanceAdjustmentYellow | 0 |
LuminanceNoiseReductionContrast | 56 |
LuminanceNoiseReductionDetail | 50 |
LuminanceSmoothing | 28 |
Make | Canon |
Marked | True |
MaxApertureValue | 2.8 |
Megapixels | 1.5 |
MeteringMode | Multi-segment |
Model | Canon EOS 50D |
ModifyDate (1) | 2010:09:30 12:48:32+02:00 |
ModifyDate | 2010:09:30 12:48:32 |
Orientation | Horizontal (normal) |
OwnerName | Oddvar Rune Seljen |
ParametricDarks | 0 |
ParametricHighlights | 0 |
ParametricHighlightSplit | 75 |
ParametricLights | 0 |
ParametricMidtoneSplit | 50 |
ParametricShadows | 0 |
ParametricShadowSplit | 25 |
PerspectiveHorizontal | 0 |
PerspectiveRotate | 0.0 |
PerspectiveScale | 100 |
PerspectiveVertical | 0 |
PostCropVignetteAmount | 0 |
ProcessVersion | 5.7 |
ProfileDescription | sRGB IEC61966-2.1 |
Rating | 0 |
RawFileName | IMG_5637.CR2 |
RedHue | 0 |
RedSaturation | 0 |
Rights | Oddvar Rune Seljen |
Saturation | 0 |
SaturationAdjustmentAqua | 0 |
SaturationAdjustmentBlue | 0 |
SaturationAdjustmentGreen | 0 |
SaturationAdjustmentMagenta | 0 |
SaturationAdjustmentOrange | 0 |
SaturationAdjustmentPurple | 0 |
SaturationAdjustmentRed | 0 |
SaturationAdjustmentYellow | 0 |
ScaleFactor35efl | 1.6 |
SceneCaptureType | Standard |
SensitivityType | Unknown |
SerialNumber | 1730731327 |
Shadows | 10 |
ShadowTint | 0 |
SharpenDetail | 25 |
SharpenEdgeMasking | 0 |
SharpenRadius | +1.0 |
Sharpness | 25 |
ShutterSpeed | 0.6 |
ShutterSpeedValue | 0.6 |
SidecarForExtension | CR2 |
Software | Adobe Photoshop CS5 Windows |
SplitToningBalance | 0 |
SplitToningHighlightHue | 0 |
SplitToningHighlightSaturation | 0 |
SplitToningShadowHue | 0 |
SplitToningShadowSaturation | 0 |
SubjectDistance | 0.38 m |
Tint | +19 |
ToneCurve | 0, 0, 32, 22, 64, 56, 128, 128, 192, 196, 255, 255 |
ToneCurveName | Medium Contrast |
URL_List | |
Version | 6.2 |
Vibrance | +48 |
VignetteAmount | 0 |
WhiteBalance (1) | Custom |
WhiteBalance | Auto |