Felt | Verdi |
AlreadyApplied | True |
BitsPerSample | 8 |
BlueHue | 0 |
BlueSaturation | 0 |
Brightness | +4 |
CameraProfile | Embedded |
ChromaticAberrationB | 0 |
ChromaticAberrationR | 0 |
Clarity | +36 |
ColorComponents | 1 |
ColorMode | RGB |
ColorNoiseReduction | 0 |
ColorSpace | sRGB |
Contrast | +39 |
ConvertToGrayscale | True |
CopyrightFlag | False |
CreateDate | 2010:09:12 20:40:35+02:00 |
CreatorTool | Adobe Photoshop CS3 Windows |
CropAngle | 0 |
CropBottom | 0.944444 |
CropHeight | 2856 |
CropLeft | 0.128492 |
CropRight | 0.927375 |
CropTop | 0.285185 |
CropUnit | pixels |
CropWidth | 2293 |
Defringe | 0 |
ExifImageHeight | 2856 |
ExifImageWidth | 2293 |
Exposure | 0.00 |
FillLight | 0 |
Format | image/jpeg |
GrayMixerAqua | -18 |
GrayMixerBlue | +8 |
GrayMixerGreen | -26 |
GrayMixerMagenta | +4 |
GrayMixerOrange | -18 |
GrayMixerPurple | +15 |
GrayMixerRed | -9 |
GrayMixerYellow | -22 |
GreenHue | 0 |
GreenSaturation | 0 |
HasCrop | True |
HasSettings | True |
HighlightRecovery | 36 |
ICCProfileName | sRGB IEC61966-2.1 |
ImageHeight | 2856 |
ImageSize | 2293x2856 |
ImageWidth | 2293 |
IncrementalTemperature | 0 |
IncrementalTint | 0 |
LuminanceSmoothing | 0 |
Make | Nikon |
Megapixels | 6.5 |
Model | Nikon COOLSCAN IV ED |
ModifyDate (1) | 2010:10:08 08:23:14+02:00 |
ModifyDate | 2010:10:08 08:23:14 |
Orientation | Horizontal (normal) |
ParametricDarks | -14 |
ParametricHighlights | -26 |
ParametricHighlightSplit | 75 |
ParametricLights | -5 |
ParametricMidtoneSplit | 50 |
ParametricShadows | -14 |
ParametricShadowSplit | 25 |
PostCropVignetteAmount | 0 |
ProfileDescription | sRGB IEC61966-2.1 |
RedHue | 0 |
RedSaturation | 0 |
Shadows | 38 |
ShadowTint | 0 |
SharpenDetail | 25 |
SharpenEdgeMasking | 0 |
SharpenRadius | +1.0 |
Sharpness | 0 |
Software | Adobe Photoshop CS3 Windows |
SplitToningBalance | 0 |
SplitToningHighlightHue | 0 |
SplitToningHighlightSaturation | 0 |
SplitToningShadowHue | 0 |
SplitToningShadowSaturation | 0 |
ToneCurve | 0, 0, 255, 255 |
ToneCurveName | Linear |
URL_List | |
Version | 5.7 |
VignetteAmount | 0 |
WhiteBalance | As Shot |