Felt | Verdi |
AlreadyApplied | True |
Aperture | 20.0 |
ApertureValue | 20.0 |
BitsPerSample | 8 |
BlueHue | 0 |
BlueSaturation | 0 |
Brightness | +46 |
CameraProfile | Adobe Standard |
CFAPattern | [Red,Green][Green,Blue] |
ChromaticAberrationB | 0 |
ChromaticAberrationR | 0 |
CircleOfConfusion | 0.020 mm |
Clarity | +67 |
ColorComponents | 3 |
ColorNoiseReduction | 25 |
ColorTemperature | 9433 |
Contrast (2) | +45 |
Contrast | Normal |
ConvertToGrayscale | False |
CreateDate (1) | 2010:10:09 16:53:33+02:00 |
CreateDate | 2010:10:09 16:53:33 |
CreatorTool | Adobe Photoshop Lightroom |
CropAngle | 0 |
CropBottom | 1 |
CropHeight | 852 |
CropLeft | 0.123944 |
CropRight | 1 |
CropTop | 0.129032 |
CropUnit | pixels |
CropWidth | 1280 |
CustomRendered | Normal |
DateTimeDigitized | 2010:10:09 16:53:33+02:00 |
DateTimeOriginal (1) | 2010:10:09 16:53:33+02:00 |
DateTimeOriginal | 2010:10:09 16:53:33 |
Defringe | 0 |
ExifImageHeight | 852 |
ExifImageWidth | 1280 |
Exposure | +0.29 |
ExposureCompensation | 0 |
ExposureMode | Manual |
ExposureProgram | Manual |
ExposureTime | 1.6 |
FillLight | 0 |
Flash | Off, Did not fire |
FlashFired | False |
FlashFunction | False |
FlashMode | Off |
FlashRedEyeMode | False |
FlashReturn | No return detection |
FNumber | 20.0 |
FocalLength | 50.0 mm |
FocalLength35efl | 50.0 mm (35 mm equivalent: 75.0 mm) |
FocalLengthIn35mmFormat | 75 mm |
FOV | 27.0 deg |
GreenHue | 0 |
GreenSaturation | 0 |
HasCrop | True |
HasSettings | True |
HighlightRecovery | 0 |
HueAdjustmentAqua | 0 |
HueAdjustmentBlue | 0 |
HueAdjustmentGreen | 0 |
HueAdjustmentMagenta | 0 |
HueAdjustmentOrange | 0 |
HueAdjustmentPurple | 0 |
HueAdjustmentRed | 0 |
HueAdjustmentYellow | 0 |
HyperfocalDistance | 6.24 m |
ImageHeight | 852 |
ImageSize | 1280x852 |
ImageWidth | 1280 |
ISO | 100 |
Lens | A Series Lens |
LensID (1) | 2 0 |
LensID | A Series Lens |
LightValue | 8.0 |
LuminanceAdjustmentAqua | 0 |
LuminanceAdjustmentBlue | 0 |
LuminanceAdjustmentGreen | 0 |
LuminanceAdjustmentMagenta | 0 |
LuminanceAdjustmentOrange | 0 |
LuminanceAdjustmentPurple | 0 |
LuminanceAdjustmentRed | 0 |
LuminanceAdjustmentYellow | 0 |
LuminanceSmoothing | 0 |
Make | PENTAX Corporation |
Megapixels | 1.1 |
MeteringMode | Multi-segment |
Model | PENTAX K10D |
ModifyDate (1) | 2010:10:09 22:06:29+02:00 |
ModifyDate | 2010:10:09 22:06:29 |
ParametricDarks | +10 |
ParametricHighlights | +12 |
ParametricHighlightSplit | 75 |
ParametricLights | +17 |
ParametricMidtoneSplit | 50 |
ParametricShadows | +10 |
ParametricShadowSplit | 25 |
PostCropVignetteAmount | 0 |
ProfileDescription | sRGB IEC61966-2.1 |
RedHue | 0 |
RedSaturation | 0 |
Saturation (2) | +17 |
Saturation | High |
SaturationAdjustmentAqua | 0 |
SaturationAdjustmentBlue | 0 |
SaturationAdjustmentGreen | 0 |
SaturationAdjustmentMagenta | 0 |
SaturationAdjustmentOrange | 0 |
SaturationAdjustmentPurple | 0 |
SaturationAdjustmentRed | 0 |
SaturationAdjustmentYellow | 0 |
ScaleFactor35efl | 1.5 |
SceneCaptureType | Standard |
SensingMethod | One-chip color area |
Shadows | 15 |
ShadowTint | 0 |
SharpenDetail | 25 |
SharpenEdgeMasking | 0 |
SharpenRadius | +1.0 |
Sharpness (2) | 25 |
Sharpness | Normal |
ShutterSpeed | 1.6 |
ShutterSpeedValue | 1.6 |
Software | K10D Ver 1.31 |
SplitToningBalance | 0 |
SplitToningHighlightHue | 0 |
SplitToningHighlightSaturation | 0 |
SplitToningShadowHue | 0 |
SplitToningShadowSaturation | 0 |
SubjectDistanceRange | Distant |
Tint | +1 |
ToneCurve | 0, 0, 32, 22, 64, 56, 128, 128, 192, 196, 255, 255 |
ToneCurveName | Medium Contrast |
Version | 5.3 |
Vibrance | +31 |
VignetteAmount | 0 |
WhiteBalance (2) | Custom |
WhiteBalance | Manual |