Felt | Verdi |
AlreadyApplied | True |
Aperture | 5.6 |
ApertureValue | 5.6 |
Artist | Espen Berg |
BitsPerSample | 8 |
BlueHue | 0 |
BlueSaturation | 0 |
Brightness | +50 |
By-line | Espen Berg |
CameraProfile | Adobe Standard |
ChromaticAberrationB | 0 |
ChromaticAberrationR | 0 |
CircleOfConfusion | 0.030 mm |
Clarity | +43 |
ColorComponents | 1 |
ColorMode | RGB |
ColorNoiseReduction | 25 |
ColorNoiseReductionDetail | 50 |
ColorSpace | sRGB |
ColorTemperature | 5500 |
Contrast | +25 |
ConvertToGrayscale | True |
Copyright | Espen Berg |
CopyrightFlag | True |
CopyrightNotice | Espen Berg |
CreateDate (1) | 2010:10:09 13:29:35+02:00 |
CreateDate | 2010:10:09 13:29:35 |
Creator | Espen Berg |
CreatorTool | Adobe Photoshop CS5 Windows |
CreatorWorkEmail | espenb2@frisurf.no |
CropAngle | 5.15916 |
CropBottom | 0.842565 |
CropConstrainToWarp | 0 |
CropHeight | 1941 |
CropLeft | 0.20864 |
CropRight | 0.960034 |
CropTop | 0.071423 |
CropUnit | pixels |
CropWidth | 3471 |
CustomRendered | Normal |
DateCreated (1) | 2010:10:09 |
DateCreated | 2010:10:09 13:29:35 |
DateTimeOriginal | 2010:10:09 13:29:35 |
Defringe | 0 |
ExifImageHeight | 615 |
ExifImageWidth | 1100 |
Exposure | 0.00 |
ExposureCompensation | 0 |
ExposureMode | Auto |
ExposureProgram | Shutter speed priority AE |
ExposureTime | 1/200 |
FillLight | 0 |
Firmware | 1.1.1 |
Flash | Off, Did not fire |
FlashCompensation | 0 |
FNumber | 5.6 |
FocalLength | 165.0 mm |
FocalLength35efl | 165.0 mm (35 mm equivalent: 165.3 mm) |
Format | image/jpeg |
FOV | 12.4 deg |
GrainAmount | 0 |
GrayMixerAqua | -17 |
GrayMixerBlue | +14 |
GrayMixerGreen | -29 |
GrayMixerMagenta | +4 |
GrayMixerOrange | -22 |
GrayMixerPurple | +19 |
GrayMixerRed | -12 |
GrayMixerYellow | -26 |
GreenHue | 0 |
GreenSaturation | 0 |
HasCrop | True |
HasSettings | True |
HierarchicalSubject | Kite. |
HighlightRecovery | 0 |
HyperfocalDistance | 162.14 m |
ICCProfileName | sRGB IEC61966-2.1 |
ImageHeight (1) | 1941 |
ImageHeight | 615 |
ImageNumber | 230 |
ImageSize | 1100x615 |
ImageWidth (1) | 3471 |
ImageWidth | 1100 |
ISO | 640 |
Keywords | Kite. |
Lens | EF70-200mm f/4L IS USM |
LensID (1) | 242 |
LensID | Canon EF 70-200mm f/4L IS USM |
LensInfo | 70-200mm f/? |
LensManualDistortionAmount | 0 |
LensModel | EF70-200mm f/4L IS USM |
LensProfileEnable | 0 |
LensProfileSetup | LensDefaults |
LightValue | 9.9 |
LuminanceSmoothing | 0 |
Make | Canon |
Marked | True |
MaxApertureValue | 4.0 |
Megapixels | 0.676 |
MeteringMode | Unknown |
Model | Canon EOS 5D |
ModifyDate (1) | 2010:10:09 16:53:59+02:00 |
ModifyDate | 2010:10:09 16:53:59 |
Orientation | Horizontal (normal) |
ParametricDarks | -3 |
ParametricHighlights | 0 |
ParametricHighlightSplit | 75 |
ParametricLights | +6 |
ParametricMidtoneSplit | 50 |
ParametricShadows | 0 |
ParametricShadowSplit | 25 |
PerspectiveHorizontal | 0 |
PerspectiveRotate | 0.0 |
PerspectiveScale | 100 |
PerspectiveVertical | 0 |
PostCropVignetteAmount | 0 |
ProcessVersion | 5.7 |
ProfileDescription | sRGB IEC61966-2.1 |
Rating | 3 |
RedHue | 0 |
RedSaturation | 0 |
Rights | Espen Berg |
ScaleFactor35efl | 1.0 |
SceneCaptureType | Standard |
SensitivityType | Unknown |
SerialNumber | 730402007 |
Shadows | 5 |
ShadowTint | 0 |
SharpenDetail | 25 |
SharpenEdgeMasking | 0 |
SharpenRadius | +1.0 |
Sharpness | 25 |
ShutterSpeed | 1/200 |
ShutterSpeedValue | 1/200 |
Software | Adobe Photoshop CS5 Windows |
SplitToningBalance | 0 |
SplitToningHighlightHue | 0 |
SplitToningHighlightSaturation | 0 |
SplitToningShadowHue | 0 |
SplitToningShadowSaturation | 0 |
Subject | Kite. |
Tint | +2 |
ToneCurve | 0, 0, 32, 22, 64, 56, 128, 128, 192, 196, 255, 255 |
ToneCurveName | Medium Contrast |
URL_List | |
Version | 6.2 |
VignetteAmount | 0 |
WhiteBalance (1) | As Shot |
WhiteBalance | Auto |