Felt | Verdi |
AlreadyApplied | True |
Aperture | 8.0 |
ApertureValue | 8.0 |
ApproximateFocusDistance | 0.46 |
Artist | Photographer:Dirk Rosin |
BitsPerSample | 8 |
BlueHue | 0 |
BlueSaturation | 0 |
Brightness | +86 |
By-line | Dirk Rosin |
CameraProfile | Adobe Standard |
ChromaticAberrationB | 0 |
ChromaticAberrationR | 0 |
CircleOfConfusion | 0.019 mm |
Clarity | +33 |
ColorComponents | 3 |
ColorNoiseReduction | 97 |
ColorNoiseReductionDetail | 70 |
ColorTemperature | 3550 |
Contrast | +51 |
ConvertToGrayscale | False |
Copyright | Dirk Rosin |
CopyrightFlag | True |
CopyrightNotice | Dirk Rosin |
CreateDate (1) | 2010:10:13 20:30:12.33+02:00 |
CreateDate | 2010:10:13 20:30:12 |
Creator | Dirk Rosin |
CreatorCountry | Norway |
CreatorTool | Adobe Photoshop Lightroom |
CreatorWorkEmail | dirkrosin@msn.com |
CreatorWorkURL | http://dirkrosin.com |
CropAngle | 0 |
CropBottom | 0.944853 |
CropConstrainToWarp | 0 |
CropHeight | 624 |
CropLeft | 0.039216 |
CropRight | 0.958333 |
CropTop | 0.084559 |
CropUnit | pixels |
CropWidth | 1000 |
CustomRendered | Normal |
DateTimeDigitized | 2010:10:13 20:30:12.33+02:00 |
DateTimeOriginal (1) | 2010:10:13 20:30:12.33+02:00 |
DateTimeOriginal | 2010:10:13 20:30:12 |
Defringe | 0 |
DOF | 0.017 m (0.452 - 0.468 m) |
ExifImageHeight | 624 |
ExifImageWidth | 1000 |
Exposure | -0.65 |
ExposureCompensation | 0 |
ExposureMode | Manual |
ExposureProgram | Manual |
ExposureTime | 1/125 |
FillLight | 31 |
Firmware | 1.0.7 |
Flash | On, Fired |
FlashCompensation | 0 |
FlashFired | True |
FlashFunction | False |
FlashMode | On |
FlashRedEyeMode | False |
FlashReturn | No return detection |
FNumber | 8.0 |
FocalLength | 58.0 mm |
FocalLength35efl | 58.0 mm (35 mm equivalent: 91.9 mm) |
FOV | 22.2 deg |
GrainAmount | 0 |
GreenHue | 0 |
GreenSaturation | 0 |
HasCrop | True |
HasSettings | True |
HighlightRecovery | 11 |
HueAdjustmentAqua | 0 |
HueAdjustmentBlue | 0 |
HueAdjustmentGreen | 0 |
HueAdjustmentMagenta | 0 |
HueAdjustmentOrange | 0 |
HueAdjustmentPurple | 0 |
HueAdjustmentRed | 0 |
HueAdjustmentYellow | 0 |
HyperfocalDistance | 22.18 m |
ImageHeight | 624 |
ImageNumber | 0 |
ImageSize | 1000x624 |
ImageWidth | 1000 |
ISO | 100 |
Label | fertig |
Lens | 17-70mm |
LensID (1) | 137 |
LensID | Sigma 17-70mm f/2.8-4 DC Macro OS HSM | C |
LensInfo | 17-70mm f/? |
LensManualDistortionAmount | 0 |
LensModel | 17-70mm |
LensProfileEnable | 0 |
LensProfileSetup | LensDefaults |
LightValue | 13.0 |
LuminanceAdjustmentAqua | 0 |
LuminanceAdjustmentBlue | 0 |
LuminanceAdjustmentGreen | 0 |
LuminanceAdjustmentMagenta | 0 |
LuminanceAdjustmentOrange | 0 |
LuminanceAdjustmentPurple | 0 |
LuminanceAdjustmentRed | 0 |
LuminanceAdjustmentYellow | 0 |
LuminanceNoiseReductionContrast | 88 |
LuminanceNoiseReductionDetail | 64 |
LuminanceSmoothing | 69 |
Make | Canon |
Marked | True |
MaxApertureValue | 4.0 |
Megapixels | 0.624 |
MeteringMode | Partial |
Model | Canon EOS 50D |
ModifyDate (1) | 2010:10:13 22:29:56+02:00 |
ModifyDate | 2010:10:13 22:29:56 |
OwnerName | Dirk Rosin |
ParametricDarks | +52 |
ParametricHighlights | +45 |
ParametricHighlightSplit | 75 |
ParametricLights | +52 |
ParametricMidtoneSplit | 50 |
ParametricShadows | +17 |
ParametricShadowSplit | 25 |
PerspectiveHorizontal | 0 |
PerspectiveRotate | 0.0 |
PerspectiveScale | 100 |
PerspectiveVertical | 0 |
PostCropVignetteAmount | 0 |
ProcessVersion | 5.7 |
ProfileDescription | ProPhoto RGB |
Rating | 1 |
RedHue | 0 |
RedSaturation | 0 |
Rights | Dirk Rosin |
Saturation | +100 |
SaturationAdjustmentAqua | 0 |
SaturationAdjustmentBlue | 0 |
SaturationAdjustmentGreen | 0 |
SaturationAdjustmentMagenta | 0 |
SaturationAdjustmentOrange | -8 |
SaturationAdjustmentPurple | 0 |
SaturationAdjustmentRed | 0 |
SaturationAdjustmentYellow | -96 |
ScaleFactor35efl | 1.6 |
SceneCaptureType | Standard |
SensitivityType | Unknown |
SerialNumber | 730401017 |
Shadows | 81 |
ShadowTint | 0 |
SharpenDetail | 25 |
SharpenEdgeMasking | 0 |
SharpenRadius | +1.0 |
Sharpness | 25 |
ShutterSpeed | 1/125 |
ShutterSpeedValue | 1/125 |
SplitToningBalance | +40 |
SplitToningHighlightHue | 0 |
SplitToningHighlightSaturation | 0 |
SplitToningShadowHue | 222 |
SplitToningShadowSaturation | 32 |
SubjectDistance | 0.46 m |
Tint | 0 |
ToneCurve | 0, 0, 32, 22, 64, 56, 128, 128, 192, 196, 255, 255 |
ToneCurveName | Medium Contrast |
Version | 6.2 |
Vibrance | -38 |
VignetteAmount | +100 |
VignetteMidpoint | 0 |
WhiteBalance | Auto |