Felt | Verdi |
AlreadyApplied | True |
Aperture | 8.0 |
ApertureValue | 8.0 |
ApproximateFocusDistance | 4294967295 |
BitsPerSample | 8 |
BlueHue | 0 |
BlueSaturation | 0 |
Brightness | 0 |
CameraProfile | Embedded |
CFAPattern | [Red,Green][Green,Blue] |
ChromaticAberrationB | 0 |
ChromaticAberrationR | 0 |
CircleOfConfusion | 0.020 mm |
Clarity | +44 |
ColorComponents | 1 |
ColorNoiseReduction | 0 |
Contrast (2) | -4 |
Contrast | Normal |
ConvertToGrayscale | False |
CreateDate (1) | 2010:10:10 10:15:27.91+02:00 |
CreateDate | 2010:10:10 10:15:27 |
CreatorTool | Adobe Photoshop Lightroom |
CropAngle | 0 |
CropBottom | 1 |
CropConstrainToWarp | 0 |
CropHeight | 1000 |
CropLeft | 0 |
CropRight | 1 |
CropTop | 0.078947 |
CropUnit | pixels |
CropWidth | 721 |
CustomRendered | Normal |
DateTimeDigitized | 2010:10:10 10:15:27.91+02:00 |
DateTimeOriginal (1) | 2010:10:10 10:15:27.91+02:00 |
DateTimeOriginal | 2010:10:10 10:15:27 |
Defringe | 0 |
DigitalZoomRatio | 1 |
DOF | inf (7.57 m - inf) |
ExifImageHeight | 1000 |
ExifImageWidth | 721 |
Exposure | -0.08 |
ExposureCompensation | +2 |
ExposureMode | Manual |
ExposureProgram | Manual |
ExposureTime | 1/250 |
FillLight | 29 |
Flash | No Flash |
FlashFired | False |
FlashFunction | False |
FlashMode | Unknown |
FlashRedEyeMode | False |
FlashReturn | No return detection |
FNumber | 8.0 |
FocalLength | 35.0 mm |
FocalLength35efl | 35.0 mm (35 mm equivalent: 52.0 mm) |
FocalLengthIn35mmFormat | 52 mm |
FOV | 38.2 deg |
GainControl | None |
GradientBasedCorrActive | true |
GradientBasedCorrAmount | 1.000000 |
GradientBasedCorrBrightness | -0.261000 |
GradientBasedCorrClarity | 0.450000 |
GradientBasedCorrContrast | 0.616000 |
GradientBasedCorrExposure | -0.094000 |
GradientBasedCorrHue | 0.000000 |
GradientBasedCorrMaskFullX | 0.471366 |
GradientBasedCorrMaskFullY | -0.007310 |
GradientBasedCorrMaskValue | 1.000000 |
GradientBasedCorrMaskWhat | Mask/Gradient |
GradientBasedCorrMaskZeroX | 0.471366 |
GradientBasedCorrMaskZeroY | 0.204678 |
GradientBasedCorrSaturation (1) | -1.000000 |
GradientBasedCorrSaturation | 0.000000 |
GradientBasedCorrSharpness | 0.291000 |
GradientBasedCorrWhat | Correction |
GrainAmount | 0 |
GreenHue | 0 |
GreenSaturation | 0 |
HasCrop | True |
HasSettings | True |
HighlightRecovery | 37 |
HueAdjustmentAqua | 0 |
HueAdjustmentBlue | 0 |
HueAdjustmentGreen | 0 |
HueAdjustmentMagenta | 0 |
HueAdjustmentOrange | 0 |
HueAdjustmentPurple | 0 |
HueAdjustmentRed | 0 |
HueAdjustmentYellow | 0 |
HyperfocalDistance | 7.57 m |
ImageHeight | 1000 |
ImageNumber | 8943 |
ImageSize | 721x1000 |
ImageWidth | 721 |
IncrementalTemperature | 0 |
IncrementalTint | 0 |
ISO | 200 |
Lens | 35.0 mm f/2.0 |
LensID (1) | 66 |
LensID | AF Nikkor 35mm f/2D |
LensInfo | 35mm f/2 |
LensManualDistortionAmount | 0 |
LensModel | 35.0 mm f/2.0 |
LensProfileEnable | 0 |
LensProfileSetup | LensDefaults |
LightSource | Fine Weather |
LightValue | 13.0 |
LuminanceAdjustmentAqua | 0 |
LuminanceAdjustmentBlue | 0 |
LuminanceAdjustmentGreen | 0 |
LuminanceAdjustmentMagenta | 0 |
LuminanceAdjustmentOrange | 0 |
LuminanceAdjustmentPurple | 0 |
LuminanceAdjustmentRed | 0 |
LuminanceAdjustmentYellow | 0 |
LuminanceSmoothing | 0 |
Make | NIKON CORPORATION |
MaxApertureValue | 2.0 |
Megapixels | 0.721 |
MeteringMode | Center-weighted average |
Model | NIKON D300 |
ModifyDate (1) | 2010:10:14 21:57:15+02:00 |
ModifyDate | 2010:10:14 21:57:15 |
PaintCorrectionActive | true |
PaintCorrectionAmount | 1.000000 |
PaintCorrectionBrightness | 0.261000 |
PaintCorrectionClarity | 0.450000 |
PaintCorrectionContrast | 0.616000 |
PaintCorrectionExposure | 0.300000 |
PaintCorrectionHue | 0.000000 |
PaintCorrectionMaskCenterWeight | 0.057770 |
PaintCorrectionMaskFlow | 1.000000 |
PaintCorrectionMaskRadius | 0.066861 |
PaintCorrectionMaskValue | 1.000000 |
PaintCorrectionMaskWhat | Mask/Paint |
PaintCorrectionSaturation (1) | -1.000000 |
PaintCorrectionSaturation | 0.000000 |
PaintCorrectionSharpness | 0.291000 |
PaintCorrectionWhat | Correction |
ParametricDarks | -6 |
ParametricHighlights | +31 |
ParametricHighlightSplit | 75 |
ParametricLights | -40 |
ParametricMidtoneSplit | 50 |
ParametricShadows | -3 |
ParametricShadowSplit | 25 |
PerspectiveHorizontal | 0 |
PerspectiveRotate | 0.0 |
PerspectiveScale | 100 |
PerspectiveVertical | 0 |
PostCropVignetteAmount | 0 |
ProcessVersion | 5.7 |
ProfileDescription | sRGB IEC61966-2.1 |
RedHue | 0 |
RedSaturation | 0 |
Saturation (2) | 0 |
Saturation | High |
SaturationAdjustmentAqua | 0 |
SaturationAdjustmentBlue | 0 |
SaturationAdjustmentGreen | 0 |
SaturationAdjustmentMagenta | 0 |
SaturationAdjustmentOrange | 0 |
SaturationAdjustmentPurple | 0 |
SaturationAdjustmentRed | 0 |
SaturationAdjustmentYellow | 0 |
ScaleFactor35efl | 1.5 |
SceneCaptureType | Standard |
SceneType | Directly photographed |
SensingMethod | One-chip color area |
SensitivityType | Unknown |
SerialNumber | 4020049 |
Shadows | 19 |
ShadowTint | 0 |
SharpenDetail | 25 |
SharpenEdgeMasking | 0 |
SharpenRadius | +1.0 |
Sharpness (2) | 0 |
Sharpness | Hard |
ShutterSpeed | 1/250 |
ShutterSpeedValue | 1/250 |
Software | Ver.1.00 |
SplitToningBalance | 0 |
SplitToningHighlightHue | 0 |
SplitToningHighlightSaturation | 0 |
SplitToningShadowHue | 0 |
SplitToningShadowSaturation | 0 |
SubjectDistance | 4294967295 m |
SubjectDistanceRange | Unknown |
ToneCurve | 0, 0, 255, 255 |
ToneCurveName | Linear |
Version | 6.2 |
Vibrance | 0 |
VignetteAmount | 0 |
WhiteBalance (2) | As Shot |
WhiteBalance | Manual |