Felt | Verdi |
AlreadyApplied | True |
Aperture | 5.3 |
ApertureValue | 5.3 |
Artist | Stian Rekdal |
BitsPerSample (1) | 8 8 8 |
BitsPerSample | 8 |
BlueHue | -9 |
BlueSaturation | 0 |
Brightness | +50 |
By-line | Stian Rekdal |
CameraProfile | ACR 4.4 |
Caption-Abstract | Scene from the boardwalk in front of City Hall in London, England on a rainy night. |
CaptionWriter | Stian Rekdal |
CFAPattern | [Green,Blue][Red,Green] |
ChromaticAberrationB | 0 |
ChromaticAberrationR | 0 |
CircleOfConfusion | 0.020 mm |
City | London |
Clarity | +74 |
ColorComponents | 3 |
ColorMode | RGB |
ColorNoiseReduction | 46 |
ColorSpace | Uncalibrated |
ColorTemperature | 3600 |
Contrast (1) | +50 |
Contrast | Normal |
ConvertToGrayscale | False |
Copyright | © 2010 Stian Rekdal - All Rights Reserved |
CopyrightFlag | True |
CopyrightNotice | © 2010 Stian Rekdal - All Rights Reserved |
Country | England |
Country-PrimaryLocationName | England |
CreateDate (1) | 2010:03:23 20:50:58.60Z |
CreateDate | 2010:03:23 20:50:58 |
Creator | Stian Rekdal |
CreatorTool | Adobe Photoshop CS4 Windows |
CustomRendered | Normal |
DateCreated (1) | 2010:03:23 |
DateCreated | 2010:03:23 20:50:58.06 |
DateTimeOriginal | 2010:03:23 20:50:58 |
Defringe | 0 |
Description | Scene from the boardwalk in front of City Hall in London, England on a rainy night. |
DigitalZoomRatio | 1 |
ExifImageHeight | 1024 |
ExifImageWidth | 686 |
Exposure | +0.50 |
ExposureCompensation | 0 |
ExposureMode | Auto |
ExposureProgram | Not Defined |
ExposureTime | 1/15 |
FillLight | 5 |
Flash | Off, Did not fire |
FNumber | 5.3 |
FocalLength | 165.0 mm |
FocalLength35efl | 165.0 mm (35 mm equivalent: 247.0 mm) |
FocalLengthIn35mmFormat | 247 mm |
Format | image/jpeg |
FOV | 8.3 deg |
GainControl | High gain up |
GreenHue | -35 |
GreenSaturation | 0 |
HasCrop | False |
HasSettings | True |
HierarchicalSubject | architecture, attraction, britain, british, building, city, cityscape, contemporary, england, english, europe, evening, great, haze, illuminated, kingdom, landmark, lights, london, modern, new, night, nighttime, pedestrian, rain, river, round, sidewalk, sightseeing, sky, skyline, thames, tourism, tourist, travel, uk, umbrella, united, view |
HighlightRecovery | 0 |
HueAdjustmentAqua | 0 |
HueAdjustmentBlue | 0 |
HueAdjustmentGreen | 0 |
HueAdjustmentMagenta | 0 |
HueAdjustmentOrange | 0 |
HueAdjustmentPurple | 0 |
HueAdjustmentRed | 0 |
HueAdjustmentYellow | 0 |
HyperfocalDistance | 255.93 m |
ICCProfileName | Adobe RGB (1998) |
ImageDescription | Scene from the boardwalk in front of City Hall in London, England on a rainy night. |
ImageHeight (1) | 3872 |
ImageHeight | 1024 |
ImageNumber | 12177 |
ImageSize | 686x1024 |
ImageWidth (1) | 2592 |
ImageWidth | 686 |
ISO | 1600 |
Keywords | architecture, attraction, britain, british, building, city, cityscape, contemporary, england, english, europe, evening, great, haze, illuminated, kingdom, landmark, lights, london, modern, new, night, nighttime, pedestrian, rain, river, round, sidewalk, sightseeing, sky, skyline, thames, tourism, tourist, travel, uk, umbrella, united, view |
Label | ENG006F |
Lens | 70.0-300.0 mm f/4.0-5.6 |
LensInfo | 70-300mm f/4-5.6 |
LightSource | Unknown |
LightValue | 4.7 |
Location | London, England |
LuminanceAdjustmentAqua | 0 |
LuminanceAdjustmentBlue | 0 |
LuminanceAdjustmentGreen | 0 |
LuminanceAdjustmentMagenta | 0 |
LuminanceAdjustmentOrange | 0 |
LuminanceAdjustmentPurple | 0 |
LuminanceAdjustmentRed | 0 |
LuminanceAdjustmentYellow | 0 |
LuminanceSmoothing | 25 |
Make | NIKON CORPORATION |
Marked | True |
MaxApertureValue | 5.1 |
Megapixels | 0.702 |
MeteringMode | Multi-segment |
Model | NIKON D40X |
ModifyDate (1) | 2010:10:30 08:46:36+02:00 |
ModifyDate | 2010:10:30 08:46:36 |
ObjectName | Along the River |
Orientation | Horizontal (normal) |
ParametricDarks | +21 |
ParametricHighlights | +23 |
ParametricHighlightSplit | 75 |
ParametricLights | -53 |
ParametricMidtoneSplit | 50 |
ParametricShadows | -30 |
ParametricShadowSplit | 25 |
PhotometricInterpretation | RGB |
PostCropVignetteAmount | 0 |
ProfileDescription | Adobe RGB (1998) |
RawFileName | 100323-0246.NEF |
RedHue | -24 |
RedSaturation | +27 |
Rights | © 2010 Stian Rekdal - All Rights Reserved |
Saturation (1) | +1 |
Saturation | Normal |
SaturationAdjustmentAqua | 0 |
SaturationAdjustmentBlue | 0 |
SaturationAdjustmentGreen | 0 |
SaturationAdjustmentMagenta | 0 |
SaturationAdjustmentOrange | 0 |
SaturationAdjustmentPurple | 0 |
SaturationAdjustmentRed | 0 |
SaturationAdjustmentYellow | 0 |
ScaleFactor35efl | 1.5 |
SceneCaptureType | Standard |
SceneType | Directly photographed |
SensingMethod | One-chip color area |
SerialNumber | 6192069 |
Shadows | 15 |
ShadowTint | -33 |
SharpenDetail | 25 |
SharpenEdgeMasking | 8 |
SharpenRadius | +1.2 |
Sharpness (1) | 43 |
Sharpness | Normal |
ShutterSpeed | 1/15 |
ShutterSpeedValue | 1/15 |
SidecarForExtension | NEF |
Software | Adobe Photoshop CS5 Windows |
SplitToningBalance | +30 |
SplitToningHighlightHue | 0 |
SplitToningHighlightSaturation | 30 |
SplitToningShadowHue | 0 |
SplitToningShadowSaturation | 0 |
Sub-location | London, England |
Subject | architecture, attraction, britain, british, building, city, cityscape, contemporary, england, english, europe, evening, great, haze, illuminated, kingdom, landmark, lights, london, modern, new, night, nighttime, pedestrian, rain, river, round, sidewalk, sightseeing, sky, skyline, thames, tourism, tourist, travel, uk, umbrella, united, view |
SubjectDistanceRange | Unknown |
Tint | -30 |
Title | Along the River |
ToneCurve | 0, 0, 32, 22, 64, 56, 128, 128, 192, 196, 255, 255 |
ToneCurveName | Medium Contrast |
URL_List | |
Version | 5.0 |
Vibrance | +10 |
VignetteAmount | -90 |
VignetteMidpoint | 30 |
WhiteBalance (1) | Custom |
WhiteBalance | Auto |
Writer-Editor | Stian Rekdal |