Felt | Verdi |
AlreadyApplied | True |
Aperture | 5.0 |
ApertureValue | 5.0 |
Artist | Bjorn Saetnan |
BitsPerSample | 8 |
BlueHue | 0 |
BlueSaturation | 0 |
Brightness | -14 |
By-line | Bjorn Saetnan |
CameraProfile | Embedded |
ChromaticAberrationB | 0 |
ChromaticAberrationR | 0 |
CircleOfConfusion | 0.019 mm |
Clarity | +40 |
ColorComponents | 3 |
ColorNoiseReduction | 28 |
Contrast | +7 |
ConvertToGrayscale | False |
Copyright | Klenodium Design |
CopyrightNotice | Klenodium Design |
CreateDate (1) | 2010:11:09 13:02:18.00+01:00 |
CreateDate | 2010:11:09 13:02:18 |
Creator | Bjorn Saetnan |
CreatorTool | Adobe Photoshop Lightroom |
CustomRendered | Normal |
DateTimeDigitized | 2010:11:09 13:02:18.00+01:00 |
DateTimeOriginal (1) | 2010:11:09 13:02:18.00+01:00 |
DateTimeOriginal | 2010:11:09 13:02:18 |
Defringe | 0 |
ExifImageHeight | 1080 |
ExifImageWidth | 720 |
Exposure | -0.10 |
ExposureCompensation | 0 |
ExposureMode | Auto |
ExposureProgram | Program AE |
ExposureTime | 1/200 |
FillLight | 6 |
Firmware | 1.2.2 |
Flash | Off, Did not fire |
FlashCompensation | 0 |
FlashFired | False |
FlashFunction | False |
FlashMode | Off |
FlashRedEyeMode | False |
FlashReturn | No return detection |
FNumber | 5.0 |
FocalLength | 50.0 mm |
FocalLength35efl | 50.0 mm (35 mm equivalent: 78.5 mm) |
FOV | 25.8 deg |
GreenHue | 0 |
GreenSaturation | 0 |
HasCrop | False |
HasSettings | True |
HighlightRecovery | 25 |
HueAdjustmentAqua | +7 |
HueAdjustmentBlue | +23 |
HueAdjustmentGreen | 0 |
HueAdjustmentMagenta | -15 |
HueAdjustmentOrange | +32 |
HueAdjustmentPurple | -9 |
HueAdjustmentRed | -23 |
HueAdjustmentYellow | -26 |
HyperfocalDistance | 26.13 m |
ImageHeight | 1080 |
ImageNumber | 0 |
ImageSize | 720x1080 |
ImageWidth | 720 |
IncrementalTemperature | +21 |
IncrementalTint | -52 |
ISO | 200 |
Lens | EF50mm f/1.8 II |
LensID (1) | 29 |
LensID | Canon EF 50mm f/1.8 II |
LensInfo | 50mm f/? |
LightValue | 11.3 |
LuminanceAdjustmentAqua | -60 |
LuminanceAdjustmentBlue | -55 |
LuminanceAdjustmentGreen | -7 |
LuminanceAdjustmentMagenta | -13 |
LuminanceAdjustmentOrange | -13 |
LuminanceAdjustmentPurple | -28 |
LuminanceAdjustmentRed | -2 |
LuminanceAdjustmentYellow | -13 |
LuminanceSmoothing | 0 |
Make | Canon |
MaxApertureValue | 1.8 |
Megapixels | 0.778 |
MeteringMode | Multi-segment |
Model | Canon EOS 7D |
ModifyDate (1) | 2010:11:03 19:27:36+01:00 |
ModifyDate | 2010:11:03 19:27:36 |
ParametricDarks | -27 |
ParametricHighlights | -30 |
ParametricHighlightSplit | 75 |
ParametricLights | 0 |
ParametricMidtoneSplit | 50 |
ParametricShadows | 0 |
ParametricShadowSplit | 25 |
PostCropVignetteAmount | -17 |
PostCropVignetteFeather | 100 |
PostCropVignetteMidpoint | 0 |
PostCropVignetteRoundness | -33 |
ProfileDescription | sRGB IEC61966-2.1 |
RedHue | 0 |
RedSaturation | 0 |
Rights | Klenodium Design |
Saturation | -21 |
SaturationAdjustmentAqua | +69 |
SaturationAdjustmentBlue | +86 |
SaturationAdjustmentGreen | -55 |
SaturationAdjustmentMagenta | +15 |
SaturationAdjustmentOrange | +38 |
SaturationAdjustmentPurple | +32 |
SaturationAdjustmentRed | -2 |
SaturationAdjustmentYellow | +26 |
ScaleFactor35efl | 1.6 |
SceneCaptureType | Standard |
SerialNumber | 1380809117 |
Shadows | 4 |
ShadowTint | 0 |
SharpenDetail | 50 |
SharpenEdgeMasking | 0 |
SharpenRadius | +1.0 |
Sharpness | 0 |
ShutterSpeed | 1/200 |
ShutterSpeedValue | 1/200 |
SplitToningBalance | +85 |
SplitToningHighlightHue | 0 |
SplitToningHighlightSaturation | 0 |
SplitToningShadowHue | 360 |
SplitToningShadowSaturation | 67 |
ToneCurve | 0, 0, 255, 255 |
ToneCurveName | Linear |
Version | 5.7 |
Vibrance | -5 |
VignetteAmount | -100 |
VignetteMidpoint | 20 |
WhiteBalance (2) | Custom |
WhiteBalance | Auto |