Felt | Verdi |
AlreadyApplied | True |
Aperture | 11.0 |
ApertureValue | 11.0 |
BitsPerSample | 8 |
BlueHue | 0 |
BlueSaturation | 0 |
Brightness | +50 |
CameraProfile | Adobe Standard |
ChromaticAberrationB | 0 |
ChromaticAberrationR | 0 |
CircleOfConfusion | 0.019 mm |
Clarity | +47 |
ColorComponents | 3 |
ColorNoiseReduction | 25 |
ColorNoiseReductionDetail | 50 |
ColorTemperature | 6300 |
Contrast | +25 |
ConvertToGrayscale | False |
CreateDate (1) | 2010:06:15 22:10:34.11+02:00 |
CreateDate | 2010:06:15 22:10:34 |
CreatorTool | Adobe Photoshop Lightroom |
CropAngle | -1.6327 |
CropBottom | 0.858986 |
CropConstrainToWarp | 0 |
CropHeight | 800 |
CropLeft | 0.033278 |
CropRight | 0.818284 |
CropTop | 0.145976 |
CropUnit | pixels |
CropWidth | 1240 |
CustomRendered | Normal |
DateTimeDigitized | 2010:06:15 22:10:34.11+02:00 |
DateTimeOriginal (1) | 2010:06:15 22:10:34.11+02:00 |
DateTimeOriginal | 2010:06:15 22:10:34 |
Defringe | 0 |
DOF | 0.007 m (0.507 - 0.513 m) |
ExifImageHeight | 800 |
ExifImageWidth | 1240 |
Exposure | +0.97 |
ExposureCompensation | 0 |
ExposureMode | Manual |
ExposureProgram | Manual |
ExposureTime | 1/200 |
FillLight | 0 |
Firmware | 1.0.3 |
Flash | On, Fired |
FlashCompensation | 0 |
FlashFired | True |
FlashFunction | False |
FlashMode | On |
FlashRedEyeMode | False |
FlashReturn | No return detection |
FNumber | 11.0 |
FocalLength | 110.0 mm |
FocalLength35efl | 110.0 mm (35 mm equivalent: 178.1 mm) |
FOV | 11.5 deg |
GrainAmount | 0 |
GreenHue | 0 |
GreenSaturation | 0 |
HasCrop | True |
HasSettings | True |
HighlightRecovery | 0 |
HueAdjustmentAqua | 0 |
HueAdjustmentBlue | 0 |
HueAdjustmentGreen | 0 |
HueAdjustmentMagenta | 0 |
HueAdjustmentOrange | 0 |
HueAdjustmentPurple | 0 |
HueAdjustmentRed | 0 |
HueAdjustmentYellow | 0 |
HyperfocalDistance | 59.26 m |
ImageHeight | 800 |
ImageNumber | 0 |
ImageSize | 1240x800 |
ImageWidth | 1240 |
ISO | 100 |
Lens | EF28-200mm f/3.5-5.6 USM |
LensID (1) | 211 |
LensID | Canon EF 28-200mm f/3.5-5.6 USM |
LensInfo | 28-200mm f/? |
LensManualDistortionAmount | 0 |
LensProfileEnable | 0 |
LensProfileSetup | LensDefaults |
LightValue | 14.6 |
LuminanceAdjustmentAqua | 0 |
LuminanceAdjustmentBlue | 0 |
LuminanceAdjustmentGreen | 0 |
LuminanceAdjustmentMagenta | 0 |
LuminanceAdjustmentOrange | 0 |
LuminanceAdjustmentPurple | 0 |
LuminanceAdjustmentRed | 0 |
LuminanceAdjustmentYellow | 0 |
LuminanceNoiseReductionContrast | 0 |
LuminanceNoiseReductionDetail | 50 |
LuminanceSmoothing | 54 |
Make | Canon |
MaxApertureValue | 5.7 |
Megapixels | 0.992 |
MeteringMode | Multi-segment |
Model | Canon EOS 1000D |
ModifyDate (1) | 2010:11:05 00:27:40+01:00 |
ModifyDate | 2010:11:05 00:27:40 |
ParametricDarks | -16 |
ParametricHighlights | +9 |
ParametricHighlightSplit | 75 |
ParametricLights | -14 |
ParametricMidtoneSplit | 50 |
ParametricShadows | -22 |
ParametricShadowSplit | 25 |
PerspectiveHorizontal | 0 |
PerspectiveRotate | 0.0 |
PerspectiveScale | 100 |
PerspectiveVertical | 0 |
PostCropVignetteAmount | 0 |
ProcessVersion | 5.7 |
ProfileDescription | sRGB IEC61966-2.1 |
RedHue | 0 |
RedSaturation | 0 |
Saturation | 0 |
SaturationAdjustmentAqua | 0 |
SaturationAdjustmentBlue | 0 |
SaturationAdjustmentGreen | 0 |
SaturationAdjustmentMagenta | 0 |
SaturationAdjustmentOrange | 0 |
SaturationAdjustmentPurple | 0 |
SaturationAdjustmentRed | 0 |
SaturationAdjustmentYellow | 0 |
ScaleFactor35efl | 1.6 |
SceneCaptureType | Standard |
SerialNumber | 780215603 |
Shadows | 5 |
ShadowTint | 0 |
SharpenDetail | 46 |
SharpenEdgeMasking | 49 |
SharpenRadius | +1.5 |
Sharpness | 55 |
ShutterSpeed | 1/200 |
ShutterSpeedValue | 1/200 |
SplitToningBalance | 0 |
SplitToningHighlightHue | 0 |
SplitToningHighlightSaturation | 0 |
SplitToningShadowHue | 0 |
SplitToningShadowSaturation | 0 |
SubjectDistance | 0.51 m |
Tint | -2 |
ToneCurve | 0, 0, 32, 22, 64, 56, 128, 128, 192, 196, 255, 255 |
ToneCurveName | Medium Contrast |
Version | 6.1 |
Vibrance | 0 |
VignetteAmount | 0 |
WhiteBalance (2) | As Shot |
WhiteBalance | Auto |