Felt | Verdi |
AlreadyApplied | True |
BitsPerSample | 8 |
BlueHue | 0 |
BlueSaturation | 0 |
Brightness | +49 |
CameraProfile | Embedded |
ChromaticAberrationB | 0 |
ChromaticAberrationR | 0 |
Clarity | +38 |
ColorComponents | 3 |
ColorNoiseReduction | 0 |
Contrast | +3 |
ConvertToGrayscale | False |
Copyright | Dirk Rosin |
CopyrightNotice | Dirk Rosin |
CreatorTool | Adobe Photoshop Lightroom |
CropAngle | 0.703 |
CropBottom | 1 |
CropConstrainToWarp | 0 |
CropHeight | 509 |
CropLeft | 0.007383 |
CropRight | 0.945961 |
CropTop | 0.080029 |
CropUnit | pixels |
CropWidth | 800 |
Defringe | 0 |
ExifImageHeight | 509 |
ExifImageWidth | 800 |
Exposure | 0.00 |
FillLight | 0 |
GrainAmount | 0 |
GreenHue | 0 |
GreenSaturation | 0 |
HasCrop | True |
HasSettings | True |
HierarchicalSubject | HDR, HDR Bearbeitet, LR-bearbeitet, Norge, Norway, Norwegen, Rygge, loft, Østfold |
HighlightRecovery | 0 |
HueAdjustmentAqua | 0 |
HueAdjustmentBlue | 0 |
HueAdjustmentGreen | 0 |
HueAdjustmentMagenta | 0 |
HueAdjustmentOrange | 0 |
HueAdjustmentPurple | 0 |
HueAdjustmentRed | 0 |
HueAdjustmentYellow | 0 |
ImageHeight | 509 |
ImageSize | 800x509 |
ImageWidth | 800 |
IncrementalTemperature | 0 |
IncrementalTint | 0 |
Keywords | HDR, HDR Bearbeitet, LR-bearbeitet, Norge, Norway, Norwegen, Rygge, loft, Østfold |
Label | best fertig |
LensManualDistortionAmount | 0 |
LensProfileEnable | 0 |
LensProfileSetup | LensDefaults |
LuminanceAdjustmentAqua | 0 |
LuminanceAdjustmentBlue | 0 |
LuminanceAdjustmentGreen | 0 |
LuminanceAdjustmentMagenta | 0 |
LuminanceAdjustmentOrange | 0 |
LuminanceAdjustmentPurple | 0 |
LuminanceAdjustmentRed | 0 |
LuminanceAdjustmentYellow | 0 |
LuminanceSmoothing | 0 |
Megapixels | 0.407 |
ModifyDate (1) | 2010:11:05 13:39:32+01:00 |
ModifyDate | 2010:11:05 13:39:32 |
ParametricDarks | -25 |
ParametricHighlights | -10 |
ParametricHighlightSplit | 75 |
ParametricLights | +5 |
ParametricMidtoneSplit | 50 |
ParametricShadows | -14 |
ParametricShadowSplit | 25 |
PerspectiveHorizontal | 0 |
PerspectiveRotate | 0.0 |
PerspectiveScale | 100 |
PerspectiveVertical | 0 |
PostCropVignetteAmount | 0 |
ProcessVersion | 5.7 |
ProfileDescription | ProPhoto RGB |
Rating | 5 |
RedHue | 0 |
RedSaturation | 0 |
Rights | Dirk Rosin |
Saturation | 0 |
SaturationAdjustmentAqua | +3 |
SaturationAdjustmentBlue | +3 |
SaturationAdjustmentGreen | +100 |
SaturationAdjustmentMagenta | -100 |
SaturationAdjustmentOrange | -33 |
SaturationAdjustmentPurple | -40 |
SaturationAdjustmentRed | +5 |
SaturationAdjustmentYellow | -100 |
SensitivityType | Unknown |
Shadows | 0 |
ShadowTint | 0 |
SharpenDetail | 25 |
SharpenEdgeMasking | 0 |
SharpenRadius | +1.0 |
Sharpness | 0 |
Software | Oloneo PhotoEngine |
SplitToningBalance | 0 |
SplitToningHighlightHue | 0 |
SplitToningHighlightSaturation | 0 |
SplitToningShadowHue | 0 |
SplitToningShadowSaturation | 0 |
Subject | HDR, HDR Bearbeitet, LR-bearbeitet, Norge, Norway, Norwegen, Rygge, loft, Østfold |
ToneCurve | 0, 0, 255, 255 |
ToneCurveName | Linear |
Version | 6.2 |
Vibrance | +21 |
VignetteAmount | 0 |
WhiteBalance | As Shot |