Felt | Verdi |
AlreadyApplied | True |
Aperture | 4.0 |
ApertureValue | 4.0 |
Artist | Jonny Vestli |
BitsPerSample | 8 |
BlueHue | 0 |
BlueSaturation | 0 |
Brightness | +74 |
By-line | Jonny Vestli |
CameraProfile | Camera Portrait |
ChromaticAberrationB | 0 |
ChromaticAberrationR | 0 |
CircleOfConfusion | 0.023 mm |
Clarity | +18 |
ColorComponents | 1 |
ColorMode | RGB |
ColorNoiseReduction | 99 |
ColorSpace | sRGB |
ColorTemperature | 5700 |
Contrast | +19 |
ConvertToGrayscale | False |
CreateDate (1) | 2010:11:13 11:27:21.66+01:00 |
CreateDate | 2010:11:13 11:27:21 |
Creator | Jonny Vestli |
CustomRendered | Normal |
DateTimeDigitized | 2010:11:13 11:27:21.66+01:00 |
DateTimeOriginal (1) | 2010:11:13 10:27:21Z |
DateTimeOriginal | 2010:11:13 10:27:21 |
Defringe | 0 |
ExifImageHeight | 1952 |
ExifImageWidth | 3205 |
Exposure | +0.30 |
ExposureCompensation | -2/3 |
ExposureMode | Auto |
ExposureProgram | Aperture-priority AE |
ExposureTime | 1/500 |
FillLight | 0 |
Firmware | 1.3.0 |
Flash | Off, Did not fire |
FlashCompensation | 0 |
FlashFired | False |
FlashFunction | False |
FlashMode | Off |
FlashRedEyeMode | False |
FlashReturn | No return detection |
FNumber | 4.0 |
FocalLength | 60.0 mm |
FocalLength35efl | 60.0 mm (35 mm equivalent: 76.9 mm) |
Format | image/jpeg |
FOV | 26.4 deg |
GreenHue | 0 |
GreenSaturation | 0 |
HasCrop | False |
HasSettings | True |
HighlightRecovery | 36 |
HueAdjustmentAqua | 0 |
HueAdjustmentBlue | 0 |
HueAdjustmentGreen | 0 |
HueAdjustmentMagenta | 0 |
HueAdjustmentOrange | 0 |
HueAdjustmentPurple | 0 |
HueAdjustmentRed | 0 |
HueAdjustmentYellow | 0 |
HyperfocalDistance | 38.38 m |
ICCProfileName | sRGB IEC61966-2.1 |
ImageHeight | 1952 |
ImageNumber | 0 |
ImageSize | 3205x1952 |
ImageWidth | 3205 |
ISO | 250 |
Lens | EF24-105mm f/4L IS USM |
LensInfo | 24-105mm f/? |
LightValue | 11.6 |
LuminanceAdjustmentAqua | 0 |
LuminanceAdjustmentBlue | 0 |
LuminanceAdjustmentGreen | 0 |
LuminanceAdjustmentMagenta | 0 |
LuminanceAdjustmentOrange | 0 |
LuminanceAdjustmentPurple | 0 |
LuminanceAdjustmentRed | 0 |
LuminanceAdjustmentYellow | 0 |
LuminanceSmoothing | 84 |
Make | Canon |
MaxApertureValue | 4.0 |
Megapixels | 6.3 |
MeteringMode | Multi-segment |
Model | Canon EOS-1D Mark III |
ModifyDate (1) | 2010:11:13 16:46:36+01:00 |
ModifyDate | 2010:11:13 16:46:36 |
Orientation | Horizontal (normal) |
OwnerName | Jonny Vestli |
ParametricDarks | 0 |
ParametricHighlights | 0 |
ParametricHighlightSplit | 75 |
ParametricLights | 0 |
ParametricMidtoneSplit | 50 |
ParametricShadows | 0 |
ParametricShadowSplit | 25 |
PostCropVignetteAmount | 0 |
ProfileDescription | sRGB IEC61966-2.1 |
Rating | 0 |
RawFileName | 0U1Z1488.CR2 |
RedHue | 0 |
RedSaturation | 0 |
Saturation | 0 |
SaturationAdjustmentAqua | 0 |
SaturationAdjustmentBlue | 0 |
SaturationAdjustmentGreen | 0 |
SaturationAdjustmentMagenta | 0 |
SaturationAdjustmentOrange | 0 |
SaturationAdjustmentPurple | 0 |
SaturationAdjustmentRed | 0 |
SaturationAdjustmentYellow | 0 |
ScaleFactor35efl | 1.3 |
SceneCaptureType | Standard |
SerialNumber | 507861 |
Shadows | 12 |
ShadowTint | 0 |
SharpenDetail | 96 |
SharpenEdgeMasking | 8 |
SharpenRadius | +1.0 |
Sharpness | 105 |
ShutterSpeed | 1/500 |
ShutterSpeedValue | 1/500 |
SidecarForExtension | CR2 |
Software | Adobe Photoshop Elements 8.0 Windows |
SplitToningBalance | 0 |
SplitToningHighlightHue | 0 |
SplitToningHighlightSaturation | 0 |
SplitToningShadowHue | 0 |
SplitToningShadowSaturation | 0 |
Tint | -9 |
ToneCurve | 0, 0, 32, 22, 64, 56, 128, 128, 192, 196, 255, 255 |
ToneCurveName | Medium Contrast |
URL_List | |
Version | 5.5 |
Vibrance | 0 |
VignetteAmount | 0 |
WhiteBalance (2) | Custom |
WhiteBalance | Auto |