Felt | Verdi |
AlreadyApplied | True |
Aperture | 2.0 |
ApertureValue | 2.0 |
BitsPerSample | 8 |
BlueHue | 0 |
BlueSaturation | 0 |
Brightness | 0 |
CameraProfile | Embedded |
ChromaticAberrationB | 0 |
ChromaticAberrationR | 0 |
CircleOfConfusion | 0.006 mm |
Clarity | 0 |
ColorComponents | 3 |
ColorNoiseReduction | 0 |
ColorSpace | Uncalibrated |
Contrast | 0 |
ConvertToGrayscale | False |
CreateDate (1) | 2010:11:15 16:19:20+01:00 |
CreateDate | 2010:11:15 16:19:20 |
CreatorTool | Adobe Photoshop Lightroom |
DateTimeDigitized | 2010:11:15 16:19:20+01:00 |
DateTimeOriginal (1) | 2010:11:15 16:19:20+01:00 |
DateTimeOriginal | 2010:11:15 16:19:20 |
Defringe | 0 |
DigitalZoomRatio | 0 |
ExifImageHeight | 880 |
ExifImageWidth | 900 |
Exposure | +1.15 |
ExposureCompensation | +0.664 |
ExposureProgram | Manual |
ExposureTime | 1/90 |
FillLight | 0 |
Flash | On, Did not fire |
FlashFired | False |
FlashFunction | False |
FlashMode | On |
FlashRedEyeMode | False |
FlashReturn | No return detection |
FNumber | 2.0 |
Format | application/vnd.adobe.photoshop |
GrainAmount | 0 |
GreenHue | 0 |
GreenSaturation | 0 |
HasCrop | False |
HasSettings | True |
HighlightRecovery | 38 |
HueAdjustmentAqua | 0 |
HueAdjustmentBlue | 0 |
HueAdjustmentGreen | 0 |
HueAdjustmentMagenta | 0 |
HueAdjustmentOrange | 0 |
HueAdjustmentPurple | 0 |
HueAdjustmentRed | 0 |
HueAdjustmentYellow | 0 |
ImageHeight | 880 |
ImageSize | 900x880 |
ImageWidth | 900 |
IncrementalTemperature | 0 |
IncrementalTint | -4 |
ISO | 320 |
LensManualDistortionAmount | 0 |
LensProfileEnable | 0 |
LensProfileSetup | LensDefaults |
LightSource | Unknown |
LightValue | 6.8 |
LuminanceAdjustmentAqua | 0 |
LuminanceAdjustmentBlue | 0 |
LuminanceAdjustmentGreen | 0 |
LuminanceAdjustmentMagenta | 0 |
LuminanceAdjustmentOrange | 0 |
LuminanceAdjustmentPurple | 0 |
LuminanceAdjustmentRed | 0 |
LuminanceAdjustmentYellow | 0 |
LuminanceSmoothing | 0 |
Make | Leica Camera AG |
MaxApertureValue | 1.0 |
Megapixels | 0.792 |
MeteringMode | Center-weighted average |
Model | M8 Digital Camera |
ModifyDate (1) | 2010:11:22 18:13:44+01:00 |
ModifyDate | 2010:11:22 18:13:44 |
PaintCorrectionActive | true |
PaintCorrectionAmount | 1.000000 |
PaintCorrectionBrightness | 0.000000 |
PaintCorrectionClarity | 1.000000 |
PaintCorrectionContrast | 0.053763 |
PaintCorrectionExposure | -0.032258 |
PaintCorrectionHue | 0.000000 |
PaintCorrectionMaskCenterWeight | 0.146956 |
PaintCorrectionMaskFlow | 0.974831 |
PaintCorrectionMaskRadius | 0.007674 |
PaintCorrectionMaskValue | 1.000000 |
PaintCorrectionMaskWhat | Mask/Paint |
PaintCorrectionSaturation | 0.000000 |
PaintCorrectionSharpness | 0.161290 |
PaintCorrectionWhat | Correction |
ParametricDarks | 0 |
ParametricHighlights | 0 |
ParametricHighlightSplit | 75 |
ParametricLights | 0 |
ParametricMidtoneSplit | 50 |
ParametricShadows | 0 |
ParametricShadowSplit | 25 |
PerspectiveHorizontal | 0 |
PerspectiveRotate | 0.0 |
PerspectiveScale | 100 |
PerspectiveVertical | 0 |
PostCropVignetteAmount | -40 |
PostCropVignetteFeather | 92 |
PostCropVignetteHighlightContrast | 0 |
PostCropVignetteMidpoint | 7 |
PostCropVignetteRoundness | +85 |
PostCropVignetteStyle | 1 |
ProcessVersion | 5.7 |
ProfileDescription | sRGB IEC61966-2.1 |
RedHue | 0 |
RedSaturation | 0 |
Saturation | 0 |
SaturationAdjustmentAqua | 0 |
SaturationAdjustmentBlue | 0 |
SaturationAdjustmentGreen | 0 |
SaturationAdjustmentMagenta | 0 |
SaturationAdjustmentOrange | 0 |
SaturationAdjustmentPurple | 0 |
SaturationAdjustmentRed | 0 |
SaturationAdjustmentYellow | 0 |
ScaleFactor35efl | 5.1 |
SceneCaptureType | Standard |
SceneType | Directly photographed |
SensitivityType | Unknown |
SerialNumber | 3330560 |
Shadows | 4 |
ShadowTint | 0 |
SharpenDetail | 25 |
SharpenEdgeMasking | 0 |
SharpenRadius | +1.0 |
Sharpness | 0 |
ShutterSpeed | 1/90 |
ShutterSpeedValue | 1/90 |
Software | 2.005 |
SplitToningBalance | 0 |
SplitToningHighlightHue | 0 |
SplitToningHighlightSaturation | 0 |
SplitToningShadowHue | 0 |
SplitToningShadowSaturation | 0 |
ToneCurve | 0, 0, 255, 255 |
ToneCurveName | Linear |
Version | 6.2 |
Vibrance | 0 |
VignetteAmount | 0 |
WhiteBalance (2) | Custom |
WhiteBalance | Manual |