Felt | Verdi |
AlreadyApplied | True |
BitsPerSample | 8 |
BlueHue | -69 |
BlueSaturation | 0 |
Brightness | +61 |
CameraProfile | Embedded |
ChromaticAberrationB | 0 |
ChromaticAberrationR | 0 |
Clarity | 0 |
ColorComponents | 3 |
ColorNoiseReduction | 0 |
Contrast | +25 |
ConvertToGrayscale | True |
Copyright | (C) 2010 Dirk Rosin |
CopyrightFlag | True |
CopyrightNotice | © 2010 Dirk Rosin |
CreatorCountry | Norway |
CreatorTool | Adobe Photoshop Lightroom |
CreatorWorkEmail | dirkrosin@msn.com |
CreatorWorkURL | http://dirkrosin.blogspot.com |
CropAngle | 0 |
CropBottom | 0.955882 |
CropConstrainToWarp | 0 |
CropHeight | 528 |
CropLeft | 0.034314 |
CropRight | 1 |
CropTop | 0 |
CropUnit | pixels |
CropWidth | 800 |
Defringe | 0 |
ExifImageHeight | 528 |
ExifImageWidth | 800 |
Exposure | 0.00 |
FillLight | 0 |
GradientBasedCorrActive | true |
GradientBasedCorrAmount | 1.000000 |
GradientBasedCorrBrightness | 0.000000 |
GradientBasedCorrClarity (1) | 0.000000 |
GradientBasedCorrClarity (4) | -0.300000 |
GradientBasedCorrClarity (5) | -0.200000 |
GradientBasedCorrClarity (6) | -0.198000 |
GradientBasedCorrClarity | -0.097000 |
GradientBasedCorrContrast | 0.000000 |
GradientBasedCorrExposure (1) | -0.125000 |
GradientBasedCorrExposure (4) | 0.000000 |
GradientBasedCorrExposure (5) | -0.050000 |
GradientBasedCorrExposure (7) | -0.063500 |
GradientBasedCorrExposure | -0.062500 |
GradientBasedCorrHue (1) | 35.000000 |
GradientBasedCorrHue (2) | 236.000000 |
GradientBasedCorrHue (4) | 0.000000 |
GradientBasedCorrHue | 234.000000 |
GradientBasedCorrMaskFullX (1) | 0.493364 |
GradientBasedCorrMaskFullX (2) | 0.494643 |
GradientBasedCorrMaskFullX (3) | 0.852624 |
GradientBasedCorrMaskFullX (4) | 0.113187 |
GradientBasedCorrMaskFullX (5) | 0.718990 |
GradientBasedCorrMaskFullX (6) | 0.282165 |
GradientBasedCorrMaskFullX (7) | 0.719381 |
GradientBasedCorrMaskFullX | 0.282734 |
GradientBasedCorrMaskFullY (1) | 0.395915 |
GradientBasedCorrMaskFullY (2) | 0.845643 |
GradientBasedCorrMaskFullY (3) | 0.497008 |
GradientBasedCorrMaskFullY (4) | 0.510198 |
GradientBasedCorrMaskFullY (5) | 0.220618 |
GradientBasedCorrMaskFullY (6) | 0.218119 |
GradientBasedCorrMaskFullY (7) | 0.785114 |
GradientBasedCorrMaskFullY | 0.781477 |
GradientBasedCorrMaskValue | 1.000000 |
GradientBasedCorrMaskWhat | Mask/Gradient |
GradientBasedCorrMaskZeroX (1) | 0.493364 |
GradientBasedCorrMaskZeroX (2) | 0.494643 |
GradientBasedCorrMaskZeroX (3) | 0.692968 |
GradientBasedCorrMaskZeroX (4) | 0.290613 |
GradientBasedCorrMaskZeroX (5) | 0.615150 |
GradientBasedCorrMaskZeroX (6) | 0.383661 |
GradientBasedCorrMaskZeroX (7) | 0.614461 |
GradientBasedCorrMaskZeroX | 0.383889 |
GradientBasedCorrMaskZeroY (1) | 0.561897 |
GradientBasedCorrMaskZeroY (2) | 0.669532 |
GradientBasedCorrMaskZeroY (3) | 0.497008 |
GradientBasedCorrMaskZeroY (4) | 0.510198 |
GradientBasedCorrMaskZeroY (5) | 0.447704 |
GradientBasedCorrMaskZeroY (6) | 0.449229 |
GradientBasedCorrMaskZeroY (7) | 0.550188 |
GradientBasedCorrMaskZeroY | 0.549305 |
GradientBasedCorrSaturation (10) | 0.000000 |
GradientBasedCorrSaturation (13) | 0.097000 |
GradientBasedCorrSaturation (15) | 0.100000 |
GradientBasedCorrSaturation (2) | 0.670000 |
GradientBasedCorrSaturation (3) | 0.253000 |
GradientBasedCorrSaturation (4) | 0.230000 |
GradientBasedCorrSaturation (9) | 0.250000 |
GradientBasedCorrSaturation | 0.210000 |
GradientBasedCorrSharpness | 0.000000 |
GradientBasedCorrWhat | Correction |
GrainAmount | 0 |
GrayMixerAqua | +2 |
GrayMixerBlue | -100 |
GrayMixerGreen | +61 |
GrayMixerMagenta | 0 |
GrayMixerOrange | +48 |
GrayMixerPurple | -33 |
GrayMixerRed | +100 |
GrayMixerYellow | +48 |
GreenHue | +12 |
GreenSaturation | 0 |
HasCrop | True |
HasSettings | True |
HierarchicalSubject | LR-bearbeitet, Landschaft, Norge, Norway, Norwegen, Rygge, Winter, vinter, Østfold |
HighlightRecovery | 0 |
ImageHeight | 528 |
ImageSize | 800x528 |
ImageWidth | 800 |
IncrementalTemperature | -13 |
IncrementalTint | -19 |
Keywords | LR-bearbeitet, Landschaft, Norge, Norway, Norwegen, Rygge, Winter, vinter, Østfold |
Label | best fertig |
LensManualDistortionAmount | 0 |
LensProfileEnable | 0 |
LensProfileSetup | LensDefaults |
LuminanceSmoothing | 0 |
Marked | True |
Megapixels | 0.422 |
ModifyDate (1) | 2010:12:02 21:34:18+01:00 |
ModifyDate | 2010:12:02 21:34:18 |
ParametricDarks | -1 |
ParametricHighlights | +14 |
ParametricHighlightSplit | 75 |
ParametricLights | +38 |
ParametricMidtoneSplit | 50 |
ParametricShadows | -52 |
ParametricShadowSplit | 14 |
PerspectiveHorizontal | 0 |
PerspectiveRotate | 0.0 |
PerspectiveScale | 100 |
PerspectiveVertical | 0 |
PLUSVersion | 1.2.0 |
PostCropVignetteAmount | -33 |
PostCropVignetteFeather | 100 |
PostCropVignetteMidpoint | 35 |
PostCropVignetteRoundness | -50 |
PostCropVignetteStyle | 3 |
ProcessVersion | 5.7 |
ProfileDescription | sRGB IEC61966-2.1 |
Rating | 2 |
RedHue | +17 |
RedSaturation | 0 |
Rights | © 2010 Dirk Rosin |
SensitivityType | Unknown |
Shadows | 8 |
ShadowTint | -100 |
SharpenDetail | 53 |
SharpenEdgeMasking | 0 |
SharpenRadius | +0.5 |
Sharpness | 20 |
Software | Oloneo PhotoEngine |
SplitToningBalance | 0 |
SplitToningHighlightHue | 0 |
SplitToningHighlightSaturation | 0 |
SplitToningShadowHue | 0 |
SplitToningShadowSaturation | 0 |
Subject | LR-bearbeitet, Landschaft, Norge, Norway, Norwegen, Rygge, Winter, vinter, Østfold |
ToneCurve | 0, 0, 32, 16, 64, 50, 128, 128, 192, 202, 255, 255 |
ToneCurveName | Strong Contrast |
Version | 6.2 |
VignetteAmount | 0 |
WhiteBalance | Custom |