Felt | Verdi |
AlreadyApplied | True |
Aperture | 4.5 |
ApertureValue | 4.5 |
AuthorsPosition | Photographer |
BitsPerSample | 8 |
BlueHue | 0 |
BlueSaturation | 0 |
Brightness | +150 |
By-line | Nikolaj Jonas |
By-lineTitle | Photographer |
CameraProfile | ACR 4.4 |
ChromaticAberrationB | 0 |
ChromaticAberrationR | 0 |
CircleOfConfusion | 0.030 mm |
Clarity | +20 |
ColorComponents | 1 |
ColorNoiseReduction | 86 |
ColorNoiseReductionDetail | 50 |
ColorTemperature | 6881 |
Contrast | +82 |
ConvertToGrayscale | True |
Copyright | Copyright (C) Nikolaj Jonas |
CopyrightFlag | True |
CopyrightNotice | Copyright © Nikolaj Jonas |
CreateDate (1) | 2010:12:09 10:27:15+01:00 |
CreateDate | 2010:12:09 10:27:15 |
Creator | Nikolaj Jonas |
CreatorCity | Copenhagen |
CreatorCountry | Denmark |
CreatorTool | Adobe Photoshop Lightroom |
CreatorWorkEmail | info@nikolajjonas.com |
CreatorWorkURL | www.nikolajjonas.com |
CustomRendered | Normal |
DateTimeDigitized | 2010:12:09 10:27:15+01:00 |
DateTimeOriginal (1) | 2010:12:09 10:27:15+01:00 |
DateTimeOriginal | 2010:12:09 10:27:15 |
Defringe | 0 |
ExifImageHeight | 1667 |
ExifImageWidth | 2500 |
Exposure | 0.00 |
ExposureCompensation | +2/3 |
ExposureMode | Auto |
ExposureProgram | Aperture-priority AE |
ExposureTime | 1/1000 |
FillLight | 17 |
Firmware | 1.1.1 |
Flash | Off, Did not fire |
FlashCompensation | 0 |
FlashFired | False |
FlashFunction | False |
FlashMode | Off |
FlashRedEyeMode | False |
FlashReturn | No return detection |
FNumber | 4.5 |
FocalLength | 17.0 mm |
FocalLength35efl | 17.0 mm (35 mm equivalent: 17.0 mm) |
FOV | 93.2 deg |
GradientBasedCorrActive | true |
GradientBasedCorrAmount | 1.000000 |
GradientBasedCorrBrightness | -0.364706 |
GradientBasedCorrClarity | 1.000000 |
GradientBasedCorrContrast | -1.000000 |
GradientBasedCorrExposure | -0.105882 |
GradientBasedCorrHue | 233.000000 |
GradientBasedCorrMaskFullX | 0.466570 |
GradientBasedCorrMaskFullY | -0.023965 |
GradientBasedCorrMaskValue | 1.000000 |
GradientBasedCorrMaskWhat | Mask/Gradient |
GradientBasedCorrMaskZeroX | 0.466570 |
GradientBasedCorrMaskZeroY | 0.485839 |
GradientBasedCorrSaturation (1) | 0.011765 |
GradientBasedCorrSaturation | 0.000000 |
GradientBasedCorrSharpness | -0.035294 |
GradientBasedCorrWhat | Correction |
GrainAmount | 0 |
GrayMixerAqua | -19 |
GrayMixerBlue | +9 |
GrayMixerGreen | -27 |
GrayMixerMagenta | +4 |
GrayMixerOrange | -21 |
GrayMixerPurple | +21 |
GrayMixerRed | -9 |
GrayMixerYellow | -22 |
GreenHue | 0 |
GreenSaturation | 0 |
HasCrop | False |
HasSettings | True |
HighlightRecovery | 0 |
HyperfocalDistance | 2.14 m |
ImageHeight | 1667 |
ImageNumber | 4 |
ImageSize | 2500x1667 |
ImageWidth | 2500 |
ISO | 400 |
Keywords | Lambertseter, Vinter 2010 |
Lens | EF17-40mm f/4L USM |
LensID (1) | 231 |
LensID | Canon EF 17-40mm f/4L USM |
LensInfo | 17-40mm f/? |
LensManualDistortionAmount | 0 |
LensProfileEnable | 0 |
LensProfileSetup | LensDefaults |
LightValue | 12.3 |
LuminanceSmoothing | 0 |
Make | Canon |
Marked | True |
MaxApertureValue | 4.0 |
Megapixels | 4.2 |
MeteringMode | Multi-segment |
Model | Canon EOS 5D |
ModifyDate (1) | 2010:12:09 13:19:17+01:00 |
ModifyDate | 2010:12:09 13:19:17 |
PaintCorrectionActive | true |
PaintCorrectionAmount | 1.000000 |
PaintCorrectionBrightness (2) | -0.223529 |
PaintCorrectionBrightness | 0.000000 |
PaintCorrectionClarity (1) | 0.788235 |
PaintCorrectionClarity (2) | 1.000000 |
PaintCorrectionClarity | 0.764706 |
PaintCorrectionContrast (1) | 0.458824 |
PaintCorrectionContrast | -0.035294 |
PaintCorrectionExposure (1) | 0.317647 |
PaintCorrectionExposure (2) | -0.105882 |
PaintCorrectionExposure | -0.152941 |
PaintCorrectionHue | 233.000000 |
PaintCorrectionMaskCenterWeight | 0.000000 |
PaintCorrectionMaskFlow | 1.000000 |
PaintCorrectionMaskRadius (2) | 0.225297 |
PaintCorrectionMaskRadius | 0.076547 |
PaintCorrectionMaskValue | 0.563218 |
PaintCorrectionMaskWhat | Mask/Paint |
PaintCorrectionSaturation | 0.000000 |
PaintCorrectionSharpness (2) | 0.435294 |
PaintCorrectionSharpness | 0.505882 |
PaintCorrectionWhat | Correction |
ParametricDarks | -45 |
ParametricHighlights | -23 |
ParametricHighlightSplit | 75 |
ParametricLights | -25 |
ParametricMidtoneSplit | 50 |
ParametricShadows | +42 |
ParametricShadowSplit | 25 |
PerspectiveHorizontal | 0 |
PerspectiveRotate | 0.0 |
PerspectiveScale | 100 |
PerspectiveVertical | 0 |
PostCropVignetteAmount | +7 |
PostCropVignetteFeather | 50 |
PostCropVignetteMidpoint | 50 |
PostCropVignetteRoundness | 0 |
PostCropVignetteStyle | 1 |
ProcessVersion | 5.7 |
ProfileDescription | sRGB IEC61966-2.1 |
Rating | 5 |
RedHue | 0 |
RedSaturation | 0 |
Rights | Copyright © Nikolaj Jonas |
ScaleFactor35efl | 1.0 |
SceneCaptureType | Standard |
SerialNumber | 930607010 |
Shadows | 24 |
ShadowTint | 0 |
SharpenDetail | 25 |
SharpenEdgeMasking | 0 |
SharpenRadius | +1.0 |
Sharpness | 48 |
ShutterSpeed | 1/1000 |
ShutterSpeedValue | 1/1000 |
SplitToningBalance | 0 |
SplitToningHighlightHue | 53 |
SplitToningHighlightSaturation | 0 |
SplitToningShadowHue | 46 |
SplitToningShadowSaturation | 0 |
Subject | Lambertseter, Vinter 2010 |
Tint | -18 |
ToneCurve | 0, 0, 32, 22, 64, 56, 128, 128, 192, 196, 255, 255 |
ToneCurveName | Medium Contrast |
Version | 6.1 |
VignetteAmount | -100 |
VignetteMidpoint | 17 |
WhiteBalance (2) | Custom |
WhiteBalance | Auto |