Felt | Verdi |
AlreadyApplied | True |
Aperture | 11.0 |
ApertureValue | 11.0 |
ApproximateFocusDistance | 4.29 |
Artist | Oddbjorn Messenlien |
BitsPerSample | 8 |
BlueHue | 0 |
BlueSaturation | 0 |
Brightness | +50 |
By-line | Oddbjorn Messenlien |
CameraProfile | Adobe Standard |
ChromaticAberrationB | 0 |
ChromaticAberrationR | 0 |
CircleOfConfusion | 0.019 mm |
Clarity | 0 |
ColorComponents | 3 |
ColorNoiseReduction | 25 |
ColorNoiseReductionDetail | 50 |
ColorTemperature | 6667 |
Contrast | +25 |
ConvertToGrayscale | False |
CreateDate (1) | 2010:07:03 22:08:22.64+02:00 |
CreateDate | 2010:07:03 22:08:22 |
Creator | Oddbjorn Messenlien |
CreatorTool | Adobe Photoshop Lightroom |
CropAngle | -0.184394 |
CropBottom | 0.749843 |
CropConstrainToWarp | 0 |
CropHeight | 2591 |
CropLeft | 0 |
CropRight | 0.964828 |
CropTop | 0.00465 |
CropUnit | pixels |
CropWidth | 4993 |
CustomRendered | Normal |
DateTimeDigitized | 2010:07:03 22:08:22.64+02:00 |
DateTimeOriginal (1) | 2010:07:03 22:08:22.64+02:00 |
DateTimeOriginal | 2010:07:03 22:08:22 |
Defringe | 0 |
DOF | inf (0.43 m - inf) |
ExifImageHeight | 2591 |
ExifImageWidth | 4993 |
Exposure | +0.18 |
ExposureCompensation | +1 |
ExposureMode | Auto bracket |
ExposureProgram | Aperture-priority AE |
ExposureTime | 0.4 |
FillLight | 56 |
Firmware | 1.1.0 |
Flash | Off, Did not fire |
FlashCompensation | 0 |
FlashFired | False |
FlashFunction | False |
FlashMode | Off |
FlashRedEyeMode | False |
FlashReturn | No return detection |
FNumber | 11.0 |
FocalLength | 10.0 mm |
FocalLength35efl | 10.0 mm (35 mm equivalent: 15.7 mm) |
FOV | 97.8 deg |
GradientBasedCorrActive | true |
GradientBasedCorrAmount | 1.000000 |
GradientBasedCorrBrightness | -0.233000 |
GradientBasedCorrClarity | 0.233000 |
GradientBasedCorrContrast | 0.140000 |
GradientBasedCorrExposure | -0.419000 |
GradientBasedCorrHue | 243.000000 |
GradientBasedCorrMaskFullX | 0.477674 |
GradientBasedCorrMaskFullY | -0.012461 |
GradientBasedCorrMaskValue | 1.000000 |
GradientBasedCorrMaskWhat | Mask/Gradient |
GradientBasedCorrMaskZeroX | 0.480789 |
GradientBasedCorrMaskZeroY | 0.995327 |
GradientBasedCorrSaturation (1) | 0.279000 |
GradientBasedCorrSaturation | 0.000000 |
GradientBasedCorrSharpness | 0.256000 |
GradientBasedCorrWhat | Correction |
GrainAmount | 0 |
GreenHue | 0 |
GreenSaturation | 0 |
HasCrop | True |
HasSettings | True |
HighlightRecovery | 0 |
HueAdjustmentAqua | 0 |
HueAdjustmentBlue | 0 |
HueAdjustmentGreen | 0 |
HueAdjustmentMagenta | 0 |
HueAdjustmentOrange | 0 |
HueAdjustmentPurple | 0 |
HueAdjustmentRed | 0 |
HueAdjustmentYellow | 0 |
HyperfocalDistance | 0.48 m |
ImageHeight | 2591 |
ImageNumber | 0 |
ImageSize | 4993x2591 |
ImageWidth | 4993 |
ISO | 100 |
Keywords | Landskap, Mjøsa, Solnedgang |
Lens | EF-S10-22mm f/3.5-4.5 USM |
LensID (1) | 235 |
LensID | Canon EF-S 10-22mm f/3.5-4.5 USM |
LensInfo | 10-22mm f/? |
LensManualDistortionAmount | 0 |
LensModel | EF-S10-22mm f/3.5-4.5 USM |
LensProfileEnable | 0 |
LensProfileSetup | LensDefaults |
LightValue | 8.2 |
LuminanceAdjustmentAqua | 0 |
LuminanceAdjustmentBlue | 0 |
LuminanceAdjustmentGreen | 0 |
LuminanceAdjustmentMagenta | 0 |
LuminanceAdjustmentOrange | 0 |
LuminanceAdjustmentPurple | 0 |
LuminanceAdjustmentRed | 0 |
LuminanceAdjustmentYellow | 0 |
LuminanceNoiseReductionContrast | 0 |
LuminanceNoiseReductionDetail | 50 |
LuminanceSmoothing | 48 |
Make | Canon |
MaxApertureValue | 3.5 |
Megapixels | 12.9 |
MeteringMode | Multi-segment |
Model | Canon EOS 7D |
ModifyDate (1) | 2010:12:17 13:12:54+01:00 |
ModifyDate | 2010:12:17 13:12:54 |
PaintCorrectionActive | true |
PaintCorrectionAmount | 1.000000 |
PaintCorrectionBrightness | 0.010000 |
PaintCorrectionClarity | 0.000000 |
PaintCorrectionContrast (1) | 0.767000 |
PaintCorrectionContrast | 0.000000 |
PaintCorrectionExposure (1) | 0.419000 |
PaintCorrectionExposure | -0.209000 |
PaintCorrectionHue | 243.000000 |
PaintCorrectionMaskCenterWeight | 0.121748 |
PaintCorrectionMaskFlow | 0.500000 |
PaintCorrectionMaskRadius (2) | 0.072134 |
PaintCorrectionMaskRadius | 0.127232 |
PaintCorrectionMaskValue | 1.000000 |
PaintCorrectionMaskWhat | Mask/Paint |
PaintCorrectionSaturation (1) | 0.419000 |
PaintCorrectionSaturation (3) | 0.001000 |
PaintCorrectionSaturation | 0.000000 |
PaintCorrectionSharpness | 0.000000 |
PaintCorrectionWhat | Correction |
ParametricDarks | +37 |
ParametricHighlights | +5 |
ParametricHighlightSplit | 75 |
ParametricLights | +43 |
ParametricMidtoneSplit | 50 |
ParametricShadows | -25 |
ParametricShadowSplit | 25 |
PerspectiveHorizontal | 0 |
PerspectiveRotate | 0.0 |
PerspectiveScale | 100 |
PerspectiveVertical | 0 |
PostCropVignetteAmount | 0 |
ProcessVersion | 5.7 |
ProfileDescription | sRGB IEC61966-2.1 |
Rating | 5 |
RedHue | 0 |
RedSaturation | 0 |
Saturation | 0 |
SaturationAdjustmentAqua | 0 |
SaturationAdjustmentBlue | +43 |
SaturationAdjustmentGreen | 0 |
SaturationAdjustmentMagenta | 0 |
SaturationAdjustmentOrange | +26 |
SaturationAdjustmentPurple | 0 |
SaturationAdjustmentRed | 0 |
SaturationAdjustmentYellow | 0 |
ScaleFactor35efl | 1.6 |
SceneCaptureType | Standard |
SensitivityType | Unknown |
SerialNumber | 480408756 |
Shadows | 57 |
ShadowTint | 0 |
SharpenDetail | 52 |
SharpenEdgeMasking | 20 |
SharpenRadius | +0.8 |
Sharpness | 98 |
ShutterSpeed | 0.4 |
ShutterSpeedValue | 0.4 |
SplitToningBalance | 0 |
SplitToningHighlightHue | 12 |
SplitToningHighlightSaturation | 4 |
SplitToningShadowHue | 0 |
SplitToningShadowSaturation | 0 |
Subject | Landskap, Mjøsa, Solnedgang |
SubjectDistance | 4.29 m |
Tint | +8 |
ToneCurve | 0, 0, 32, 22, 64, 56, 128, 128, 192, 196, 255, 255 |
ToneCurveName | Medium Contrast |
Version | 6.2 |
Vibrance | 0 |
VignetteAmount | 0 |
WhiteBalance (2) | Custom |
WhiteBalance | Manual |