Felt | Verdi |
AlreadyApplied | True |
Aperture | 9.0 |
ApertureValue | 9.0 |
BitsPerSample | 8 |
BlueHue | 0 |
BlueSaturation | 0 |
Brightness | +50 |
By-line | |
By-lineTitle | |
CameraProfile | Adobe Standard |
Caption-Abstract | |
Category | |
CFAPattern | [Red,Green][Green,Blue] |
ChromaticAberrationB | 0 |
ChromaticAberrationR | 0 |
CircleOfConfusion | 0.030 mm |
City | |
Clarity | -52 |
ColorComponents | 3 |
ColorNoiseReduction | 25 |
ColorSpace | Uncalibrated |
ColorTemperature | 4976 |
Contrast (2) | +25 |
Contrast | Normal |
ConvertToGrayscale | False |
Copyright | Kyrre Vigestad |
CopyrightNotice | Kyrre Vigestad |
Country-PrimaryLocationCode | |
Country-PrimaryLocationName | |
CreateDate (1) | 2010:07:13 14:35:47.00+02:00 |
CreateDate | 2010:07:13 14:35:47 |
CreatorTool | Adobe Photoshop Lightroom |
Credit | |
CropAngle | 0 |
CropBottom | 0.950673 |
CropHeight | 2565 |
CropLeft | 0.063537 |
CropRight | 0.969366 |
CropTop | 0.044843 |
CropUnit | pixels |
CropWidth | 3855 |
CustomRendered | Normal |
DateCreated | |
DateSent | |
DateTimeDigitized | 2010:07:13 14:35:47.00+02:00 |
DateTimeOriginal (1) | 2010:07:13 14:35:47.00+02:00 |
DateTimeOriginal | 2010:07:13 14:35:47 |
Defringe | 0 |
Destination | |
DigitalZoomRatio | 1 |
DOF | 3.14 m (2.58 - 5.71 m) |
ExifImageHeight (1) | 3855 |
ExifImageHeight | 1280 |
ExifImageWidth (1) | 2565 |
ExifImageWidth | 851 |
ExpirationDate | |
ExpirationTime | |
Exposure | +0.19 |
ExposureCompensation | 0 |
ExposureMode | Manual |
ExposureProgram | Manual |
ExposureTime | 1/50 |
FileFormat | No ObjectData |
FileVersion | 0 |
FillLight | 14 |
Flash | No Flash |
FlashFired | False |
FlashFunction | False |
FlashMode | Unknown |
FlashRedEyeMode | False |
FlashReturn | No return detection |
FNumber | 9.0 |
FocalLength | 50.0 mm |
FocalLength35efl | 50.0 mm (35 mm equivalent: 50.0 mm) |
FocalLengthIn35mmFormat | 50 mm |
FOV | 39.6 deg |
GainControl | High gain up |
GreenHue | 0 |
GreenSaturation | 0 |
HasCrop | True |
HasSettings | True |
Headline | |
HighlightRecovery | 23 |
HueAdjustmentAqua | -14 |
HueAdjustmentBlue | -14 |
HueAdjustmentGreen | +10 |
HueAdjustmentMagenta | +14 |
HueAdjustmentOrange | -12 |
HueAdjustmentPurple | +5 |
HueAdjustmentRed | -5 |
HueAdjustmentYellow | 0 |
HyperfocalDistance | 9.25 m |
IFD0_Offset | 1120 |
ImageDataSize | 1042779 |
ImageHeight (1) | 3855 |
ImageHeight | 1280 |
ImageNumber | 5191 |
ImageSize | 851x1280 |
ImageWidth (1) | 2565 |
ImageWidth | 851 |
ISO | 1600 |
LanguageIdentifier | |
Lens | 50.0 mm f/1.4 |
LensID (1) | 67 |
LensID | AF Nikkor 50mm f/1.4D |
LensInfo | 50mm f/1.4 |
LightSource | Unknown |
LightValue | 8.0 |
LuminanceAdjustmentAqua | 0 |
LuminanceAdjustmentBlue | 0 |
LuminanceAdjustmentGreen | +10 |
LuminanceAdjustmentMagenta | 0 |
LuminanceAdjustmentOrange | 0 |
LuminanceAdjustmentPurple | 0 |
LuminanceAdjustmentRed | +10 |
LuminanceAdjustmentYellow | 0 |
LuminanceSmoothing | 0 |
Make | NIKON CORPORATION |
MakerNoteVersion | 2.10 |
MaxApertureValue | 1.4 |
Megapixels | 1.1 |
MeteringMode | Multi-segment |
Model | NIKON D700 |
ModifyDate (1) | 2010:12:13 22:25:24+01:00 |
ModifyDate | 2010:12:17 21:31:32 |
NEFBitDepth | n/a (JPEG) |
NikonCaptureVersion | Capture NX 1.3.5 W |
ObjectName | |
Orientation | Horizontal (normal) |
OriginalTransmissionReference | |
OriginatingProgram | |
ParametricDarks | 0 |
ParametricHighlights | 0 |
ParametricHighlightSplit | 75 |
ParametricLights | 0 |
ParametricMidtoneSplit | 50 |
ParametricShadows | 0 |
ParametricShadowSplit | 25 |
PostCropVignetteAmount | 0 |
PreviewIFD_Offset | 1020 |
ProductID | |
ProfileDescription | sRGB IEC61966-2.1 |
ProgramVersion | |
Province-State | |
RedHue | 0 |
RedSaturation | 0 |
ReleaseDate | |
ReleaseTime | |
Rights | Kyrre Vigestad |
Saturation (2) | +10 |
Saturation | Normal |
SaturationAdjustmentAqua | 0 |
SaturationAdjustmentBlue | 0 |
SaturationAdjustmentGreen | +21 |
SaturationAdjustmentMagenta | 0 |
SaturationAdjustmentOrange | 0 |
SaturationAdjustmentPurple | 0 |
SaturationAdjustmentRed | +21 |
SaturationAdjustmentYellow | 0 |
ScaleFactor35efl | 1.0 |
SceneCaptureType | Standard |
SceneType | Directly photographed |
SensingMethod | One-chip color area |
SerialNumber | 2170991 |
ServiceIdentifier | |
Shadows | 6 |
ShadowTint | 0 |
SharpenDetail | 25 |
SharpenEdgeMasking | 0 |
SharpenRadius | +1.0 |
Sharpness (2) | 25 |
Sharpness | Normal |
ShutterSpeed | 1/50 |
ShutterSpeedValue (1) | 1/50 |
ShutterSpeedValue | 0.7 |
Software | Capture NX 1.3.5 W |
Source | |
SpecialInstructions | |
SplitToningBalance | 0 |
SplitToningHighlightHue | 0 |
SplitToningHighlightSaturation | 0 |
SplitToningShadowHue | 0 |
SplitToningShadowSaturation | 0 |
SubjectDistance | 3.55 m |
SubjectDistanceRange | Unknown |
TimeSent | |
Tint | 0 |
ToneCurve | 0, 0, 32, 22, 64, 56, 128, 128, 192, 196, 255, 255 |
ToneCurveName | Medium Contrast |
Version | 5.7 |
Vibrance | +24 |
VignetteAmount | 0 |
WhiteBalance (2) | Custom |
WhiteBalance | Auto |
Writer-Editor | |