Felt | Verdi |
AlreadyApplied | True |
Aperture | 5.3 |
ApertureValue | 5.3 |
BitsPerSample | 8 |
BlueHue | 0 |
BlueSaturation | 0 |
Brightness | +57 |
By-line | |
By-lineTitle | |
CameraProfile | Adobe Standard |
Caption-Abstract | |
Category | |
CFAPattern | [Red,Green][Green,Blue] |
ChromaticAberrationB | 0 |
ChromaticAberrationR | 0 |
CircleOfConfusion | 0.030 mm |
City | |
Clarity | -10 |
ColorComponents | 3 |
ColorNoiseReduction | 0 |
ColorSpace | Uncalibrated |
ColorTemperature | 4976 |
Contrast (2) | +30 |
Contrast | Normal |
ConvertToGrayscale | False |
Copyright | Kyrre Vigestad |
CopyrightNotice | Kyrre Vigestad |
Country-PrimaryLocationCode | |
Country-PrimaryLocationName | |
CreateDate (1) | 2010:07:13 14:44:20.84+02:00 |
CreateDate | 2010:07:13 14:44:20 |
CreatorTool | Adobe Photoshop Lightroom |
Credit | |
CropAngle | 0 |
CropBottom | 0.94843 |
CropHeight | 2481 |
CropLeft | 0.027033 |
CropRight | 0.903011 |
CropTop | 0.072452 |
CropUnit | pixels |
CropWidth | 3728 |
CustomRendered | Normal |
DateCreated | |
DateSent | |
DateTimeDigitized | 2010:07:13 14:44:20.84+02:00 |
DateTimeOriginal (1) | 2010:07:13 14:44:20.84+02:00 |
DateTimeOriginal | 2010:07:13 14:44:20 |
Defringe | 0 |
Destination | |
DigitalZoomRatio | 1 |
DOF | 2.69 m (4.90 - 7.60 m) |
ExifImageHeight (1) | 3728 |
ExifImageHeight | 1280 |
ExifImageWidth (1) | 2481 |
ExifImageWidth | 851 |
ExpirationDate | |
ExpirationTime | |
Exposure | +0.29 |
ExposureCompensation | 0 |
ExposureMode | Manual |
ExposureProgram | Manual |
ExposureTime | 1/60 |
FileFormat | No ObjectData |
FileVersion | 0 |
FillLight | 0 |
Flash | No Flash |
FlashFired | False |
FlashFunction | False |
FlashMode | Unknown |
FlashRedEyeMode | False |
FlashReturn | No return detection |
FNumber | 5.3 |
FocalLength | 66.0 mm |
FocalLength35efl | 66.0 mm (35 mm equivalent: 66.0 mm) |
FocalLengthIn35mmFormat | 66 mm |
FOV | 30.5 deg |
GainControl | High gain up |
GreenHue | 0 |
GreenSaturation | 0 |
HasCrop | True |
HasSettings | True |
Headline | |
HighlightRecovery | 8 |
HueAdjustmentAqua | -7 |
HueAdjustmentBlue | 0 |
HueAdjustmentGreen | +5 |
HueAdjustmentMagenta | -2 |
HueAdjustmentOrange | +5 |
HueAdjustmentPurple | 0 |
HueAdjustmentRed | 0 |
HueAdjustmentYellow | 0 |
HyperfocalDistance | 27.35 m |
IFD0_Offset | 1120 |
ImageDataSize | 1358423 |
ImageHeight (1) | 3728 |
ImageHeight | 1280 |
ImageNumber | 5199 |
ImageSize | 851x1280 |
ImageWidth (1) | 2481 |
ImageWidth | 851 |
ISO | 1600 |
LanguageIdentifier | |
Lens | 24.0-120.0 mm f/3.5-5.6 |
LensID (1) | 120 |
LensID | AF-S VR Zoom-Nikkor 24-120mm f/3.5-5.6G IF-ED |
LensInfo | 24-120mm f/3.5-5.6 |
LightSource | Unknown |
LightValue | 6.7 |
LuminanceAdjustmentAqua | 0 |
LuminanceAdjustmentBlue | 0 |
LuminanceAdjustmentGreen | 0 |
LuminanceAdjustmentMagenta | 0 |
LuminanceAdjustmentOrange | 0 |
LuminanceAdjustmentPurple | 0 |
LuminanceAdjustmentRed | 0 |
LuminanceAdjustmentYellow | 0 |
LuminanceSmoothing | 0 |
Make | NIKON CORPORATION |
MakerNoteVersion | 2.10 |
MaxApertureValue | 5.3 |
Megapixels | 1.1 |
MeteringMode | Multi-segment |
Model | NIKON D700 |
ModifyDate (1) | 2010:12:13 21:33:25+01:00 |
ModifyDate | 2010:12:17 21:30:37 |
NEFBitDepth | n/a (JPEG) |
NikonCaptureVersion | Capture NX 1.3.5 W |
ObjectName | |
Orientation | Horizontal (normal) |
OriginalTransmissionReference | |
OriginatingProgram | |
ParametricDarks | 0 |
ParametricHighlights | 0 |
ParametricHighlightSplit | 75 |
ParametricLights | 0 |
ParametricMidtoneSplit | 50 |
ParametricShadows | 0 |
ParametricShadowSplit | 25 |
PostCropVignetteAmount | 0 |
PreviewIFD_Offset | 1020 |
ProductID | |
ProfileDescription | sRGB IEC61966-2.1 |
ProgramVersion | |
Province-State | |
RedHue | 0 |
RedSaturation | 0 |
ReleaseDate | |
ReleaseTime | |
Rights | Kyrre Vigestad |
Saturation (2) | +24 |
Saturation | Normal |
SaturationAdjustmentAqua | 0 |
SaturationAdjustmentBlue | 0 |
SaturationAdjustmentGreen | 0 |
SaturationAdjustmentMagenta | 0 |
SaturationAdjustmentOrange | 0 |
SaturationAdjustmentPurple | 0 |
SaturationAdjustmentRed | 0 |
SaturationAdjustmentYellow | 0 |
ScaleFactor35efl | 1.0 |
SceneCaptureType | Standard |
SceneType | Directly photographed |
SensingMethod | One-chip color area |
SerialNumber | 2170991 |
ServiceIdentifier | |
Shadows | 8 |
ShadowTint | 0 |
SharpenDetail | 32 |
SharpenEdgeMasking | 0 |
SharpenRadius | +1.1 |
Sharpness (2) | 50 |
Sharpness | Normal |
ShutterSpeed | 1/60 |
ShutterSpeedValue (1) | 1/60 |
ShutterSpeedValue | 0.7 |
Software | Capture NX 1.3.5 W |
Source | |
SpecialInstructions | |
SplitToningBalance | 0 |
SplitToningHighlightHue | 94 |
SplitToningHighlightSaturation | 0 |
SplitToningShadowHue | 111 |
SplitToningShadowSaturation | 12 |
SubjectDistance | 5.96 m |
SubjectDistanceRange | Unknown |
TimeSent | |
Tint | -7 |
ToneCurve | 0, 0, 32, 22, 64, 56, 128, 128, 192, 196, 255, 255 |
ToneCurveName | Medium Contrast |
Version | 5.7 |
Vibrance | -31 |
VignetteAmount | 0 |
WhiteBalance (2) | Custom |
WhiteBalance | Auto |
Writer-Editor | |