Felt | Verdi |
AlreadyApplied | True |
Artist | PHOTOGRAPHER NANDOR TAMAS -DIGG.NO |
BitsPerSample | 8 |
BlueHue | 0 |
BlueSaturation | 0 |
Brightness | +56 |
By-line | PHOTOGRAPHER NANDOR TAMAS -DIGG. |
CameraProfile | Adobe Standard |
ChromaticAberrationB | 0 |
ChromaticAberrationR | 0 |
Clarity | 0 |
ColorComponents | 1 |
ColorMode | Grayscale |
ColorNoiseReduction | 25 |
ColorNoiseReductionDetail | 50 |
ColorTemperature | 4000 |
Contrast | +100 |
ConvertToGrayscale | True |
Copyright | NANDOR TAMAS - FOTO@DIGG.NO - TLF:+47 901 84 092 |
CopyrightNotice | NANDOR TAMAS - FOTO@DIGG.NO - TLF:+47 901 84 092 |
CreateDate | 2010:10:31 20:24:04.67+01:00 |
Creator | PHOTOGRAPHER NANDOR TAMAS -DIGG.NO |
CreatorTool | Ver.2.01 |
DateCreated (1) | 2010:10:31 |
DateCreated | 2010:10:31 20:24:04Z |
DateTimeOriginal | 2010:10:31 20:24:04+00:00 |
Defringe | 0 |
ExifImageHeight | 4058 |
ExifImageWidth | 2842 |
Exposure | 0.00 |
FillLight | 57 |
Format | application/vnd.adobe.photoshop |
GrainAmount | 0 |
GrayMixerAqua | -100 |
GrayMixerBlue | -100 |
GrayMixerGreen | -100 |
GrayMixerMagenta | +100 |
GrayMixerOrange | +100 |
GrayMixerPurple | +5 |
GrayMixerRed | +100 |
GrayMixerYellow | +100 |
GreenHue | 0 |
GreenSaturation | 0 |
HasCrop | False |
HasSettings | True |
HighlightRecovery | 0 |
ICCProfileName | Gray Gamma 2.2 |
ImageHeight | 4058 |
ImageNumber | 51437 |
ImageSize | 2842x4058 |
ImageWidth | 2842 |
Lens | 24.0-120.0 mm f/3.5-5.6 |
LensID | 120 |
LensInfo | 24-120mm f/3.5-5.6 |
LuminanceSmoothing | 0 |
Megapixels | 11.5 |
ModifyDate (1) | 2010:12:21 22:43:43.0+1:00 |
ModifyDate | 2010:12:21 22:45:19 |
Orientation | Horizontal (normal) |
ParametricDarks | 0 |
ParametricHighlights | 0 |
ParametricHighlightSplit | 75 |
ParametricLights | 0 |
ParametricMidtoneSplit | 50 |
ParametricShadows | 0 |
ParametricShadowSplit | 25 |
PostCropVignetteAmount | 0 |
ProcessVersion | 5.7 |
ProfileDescription | Gray Gamma 2.2 |
Rating | 0 |
RawFileName | _NLT9302.NEF |
RedHue | 0 |
RedSaturation | 0 |
Rights | NANDOR TAMAS - FOTO@DIGG.NO - TLF:+47 901 84 092 |
SerialNumber | 2044742 |
Shadows | 0 |
ShadowTint | 0 |
SharpenDetail | 25 |
SharpenEdgeMasking | 0 |
SharpenRadius | +1.0 |
Sharpness | 25 |
SidecarForExtension | NEF |
SplitToningBalance | 0 |
SplitToningHighlightHue | 0 |
SplitToningHighlightSaturation | 0 |
SplitToningShadowHue | 0 |
SplitToningShadowSaturation | 0 |
Tint | -17 |
ToneCurve | 0, 0, 32, 22, 64, 56, 128, 128, 192, 196, 255, 255 |
ToneCurveName | Medium Contrast |
Version | 6.0 |
VignetteAmount | 0 |
WhiteBalance | Custom |