Felt | Verdi |
AlreadyApplied | True |
Aperture | 7.1 |
ApertureValue | 7.1 |
ApproximateFocusDistance | 4294967295 |
Artist | Vegard Tokle |
BitsPerSample | 8 |
BlueHue | 0 |
BlueSaturation | 0 |
Brightness | +36 |
By-line | Vegard Tokle |
CameraProfile | Adobe Standard |
ChromaticAberrationB | 0 |
ChromaticAberrationR | 0 |
CircleOfConfusion | 0.019 mm |
Clarity | +100 |
ColorComponents | 3 |
ColorNoiseReduction | 25 |
ColorNoiseReductionDetail | 50 |
ColorTemperature | 4600 |
Contrast | +69 |
ConvertToGrayscale | False |
CreateDate (1) | 2010:12:25 15:17:46.03+01:00 |
CreateDate | 2010:12:25 15:17:46 |
Creator | Vegard Tokle |
CreatorTool | Adobe Photoshop Lightroom 3.3 |
CropAngle | 0.153594 |
CropBottom | 1 |
CropConstrainToWarp | 0 |
CropHeight | 2837 |
CropLeft | 0.002892 |
CropRight | 0.997108 |
CropTop | 0 |
CropUnit | pixels |
CropWidth | 4255 |
CustomRendered | Normal |
DateTimeDigitized | 2010:12:25 15:17:46.03+01:00 |
DateTimeOriginal (1) | 2010:12:25 15:17:46.03+01:00 |
DateTimeOriginal | 2010:12:25 15:17:46 |
Defringe | 0 |
DOF | inf (27.26 m - inf) |
ExifImageHeight | 2837 |
ExifImageWidth | 4255 |
Exposure | -0.60 |
ExposureCompensation | +1/3 |
ExposureMode | Auto |
ExposureProgram | Aperture-priority AE |
ExposureTime | 1/1250 |
FillLight | 9 |
Firmware | 1.0.9 |
Flash | Off, Did not fire |
FlashCompensation | 0 |
FlashFired | False |
FlashFunction | False |
FlashMode | Off |
FlashRedEyeMode | False |
FlashReturn | No return detection |
FNumber | 7.1 |
FocalLength | 60.0 mm |
FocalLength35efl | 60.0 mm (35 mm equivalent: 96.9 mm) |
FOV | 21.0 deg |
GrainAmount | 0 |
GreenHue | 0 |
GreenSaturation | 0 |
HasCrop | True |
HasSettings | True |
HighlightRecovery | 23 |
HueAdjustmentAqua | 0 |
HueAdjustmentBlue | 0 |
HueAdjustmentGreen | 0 |
HueAdjustmentMagenta | 0 |
HueAdjustmentOrange | 0 |
HueAdjustmentPurple | 0 |
HueAdjustmentRed | 0 |
HueAdjustmentYellow | 0 |
HyperfocalDistance | 27.26 m |
ImageHeight | 2837 |
ImageNumber | 0 |
ImageSize | 4255x2837 |
ImageWidth | 4255 |
ISO | 200 |
Lens | EF-S55-250mm f/4-5.6 IS |
LensID (1) | 49 |
LensID | Canon EF-S 55-250mm f/4-5.6 IS |
LensInfo | 55-250mm f/? |
LensManualDistortionAmount | 0 |
LensModel | EF-S55-250mm f/4-5.6 IS |
LensProfileEnable | 0 |
LensProfileSetup | LensDefaults |
LightValue | 14.9 |
LuminanceAdjustmentAqua | 0 |
LuminanceAdjustmentBlue | 0 |
LuminanceAdjustmentGreen | 0 |
LuminanceAdjustmentMagenta | 0 |
LuminanceAdjustmentOrange | 0 |
LuminanceAdjustmentPurple | 0 |
LuminanceAdjustmentRed | 0 |
LuminanceAdjustmentYellow | 0 |
LuminanceSmoothing | 0 |
Make | Canon |
MaxApertureValue | 4.0 |
Megapixels | 12.1 |
MeteringMode | Multi-segment |
Model | Canon EOS 450D |
ModifyDate (1) | 2010:12:25 17:32:38+01:00 |
ModifyDate | 2010:12:25 17:32:38 |
OwnerName | Vegard Tokle |
ParametricDarks | 0 |
ParametricHighlights | 0 |
ParametricHighlightSplit | 75 |
ParametricLights | 0 |
ParametricMidtoneSplit | 50 |
ParametricShadows | 0 |
ParametricShadowSplit | 25 |
PerspectiveHorizontal | 0 |
PerspectiveRotate | 0.0 |
PerspectiveScale | 100 |
PerspectiveVertical | 0 |
PostCropVignetteAmount | 0 |
ProcessVersion | 5.7 |
ProfileDescription | sRGB IEC61966-2.1 |
RedHue | 0 |
RedSaturation | 0 |
Saturation | +15 |
SaturationAdjustmentAqua | 0 |
SaturationAdjustmentBlue | 0 |
SaturationAdjustmentGreen | 0 |
SaturationAdjustmentMagenta | 0 |
SaturationAdjustmentOrange | 0 |
SaturationAdjustmentPurple | 0 |
SaturationAdjustmentRed | 0 |
SaturationAdjustmentYellow | 0 |
ScaleFactor35efl | 1.6 |
SceneCaptureType | Standard |
SensitivityType | Unknown |
SerialNumber | 1380316610 |
Shadows | 8 |
ShadowTint | 0 |
SharpenDetail | 25 |
SharpenEdgeMasking | 0 |
SharpenRadius | +1.0 |
Sharpness | 25 |
ShutterSpeed | 1/1250 |
ShutterSpeedValue | 1/1250 |
SplitToningBalance | 0 |
SplitToningHighlightHue | 0 |
SplitToningHighlightSaturation | 0 |
SplitToningShadowHue | 0 |
SplitToningShadowSaturation | 0 |
SubjectDistance | 4294967295 m |
Tint | +3 |
ToneCurve | 0, 0, 32, 22, 64, 56, 128, 128, 192, 196, 255, 255 |
ToneCurveName | Medium Contrast |
Version | 6.3 |
Vibrance | +6 |
VignetteAmount | 0 |
WhiteBalance (2) | As Shot |
WhiteBalance | Auto |