Felt | Verdi |
AlreadyApplied | True |
Aperture | 5.8 |
ApertureValue | 5.8 |
BitsPerSample | 8 |
BlueHue | -60 |
BlueSaturation | +3 |
Brightness | +92 |
CameraProfile | Embedded |
ChromaticAberrationB | 0 |
ChromaticAberrationR | 0 |
CircleOfConfusion | 0.005 mm |
Clarity | +100 |
ColorComponents | 3 |
ColorNoiseReduction | 25 |
ColorNoiseReductionDetail | 50 |
Contrast (2) | +33 |
Contrast | Normal |
ConvertToGrayscale | False |
CreateDate (1) | 2010:08:28 16:25:44+02:00 |
CreateDate | 2010:08:28 16:25:44 |
CreatorTool | Adobe Photoshop Lightroom |
Creatortool | Microsoft Windows Photo Gallery 6.0.6001.18000 |
CustomRendered | Normal |
DateTimeDigitized | 2010:08:28 16:25:44+02:00 |
DateTimeOriginal (1) | 2010:08:28 16:25:44+02:00 |
DateTimeOriginal | 2010:08:28 16:25:44 |
Defringe | 0 |
DigitalZoomRatio | 0 |
ExifImageHeight | 4000 |
ExifImageWidth | 3000 |
Exposure | +0.08 |
ExposureCompensation | -2 |
ExposureMode | Auto |
ExposureProgram | Program AE |
ExposureTime | 1/500 |
FillLight | 30 |
Flash | Off, Did not fire |
FlashFired | False |
FlashFunction | False |
FlashMode | Off |
FlashRedEyeMode | False |
FlashReturn | No return detection |
FNumber | 5.8 |
FocalLength | 7.9 mm |
FocalLength35efl | 7.9 mm (35 mm equivalent: 44.0 mm) |
FocalLengthIn35mmFormat | 44 mm |
FOV | 44.5 deg |
GainControl | None |
GrainAmount | 0 |
GreenHue | +100 |
GreenSaturation | +100 |
HasCrop | False |
HasSettings | True |
HighlightRecovery | 100 |
HueAdjustmentAqua | 0 |
HueAdjustmentBlue | 0 |
HueAdjustmentGreen | 0 |
HueAdjustmentMagenta | 0 |
HueAdjustmentOrange | 0 |
HueAdjustmentPurple | 0 |
HueAdjustmentRed | 0 |
HueAdjustmentYellow | 0 |
HyperfocalDistance | 1.99 m |
ImageHeight | 4000 |
ImageSize | 3000x4000 |
ImageWidth | 3000 |
IncrementalTemperature | -38 |
IncrementalTint | -47 |
ISO | 80 |
LensManualDistortionAmount | 0 |
LensProfileChromaticAberrationScale | 103 |
LensProfileDistortionScale | 99 |
LensProfileEnable | 1 |
LensProfileFilename | Canon EOS-1Ds Mark III (Sigma DG 15mm f2.8 EX).lcp |
LensProfileName | Adobe (Sigma DG 15mm f/2.8 EX) |
LensProfileSetup | Custom |
LensProfileVignettingScale | 99 |
LightSource | Unknown |
LightValue | 14.4 |
LuminanceAdjustmentAqua | 0 |
LuminanceAdjustmentBlue | 0 |
LuminanceAdjustmentGreen | 0 |
LuminanceAdjustmentMagenta | 0 |
LuminanceAdjustmentOrange | 0 |
LuminanceAdjustmentPurple | 0 |
LuminanceAdjustmentRed | 0 |
LuminanceAdjustmentYellow | 0 |
LuminanceSmoothing | 0 |
Make | NIKON |
MaxApertureValue | 3.1 |
Megapixels | 12.0 |
MeteringMode | Multi-segment |
Model | COOLPIX L22 |
ModifyDate (1) | 2010:08:28 23:47:09+02:00 |
ModifyDate | 2010:08:28 23:47:09 |
ParametricDarks | -3 |
ParametricHighlights | 0 |
ParametricHighlightSplit | 75 |
ParametricLights | -6 |
ParametricMidtoneSplit | 50 |
ParametricShadows | -14 |
ParametricShadowSplit | 25 |
PerspectiveHorizontal | 0 |
PerspectiveRotate | 0.0 |
PerspectiveScale | 100 |
PerspectiveVertical | 0 |
PostCropVignetteAmount | -6 |
PostCropVignetteFeather | 74 |
PostCropVignetteHighlightContrast | 0 |
PostCropVignetteMidpoint | 80 |
PostCropVignetteRoundness | +17 |
PostCropVignetteStyle | 1 |
ProcessVersion | 5.7 |
ProfileDescription | sRGB IEC61966-2.1 |
RedHue | +100 |
RedSaturation | -98 |
Saturation (2) | -86 |
Saturation | High |
SaturationAdjustmentAqua | 0 |
SaturationAdjustmentBlue | +83 |
SaturationAdjustmentGreen | 0 |
SaturationAdjustmentMagenta | 0 |
SaturationAdjustmentOrange | 0 |
SaturationAdjustmentPurple | +42 |
SaturationAdjustmentRed | 0 |
SaturationAdjustmentYellow | 0 |
ScaleFactor35efl | 5.6 |
SceneCaptureType | Standard |
SceneType | Directly photographed |
Shadows | 14 |
ShadowTint | +6 |
SharpenDetail | 50 |
SharpenEdgeMasking | 0 |
SharpenRadius | +1.0 |
Sharpness (2) | 25 |
Sharpness | Normal |
ShutterSpeed | 1/500 |
ShutterSpeedValue | 1/500 |
Software | Microsoft Windows Photo Gallery 6.0.6001.18000 |
SplitToningBalance | 0 |
SplitToningHighlightHue | 0 |
SplitToningHighlightSaturation | 0 |
SplitToningShadowHue | 0 |
SplitToningShadowSaturation | 0 |
SubjectDistanceRange | Unknown |
ToneCurve | 0, 0, 255, 255 |
ToneCurveName | Linear |
Version | 6.1 |
Vibrance | +22 |
VignetteAmount | 0 |
WhiteBalance (2) | Custom |
WhiteBalance | Auto |