Felt | Verdi |
AlreadyApplied | True |
Aperture | 4.5 |
ApertureValue | 4.5 |
ApproximateFocusDistance | 25.3 |
BitsPerSample | 8 |
BlueHue | 0 |
BlueSaturation | 0 |
Brightness | +50 |
CameraProfile | Adobe Standard |
ChromaticAberrationB | 0 |
ChromaticAberrationR | 0 |
CircleOfConfusion | 0.031 mm |
Clarity | +61 |
ColorComponents | 1 |
ColorMode | RGB |
ColorNoiseReduction | 25 |
ColorNoiseReductionDetail | 50 |
ColorSpace | sRGB |
ColorTemperature | 6400 |
Contrast | +25 |
ConvertToGrayscale | True |
CopyrightFlag | False |
CreateDate (1) | 2011:01:19 12:51:53+01:00 |
CreateDate | 2011:01:15 16:39:56 |
CreatorTool | Adobe Photoshop Elements 6.0 Windows |
CropAngle | 0.63657 |
CropBottom | 0.864363 |
CropConstrainToWarp | 0 |
CropHeight | 2972 |
CropLeft | 0.167306 |
CropRight | 0.98886 |
CropTop | 0.056766 |
CropUnit | pixels |
CropWidth | 4647 |
CustomRendered | Normal |
DateTimeDigitized | 2011:01:15 16:39:56.16+01:00 |
DateTimeOriginal (1) | 2011:01:15 16:39:56.16+01:00 |
DateTimeOriginal | 2011:01:15 16:39:56 |
Defringe | 0 |
DOF | 11.48 m (20.80 - 32.28 m) |
ExifImageHeight | 1015 |
ExifImageWidth | 677 |
Exposure | 0.00 |
ExposureCompensation | 0 |
ExposureMode | Auto |
ExposureProgram | Aperture-priority AE |
ExposureTime | 1/15 |
FillLight | 0 |
Firmware | 1.0.6 |
Flash | Off, Did not fire |
FlashCompensation | 0 |
FlashFired | False |
FlashFunction | False |
FlashMode | Off |
FlashRedEyeMode | False |
FlashReturn | No return detection |
FNumber | 4.5 |
FocalLength | 127.0 mm |
FocalLength35efl | 127.0 mm (35 mm equivalent: 123.9 mm) |
Format | image/jpeg |
FOV | 16.5 deg |
GrainAmount | 0 |
GrayMixerAqua | -12 |
GrayMixerBlue | +27 |
GrayMixerGreen | -31 |
GrayMixerMagenta | +7 |
GrayMixerOrange | -25 |
GrayMixerPurple | +28 |
GrayMixerRed | -14 |
GrayMixerYellow | -29 |
GreenHue | 0 |
GreenSaturation | 0 |
HasCrop | True |
HasSettings | True |
HighlightRecovery | 0 |
HyperfocalDistance | 116.42 m |
ICCProfileName | sRGB IEC61966-2.1 |
ImageHeight (1) | 4647 |
ImageHeight | 1015 |
ImageNumber | 0 |
ImageSize | 677x1015 |
ImageWidth (1) | 2972 |
ImageWidth | 677 |
ISO | 1000 |
Lens | EF70-200mm f/4L IS USM |
LensID (1) | 242 |
LensID | Canon EF 70-200mm f/4L IS USM |
LensInfo | 70-200mm f/? |
LensManualDistortionAmount | 0 |
LensModel | EF70-200mm f/4L IS USM |
LensProfileEnable | 0 |
LensProfileSetup | LensDefaults |
LightValue | 4.9 |
LuminanceNoiseReductionContrast | 0 |
LuminanceNoiseReductionDetail | 50 |
LuminanceSmoothing | 61 |
Make | Canon |
MaxApertureValue | 4.0 |
Megapixels | 0.687 |
MeteringMode | Center-weighted average |
Model | Canon EOS 5D Mark II |
ModifyDate (1) | 2011:01:19 12:51:53+01:00 |
ModifyDate | 2011:01:19 12:51:53 |
Orientation | Horizontal (normal) |
ParametricDarks | +16 |
ParametricHighlights | 0 |
ParametricHighlightSplit | 75 |
ParametricLights | +7 |
ParametricMidtoneSplit | 50 |
ParametricShadows | 0 |
ParametricShadowSplit | 25 |
PerspectiveHorizontal | 0 |
PerspectiveRotate | 0.0 |
PerspectiveScale | 100 |
PerspectiveVertical | 0 |
PostCropVignetteAmount | 0 |
ProcessVersion | 5.7 |
ProfileDescription | sRGB IEC61966-2.1 |
RedHue | 0 |
RedSaturation | 0 |
ScaleFactor35efl | 1.0 |
SceneCaptureType | Standard |
SensitivityType | Unknown |
SerialNumber | 130101597 |
Shadows | 28 |
ShadowTint | 0 |
SharpenDetail | 25 |
SharpenEdgeMasking | 0 |
SharpenRadius | +1.4 |
Sharpness | 55 |
ShutterSpeed | 1/15 |
ShutterSpeedValue | 1/15 |
Software | Adobe Photoshop Elements 6.0 Windows |
SplitToningBalance | 0 |
SplitToningHighlightHue | 0 |
SplitToningHighlightSaturation | 0 |
SplitToningShadowHue | 0 |
SplitToningShadowSaturation | 0 |
SubjectDistance | 25.3 m |
Tint | -2 |
ToneCurve | 0, 0, 32, 22, 64, 56, 128, 128, 192, 196, 255, 255 |
ToneCurveName | Medium Contrast |
URL_List | |
Version | 6.2 |
VignetteAmount | 0 |
WhiteBalance (2) | As Shot |
WhiteBalance | Auto |