Felt | Verdi |
AlreadyApplied | True |
Aperture | 8.0 |
ApertureValue | 8.0 |
BitsPerSample | 8 |
BlueHue | 0 |
BlueSaturation | 0 |
Brightness | +50 |
CameraProfile | ACR 4.4 |
ChromaticAberrationB | 0 |
ChromaticAberrationR | 0 |
CircleOfConfusion | 0.030 mm |
Clarity | 0 |
ColorComponents | 3 |
ColorNoiseReduction | 25 |
ColorTemperature | 5700 |
Contrast | +25 |
ConvertToGrayscale | False |
CreateDate (1) | 2010:09:18 17:44:58+02:00 |
CreateDate | 2010:09:18 17:44:58 |
CreatorTool | Adobe Photoshop Lightroom |
CropAngle | -0.124514 |
CropBottom | 0.975209 |
CropHeight | 849 |
CropLeft | 0.105518 |
CropRight | 0.893902 |
CropTop | 0.07607 |
CropUnit | pixels |
CropWidth | 1111 |
CustomRendered | Normal |
DateTimeDigitized | 2010:09:18 17:44:58+02:00 |
DateTimeOriginal (1) | 2010:09:18 17:44:58+02:00 |
DateTimeOriginal | 2010:09:18 17:44:58 |
Defringe | 0 |
ExifImageHeight | 849 |
ExifImageWidth | 1111 |
Exposure | 0.00 |
ExposureCompensation | +1/3 |
ExposureMode | Auto |
ExposureProgram | Aperture-priority AE |
ExposureTime | 1/125 |
FillLight | 26 |
Firmware | 1.1.0 |
Flash | Off, Did not fire |
FlashCompensation | 0 |
FlashFired | False |
FlashFunction | False |
FlashMode | Off |
FlashRedEyeMode | False |
FlashReturn | No return detection |
FNumber | 8.0 |
FocalLength | 24.0 mm |
FocalLength35efl | 24.0 mm (35 mm equivalent: 24.0 mm) |
FOV | 73.6 deg |
GradientBasedCorrActive | true |
GradientBasedCorrAmount | 1.000000 |
GradientBasedCorrBrightness (1) | 0.247059 |
GradientBasedCorrBrightness (2) | -0.388235 |
GradientBasedCorrBrightness (3) | -0.741176 |
GradientBasedCorrBrightness | -0.764706 |
GradientBasedCorrClarity | -0.011765 |
GradientBasedCorrContrast | 0.000000 |
GradientBasedCorrExposure | 0.011765 |
GradientBasedCorrHue | 7.000000 |
GradientBasedCorrMaskFullX (1) | 0.533058 |
GradientBasedCorrMaskFullX (2) | 0.143720 |
GradientBasedCorrMaskFullX (3) | 0.887728 |
GradientBasedCorrMaskFullX | 0.100709 |
GradientBasedCorrMaskFullY (1) | 0.046391 |
GradientBasedCorrMaskFullY (2) | 0.993480 |
GradientBasedCorrMaskFullY (3) | 0.928365 |
GradientBasedCorrMaskFullY | 0.069501 |
GradientBasedCorrMaskValue | 1.000000 |
GradientBasedCorrMaskWhat | Mask/Gradient |
GradientBasedCorrMaskZeroX (1) | 0.486934 |
GradientBasedCorrMaskZeroX (2) | 0.361251 |
GradientBasedCorrMaskZeroX (3) | 0.507881 |
GradientBasedCorrMaskZeroX | 0.276795 |
GradientBasedCorrMaskZeroY (1) | 0.524729 |
GradientBasedCorrMaskZeroY (2) | 0.026927 |
GradientBasedCorrMaskZeroY (3) | -0.193456 |
GradientBasedCorrMaskZeroY | 0.898697 |
GradientBasedCorrSaturation (1) | -0.788235 |
GradientBasedCorrSaturation (5) | -0.035294 |
GradientBasedCorrSaturation | 0.000000 |
GradientBasedCorrSharpness | 0.000000 |
GradientBasedCorrWhat | Correction |
GreenHue | 0 |
GreenSaturation | 0 |
HasCrop | True |
HasSettings | True |
HighlightRecovery | 14 |
HueAdjustmentAqua | 0 |
HueAdjustmentBlue | 0 |
HueAdjustmentGreen | -38 |
HueAdjustmentMagenta | 0 |
HueAdjustmentOrange | 0 |
HueAdjustmentPurple | 0 |
HueAdjustmentRed | 0 |
HueAdjustmentYellow | 0 |
HyperfocalDistance | 2.40 m |
ImageHeight | 849 |
ImageNumber | 6 |
ImageSize | 1111x849 |
ImageWidth | 1111 |
ISO | 320 |
Lens | EF24-105mm f/4L IS USM |
LensInfo | 24-105mm f/? |
LightValue | 11.3 |
LuminanceAdjustmentAqua | 0 |
LuminanceAdjustmentBlue | 0 |
LuminanceAdjustmentGreen | 0 |
LuminanceAdjustmentMagenta | 0 |
LuminanceAdjustmentOrange | 0 |
LuminanceAdjustmentPurple | 0 |
LuminanceAdjustmentRed | 0 |
LuminanceAdjustmentYellow | 0 |
LuminanceSmoothing | 0 |
Make | Canon |
MaxApertureValue | 4.0 |
Megapixels | 0.943 |
MeteringMode | Multi-segment |
Model | Canon EOS 5D |
ModifyDate (1) | 2011:01:24 04:05:41+01:00 |
ModifyDate | 2011:01:24 04:05:41 |
PaintCorrectionActive | true |
PaintCorrectionAmount | 1.000000 |
PaintCorrectionBrightness (1) | 0.341177 |
PaintCorrectionBrightness (2) | 0.200000 |
PaintCorrectionBrightness | -0.294118 |
PaintCorrectionClarity | -0.011765 |
PaintCorrectionContrast | 0.000000 |
PaintCorrectionExposure | 0.011765 |
PaintCorrectionHue | 7.000000 |
PaintCorrectionMaskCenterWeight | 0.123503 |
PaintCorrectionMaskFlow | 0.557412 |
PaintCorrectionMaskRadius (1) | 0.135806 |
PaintCorrectionMaskRadius (3) | 0.027027 |
PaintCorrectionMaskRadius (4) | 0.017847 |
PaintCorrectionMaskRadius | 0.014515 |
PaintCorrectionMaskValue | 1.000000 |
PaintCorrectionMaskWhat | Mask/Paint |
PaintCorrectionSaturation (5) | -0.035294 |
PaintCorrectionSaturation | 0.000000 |
PaintCorrectionSharpness | 0.000000 |
PaintCorrectionWhat | Correction |
ParametricDarks | 0 |
ParametricHighlights | 0 |
ParametricHighlightSplit | 75 |
ParametricLights | 0 |
ParametricMidtoneSplit | 50 |
ParametricShadows | 0 |
ParametricShadowSplit | 25 |
PostCropVignetteAmount | 0 |
ProfileDescription | Adobe RGB (1998) |
RedHue | 0 |
RedSaturation | 0 |
Saturation | +34 |
SaturationAdjustmentAqua | 0 |
SaturationAdjustmentBlue | 0 |
SaturationAdjustmentGreen | 0 |
SaturationAdjustmentMagenta | 0 |
SaturationAdjustmentOrange | 0 |
SaturationAdjustmentPurple | 0 |
SaturationAdjustmentRed | 0 |
SaturationAdjustmentYellow | 0 |
ScaleFactor35efl | 1.0 |
SceneCaptureType | Standard |
SerialNumber | 2721201972 |
Shadows | 34 |
ShadowTint | 0 |
SharpenDetail | 25 |
SharpenEdgeMasking | 0 |
SharpenRadius | +1.0 |
Sharpness | 25 |
ShutterSpeed | 1/125 |
ShutterSpeedValue | 1/125 |
SplitToningBalance | 0 |
SplitToningHighlightHue | 0 |
SplitToningHighlightSaturation | 0 |
SplitToningShadowHue | 0 |
SplitToningShadowSaturation | 0 |
Tint | +3 |
ToneCurve | 0, 0, 32, 22, 64, 56, 128, 128, 192, 196, 255, 255 |
ToneCurveName | Medium Contrast |
Version | 4.5 |
Vibrance | 0 |
VignetteAmount | 0 |
WhiteBalance (2) | As Shot |
WhiteBalance | Auto |