Felt | Verdi |
AlreadyApplied | True |
Aperture | 8.0 |
ApertureValue | 8.0 |
ApproximateFocusDistance | 2.99 |
Artist | Harald Dørum |
BitsPerSample (1) | 8 8 8 |
BitsPerSample | 8 |
BlueHue | 0 |
BlueSaturation | 0 |
Brightness | +50 |
By-line | Harald Dørum |
CameraProfile | Adobe Standard |
CFAPattern | [Red,Green][Green,Blue] |
ChromaticAberrationB | 0 |
ChromaticAberrationR | 0 |
CircleOfConfusion | 0.020 mm |
Clarity | 0 |
ColorComponents | 3 |
ColorMode | RGB |
ColorNoiseReduction | 25 |
ColorNoiseReductionDetail | 50 |
ColorSpace | Uncalibrated |
ColorTemperature | 5500 |
Contrast (1) | +25 |
Contrast | Normal |
ConvertToGrayscale | False |
Copyright | © Harald Dørum |
CopyrightFlag | True |
CopyrightNotice | © Harald Dørum |
CreateDate (1) | 2010:04:05 19:36:03.84+02:00 |
CreateDate | 2010:04:05 19:36:03 |
Creator | Harald Dørum |
CreatorCountry | Norway |
CreatorTool | Ver.1.00 |
CreatorWorkEmail | harald@hd-foto.no |
CreatorWorkTelephone | +4799702939 |
CreatorWorkURL | hd-foto.no |
CropAngle | 0 |
CropBottom | 0.998609 |
CropConstrainToWarp | 0 |
CropHeight | 2567 |
CropLeft | 0.262477 |
CropRight | 0.902957 |
CropTop | 0.097357 |
CropUnit | pixels |
CropWidth | 2746 |
CustomRendered | Normal |
DateCreated (1) | 2010:04:05 |
DateCreated | 2010:04:05 19:36:03.084 |
DateTimeOriginal | 2010:04:05 19:36:03 |
Defringe | 0 |
DigitalZoomRatio | 1 |
DOF | 0.34 m (2.83 - 3.17 m) |
ExifImageHeight | 1024 |
ExifImageWidth | 1095 |
Exposure | 0.00 |
ExposureCompensation | 0 |
ExposureMode | Manual |
ExposureProgram | Manual |
ExposureTime | 1/125 |
FillLight | 0 |
Flash | No Flash |
FNumber | 8.0 |
FocalLength | 90.0 mm |
FocalLength35efl | 90.0 mm (35 mm equivalent: 135.0 mm) |
FocalLengthIn35mmFormat | 135 mm |
Format | image/jpeg |
FOV | 15.2 deg |
GainControl | None |
GrainAmount | 0 |
GreenHue | 0 |
GreenSaturation | 0 |
HasCrop | True |
HasSettings | True |
HighlightRecovery | 0 |
HueAdjustmentAqua | 0 |
HueAdjustmentBlue | 0 |
HueAdjustmentGreen | 0 |
HueAdjustmentMagenta | 0 |
HueAdjustmentOrange | 0 |
HueAdjustmentPurple | 0 |
HueAdjustmentRed | 0 |
HueAdjustmentYellow | 0 |
HyperfocalDistance | 50.55 m |
ICCProfileName | Adobe RGB (1998) |
ImageHeight (1) | 2567 |
ImageHeight | 1024 |
ImageNumber | 3174 |
ImageSize | 1095x1024 |
ImageWidth (1) | 2746 |
ImageWidth | 1095 |
ISO | 200 |
Lens | 70.0-200.0 mm f/2.8 |
LensID (1) | 119 |
LensID | AF-S VR Zoom-Nikkor 70-200mm f/2.8G IF-ED |
LensInfo | 70-200mm f/2.8 |
LensManualDistortionAmount | 0 |
LensModel | 70.0-200.0 mm f/2.8 |
LensProfileEnable | 0 |
LensProfileSetup | LensDefaults |
LightSource | Cloudy |
LightValue | 12.0 |
LuminanceAdjustmentAqua | 0 |
LuminanceAdjustmentBlue | 0 |
LuminanceAdjustmentGreen | 0 |
LuminanceAdjustmentMagenta | 0 |
LuminanceAdjustmentOrange | 0 |
LuminanceAdjustmentPurple | 0 |
LuminanceAdjustmentRed | 0 |
LuminanceAdjustmentYellow | 0 |
LuminanceSmoothing | 0 |
Make | NIKON CORPORATION |
Marked | True |
MaxApertureValue | 2.8 |
Megapixels | 1.1 |
MeteringMode | Multi-segment |
Model | NIKON D300S |
ModifyDate (1) | 2011:01:28 02:00:26+01:00 |
ModifyDate | 2011:01:28 02:00:26 |
Orientation | Horizontal (normal) |
ParametricDarks | 0 |
ParametricHighlights | 0 |
ParametricHighlightSplit | 75 |
ParametricLights | 0 |
ParametricMidtoneSplit | 50 |
ParametricShadows | 0 |
ParametricShadowSplit | 25 |
PerspectiveHorizontal | 0 |
PerspectiveRotate | 0.0 |
PerspectiveScale | 100 |
PerspectiveVertical | 0 |
PhotometricInterpretation | RGB |
PostCropVignetteAmount | 0 |
ProcessVersion | 5.7 |
ProfileDescription | Adobe RGB (1998) |
RedHue | 0 |
RedSaturation | 0 |
Rights | © Harald Dørum |
Saturation (1) | 0 |
Saturation | Normal |
SaturationAdjustmentAqua | 0 |
SaturationAdjustmentBlue | 0 |
SaturationAdjustmentGreen | 0 |
SaturationAdjustmentMagenta | 0 |
SaturationAdjustmentOrange | 0 |
SaturationAdjustmentPurple | 0 |
SaturationAdjustmentRed | 0 |
SaturationAdjustmentYellow | 0 |
ScaleFactor35efl | 1.5 |
SceneCaptureType | Standard |
SceneType | Directly photographed |
SensingMethod | One-chip color area |
SensitivityType | Unknown |
SerialNumber | 6016718 |
Shadows | 9 |
ShadowTint | 0 |
SharpenDetail | 56 |
SharpenEdgeMasking | 36 |
SharpenRadius | +1.5 |
Sharpness (1) | 48 |
Sharpness | Normal |
ShutterSpeed | 1/125 |
ShutterSpeedValue | 1/125 |
Software | Adobe Photoshop CS5 Windows |
SplitToningBalance | 0 |
SplitToningHighlightHue | 0 |
SplitToningHighlightSaturation | 0 |
SplitToningShadowHue | 0 |
SplitToningShadowSaturation | 0 |
SubjectDistance | 2.99 m |
SubjectDistanceRange | Unknown |
Tint | -1 |
ToneCurve | 0, 0, 32, 22, 64, 56, 128, 128, 192, 196, 255, 255 |
ToneCurveName | Medium Contrast |
URL | hd-foto.no |
URL_List | |
UsageTerms | All rights reserved |
Version | 6.3 |
Vibrance | +17 |
VignetteAmount | 0 |
WebStatement | hd-foto.no |
WhiteBalance (1) | Custom |
WhiteBalance | Manual |