Felt | Verdi |
AlreadyApplied | True |
Artist | STINNI |
BitsPerSample | 8 |
BlueHue | 0 |
BlueSaturation | 0 |
Brightness | +78 |
By-line | STINNI |
CameraProfile | Adobe Standard |
ChromaticAberrationB | 0 |
ChromaticAberrationR | 0 |
CircleOfConfusion | 0.020 mm |
Clarity | 0 |
ColorComponents | 1 |
ColorNoiseReduction | 25 |
ColorNoiseReductionDetail | 50 |
ColorTemperature | 5001 |
Contrast (2) | +56 |
Contrast | Normal |
ConvertToGrayscale | True |
Copyright | STINNI |
CopyrightNotice | STINNI |
CreateDate (1) | 2011:02:12 13:08:57+01:00 |
CreateDate | 2011:02:12 13:08:57 |
Creator | STINNI |
CreatorTool | Adobe Photoshop Lightroom 3.3 |
CropAngle | -2.99013 |
CropBottom | 0.551394 |
CropConstrainToWarp | 0 |
CropHeight | 437 |
CropLeft | 0.156391 |
CropRight | 1 |
CropTop | 0.18917 |
CropUnit | pixels |
CropWidth | 1280 |
CustomRendered | Normal |
DateTimeDigitized | 2011:02:12 13:08:57+01:00 |
DateTimeOriginal (1) | 2011:02:12 13:08:57+01:00 |
DateTimeOriginal | 2011:02:12 13:08:57 |
Defringe | 0 |
ExifImageHeight | 437 |
ExifImageWidth | 1280 |
Exposure | -1.24 |
ExposureCompensation | 0 |
ExposureMode | Manual |
ExposureProgram | Manual |
ExposureTime | 1/320 |
FillLight | 0 |
Flash | Off, Did not fire |
FlashFired | False |
FlashFunction | False |
FlashMode | Off |
FlashRedEyeMode | False |
FlashReturn | No return detection |
FocalLength | 50.0 mm |
FocalLength35efl | 50.0 mm (35 mm equivalent: 75.0 mm) |
FocalLengthIn35mmFormat | 75 mm |
FOV | 27.0 deg |
GrainAmount | 0 |
GrayMixerAqua | -19 |
GrayMixerBlue | +7 |
GrayMixerGreen | -26 |
GrayMixerMagenta | +3 |
GrayMixerOrange | -18 |
GrayMixerPurple | +14 |
GrayMixerRed | -9 |
GrayMixerYellow | -22 |
GreenHue | 0 |
GreenSaturation | 0 |
HasCrop | True |
HasSettings | True |
HighlightRecovery | 25 |
ImageHeight | 437 |
ImageSize | 1280x437 |
ImageWidth | 1280 |
ISO | 800 |
Lens | K or M Lens |
LensID (1) | 1 0 |
LensID | K or M Lens |
LensManualDistortionAmount | 0 |
LensModel | K or M Lens |
LensProfileEnable | 0 |
LensProfileSetup | LensDefaults |
LuminanceSmoothing | 0 |
Make | PENTAX |
Megapixels | 0.559 |
MeteringMode | Center-weighted average |
Model | PENTAX K-5 |
ModifyDate (1) | 2011:02:13 17:07:02+01:00 |
ModifyDate | 2011:02:13 17:07:02 |
ParametricDarks | 0 |
ParametricHighlights | 0 |
ParametricHighlightSplit | 75 |
ParametricLights | -27 |
ParametricMidtoneSplit | 50 |
ParametricShadows | 0 |
ParametricShadowSplit | 25 |
PerspectiveHorizontal | 0 |
PerspectiveRotate | 0.0 |
PerspectiveScale | 100 |
PerspectiveVertical | 0 |
PostCropVignetteAmount | 0 |
ProcessVersion | 5.7 |
ProfileDescription | Adobe RGB (1998) |
RedHue | 0 |
RedSaturation | 0 |
Rights | STINNI |
Saturation | Normal |
ScaleFactor35efl | 1.5 |
SceneCaptureType | Standard |
SensingMethod | One-chip color area |
SensitivityType | Unknown |
Shadows | 32 |
ShadowTint | 0 |
SharpenDetail | 25 |
SharpenEdgeMasking | 0 |
SharpenRadius | +1.0 |
Sharpness (2) | 25 |
Sharpness | Normal |
ShutterSpeed | 1/320 |
ShutterSpeedValue | 1/320 |
Software | K-5 Ver 1.02 |
SplitToningBalance | 0 |
SplitToningHighlightHue | 0 |
SplitToningHighlightSaturation | 0 |
SplitToningShadowHue | 0 |
SplitToningShadowSaturation | 0 |
SubjectDistanceRange | Distant |
Tint | +10 |
ToneCurve | 0, 0, 32, 22, 64, 56, 128, 128, 132, 69, 192, 196, 255, 255 |
ToneCurveName | Custom |
Version | 6.3 |
VignetteAmount | 0 |
WhiteBalance (2) | Custom |
WhiteBalance | Auto |